Workbook
Name _1: #REF!
Name _1: #REF!

Sheet TONG HOP
A1: GIAO DỰ TOÁN CHI NGÂN SÁCH NHÀ NƯỚC NĂM 2026 SAU SÁP NHẬP (ĐỢT 2)
A2: (Kèm theo Quyết định số /QĐ-SGDĐT ngày tháng 10 năm 2026 của Sở Giáo dục và Đào tạo tỉnh Lâm Đồng)
AH3: Đơn vị tính: đồng
A4: STT | B4: Tên đơn vị | C4: Tổng cộng | D4: Kinh phí chi thường xuyên | L4: Kinh phí chi không thường xuyên | AG4: Mã số đơn vị sử dụng ngân sách | AH4: Địa điểm KBNN nơi đơn vị sử dụng NSNN giao dịch
D5: Cộng | E5: NSNN hỗ trợ chi thường xuyên cho đơn vị sự nghiệp công lập | F5: Kinh phí cho hợp đồng hỗ trợ phục vụ | G5: Chi hoạt động thường xuyên | H5: Dự toán giữ lại | I5: nội dung 5 | J5: nội dung 6 | K5: nội dung 7 | L5: Cộng | M5: Kinh phí hỗ trợ chi phí học tập theo Nghị định số 238/2025/NĐ-CP | N5: Kinh phí hỗ trợ học bổng theo Thông tư số 42/2013/TTLT-BGDĐT-BLĐTBXH | O5: Kinh phí hỗ trợ tiền ăn ở theo Nghị định số 66/2025/NĐ-CP | P5: Kinh phí hỗ trợ học bổng theo Nghị định số 57/2017/NĐ-CP | Q5: Chế độ, chính sách cho hợp đồng chuyên môn, nghiệp vụ trong các đơn vị sự nghiệp công lập do ngân sách nhà nước bảo đảm chi thường xuyên thuộc lĩnh vực giáo dục theo Nghị quyết của HĐND tỉnh | R5: Chính sách hợp đồng thực hiện công việc hỗ trợ, phục vụ hoạt động thường xuyên của cơ quan đơn vị do lãnh đạo cơ quan quyết định | S5: Mua sắm trang thiết bị, sữa chữa trường học | T5: Kinh phí thực hiện dạy học 2 buổi/ngày năm học 2025-2026 | U5: Kinh phí thực hiện chế độ, chính sách theo Nghị định số 154/2025/NĐ-CP ngày 15/6/2025 của Chính phủ | V5: Kinh phí sữa chữa , bảo dưỡng nhà xe, sân trường Trường THPT Gia Nghĩa (trước sáp nhập) | W5: Kinh phí khen thưởng năm 2026 theo nghị định 161/NĐ-CP ngày 15/05/2026 | X5: Gia hạn phần mềm misa | Y5: Kinh phí Cấp bù học phí | Z5: Kinh phí Đảng | AA5: Chế độ bồi dưỡng và chế độ trang phục đối với giáo viên thể dục | AB5: Kinh phí thực hiện cho giáo viên dạy cho học sinh khuyết tật theo Nghị định 28/2012/NĐ-CP | AC5: Kinh phí thực hiện CCTL | AD5: Kinh phí bổ sung dự toán chi NSNN năm 2026 để thực hiện truy lĩnh kinh phí phụ cấp độc hại, nguy hiểm đối với nhân viên thiết bị, thí nghiệm | AE5: Dự toán giữ lại | AF5: Dự toán giữ lại
A6: A | B6: B | C6: 1=2+10 | D6: 2=3+…+9 | E6: 3 | F6: 4 | G6: 5 | H6: 6 | I6: 7 | J6: 8 | K6: 9 | L6: 10=11+...+30 | M6: 11 | N6: 12 | O6: 13 | P6: 14 | Q6: 15 | R6: 16 | S6: 17 | T6: 18 | U6: 19 | V6: 20 | W6: 21 | X6: 22 | Y6: 23 | Z6: 24 | AA6: 25 | AB6: 26 | AC6: 27 | AD6: 28 | AE6: 29 | AF6: 30 | AG6: 31 | AH6: 32
B7: Dự toán chi NSNN - Kinh phí đã phân bổ | C7: =C8+C11 -> 127157636224 | D7: =D8+D11 -> 112239531000 | E7: =E8+E11 -> 99693881000 | F7: =F8+F11 -> 0 | G7: =G8+G11 -> 10997690250 | H7: =H8+H11 -> 1547959750 | I7: =I8+I11 -> 0 | J7: =J8+J11 -> 0 | ... AF7: =AF8+AF11 -> 0
A8: A | B8: Quản lý hành chính | C8: =C9 -> 0 | D8: =D9 -> 0 | E8: =E9 -> 0 | F8: =F9 -> 0 | G8: =G9 -> 0 | H8: =H9 -> 0 | I8: =I9 -> 0 | J8: =J9 -> 0 | ... AF8: =AF9 -> 0
A9: I | B9: Chương: 422 - Mã nội dung kinh tế: 341, 098, 398 | C9: =C10 -> 0 | D9: =D10 -> 0 | E9: =E10 -> 0 | F9: =F10 -> 0 | G9: =G10 -> 0 | H9: =H10 -> 0 | I9: =I10 -> 0 | J9: =J10 -> 0 | ... AF9: =AF10 -> 0
A10: 1 | B10: Cơ quan Sở Giáo dục và Đào tạo tỉnh Lâm Đồng | C10: =D10+L10 -> 0 | D10: =SUM(E10:K10) -> 0 | L10: =SUM(M10:AF10) -> 0 | AG10: 1072470 | AH10: Kho bạc Nhà nước Khu vực XVI
B11: Giáo dục, đào tạo, dạy nghề | C11: =C12+C15+C130+C144 -> 127157636224 | D11: =D12+D15+D130+D144 -> 112239531000 | E11: =E12+E15+E130+E144 -> 99693881000 | F11: =F12+F15+F130+F144 -> 0 | G11: =G12+G15+G130+G144 -> 10997690250 | H11: =H12+H15+H130+H144 -> 1547959750 | I11: =I12+I15+I130+I144 -> 0 | J11: =J12+J15+J130+J144 -> 0 | ... AF11: =AF12+AF15+AF130+AF144 -> 0
A12: II | B12: Chương: 422 - Mã nội dung kinh tế: 072 | C12: =SUM(C13:C14) -> 0 | D12: =SUM(D13:D14) -> 0 | E12: =SUM(E13:E14) -> 0 | F12: =SUM(F13:F14) -> 0 | G12: =SUM(G13:G14) -> 0 | H12: =SUM(H13:H14) -> 0 | I12: =SUM(I13:I14) -> 0 | J12: =SUM(J13:J14) -> 0 | ... AF12: =SUM(AF13:AF14) -> 0
A13: =A10+1 -> 2 | B13: Trung tâm Hỗ trợ phát triển giáo dục hòa nhập - Cam Ly | C13: =D13+L13 -> 0 | D13: =SUM(E13:K13) -> 0 | L13: =SUM(M13:AF13) -> 0 | AG13: 1133448 | AH13: Phòng Giao dịch số 10 - Kho bạc Nhà nước Khu vực XVI
A14: =A13+1 -> 3 | B14: Trung tâm Hỗ trợ phát triển giáo dục hòa nhập - Gia Nghĩa | C14: =D14+L14 -> 0 | D14: =SUM(E14:K14) -> 0 | L14: =SUM(M14:AF14) -> 0 | AG14: 1123589 | AH14: Phòng Giao dịch số 5 - Kho bạc Nhà nước Khu vực XVI
A15: I | B15: Chương: 422 - Mã nội dung kinh tế: 074 | C15: =SUM(C16:C129) -> 127157636224 | D15: =SUM(D16:D129) -> 112239531000 | E15: =SUM(E16:E129) -> 99693881000 | F15: =SUM(F16:F129) -> 0 | G15: =SUM(G16:G129) -> 10997690250 | H15: =SUM(H16:H129) -> 1547959750 | I15: =SUM(I16:I129) -> 0 | J15: =SUM(J16:J129) -> 0 | ... AF15: =SUM(AF16:AF129) -> 0
A16: =A14+1 -> 4 | B16: Trường PT DTNT THCS&THPT tỉnh Lâm Đồng | C16: =D16+L16 -> 0 | D16: =SUM(E16:K16) -> 0 | L16: =SUM(M16:AF16) -> 0 | AG16: 1078714 | AH16: Kho bạc Nhà nước Khu vực XVI
A17: =A16+1 -> 5 | B17: Trường PT DTNT THCS&THPT Đạ Tẻh | C17: =D17+L17 -> 0 | D17: =SUM(E17:K17) -> 0 | L17: =SUM(M17:AF17) -> 0 | AG17: 1072818 | AH17: Kho bạc Nhà nước Khu vực XVI
A18: =A17+1 -> 6 | B18: Trường THPT Chuyên Thăng Long | C18: =D18+L18 -> 0 | D18: =SUM(E18:K18) -> 0 | L18: =SUM(M18:AF18) -> 0 | AG18: 1078464 | AH18: Kho bạc Nhà nước Khu vực XVI
A19: =A18+1 -> 7 | B19: Trường THPT Bùi Thị Xuân - Đà Lạt | C19: =D19+L19 -> 0 | D19: =SUM(E19:K19) -> 0 | L19: =SUM(M19:AF19) -> 0 | AG19: 1078465 | AH19: Kho bạc Nhà nước Khu vực XVI
A20: =A19+1 -> 8 | B20: Trường THPT Trần Phú - Đà Lạt | C20: =D20+L20 -> 0 | D20: =SUM(E20:K20) -> 0 | L20: =SUM(M20:AF20) -> 0 | AG20: 1078468 | AH20: Kho bạc Nhà nước Khu vực XVI
A21: =A20+1 -> 9 | B21: Trường THCS&THPT Đống Đa | C21: =D21+L21 -> 0 | D21: =SUM(E21:K21) -> 0 | L21: =SUM(M21:AF21) -> 0 | AG21: 1075358 | AH21: Kho bạc Nhà nước Khu vực XVI
A22: =A21+1 -> 10 | B22: Trường THCS&THPT Tây Sơn | C22: =D22+L22 -> 0 | D22: =SUM(E22:K22) -> 0 | L22: =SUM(M22:AF22) -> 0 | AG22: 1075357 | AH22: Kho bạc Nhà nước Khu vực XVI
A23: =A22+1 -> 11 | B23: Trường THCS&THPT Chi Lăng | C23: =D23+L23 -> 0 | D23: =SUM(E23:K23) -> 0 | L23: =SUM(M23:AF23) -> 0 | AG23: 1078467 | AH23: Kho bạc Nhà nước Khu vực XVI
A24: =A23+1 -> 12 | B24: Trường THCS&THPT Tà Nung | C24: =D24+L24 -> 0 | D24: =SUM(E24:K24) -> 0 | L24: =SUM(M24:AF24) -> 0 | AG24: 1083484 | AH24: Kho bạc Nhà nước Khu vực XVI
A25: =A24+1 -> 13 | B25: Trường THCS&THPT Xuân Trường | C25: =D25+L25 -> 0 | D25: =SUM(E25:K25) -> 0 | L25: =SUM(M25:AF25) -> 0 | AG25: 1078716 | AH25: Kho bạc Nhà nước Khu vực XVI
A26: 1 | B26: Trường THCS&THPT Lang Biang | C26: =D26+L26 -> 0 | D26: =SUM(E26:K26) -> 0 | L26: =SUM(M26:AF26) -> 0
A27: 2 | B27: Trường THCS&THPT Đạ Sar | C27: =D27+L27 -> 0 | D27: =SUM(E27:K27) -> 0 | L27: =SUM(M27:AF27) -> 0 | AG27: 1083721 | AH27: Kho bạc Nhà nước Khu vực XVI
A28: =A27+1 -> 3 | B28: Trường THCS&THPT Đạ Nhim | C28: =D28+L28 -> 0 | D28: =SUM(E28:K28) -> 0 | L28: =SUM(M28:AF28) -> 0 | AG28: 1083613 | AH28: Kho bạc Nhà nước Khu vực XVI
A29: =A28+1 -> 4 | B29: Trường THPT Đơn Dương | C29: =D29+L29 -> 0 | D29: =SUM(E29:K29) -> 0 | L29: =SUM(M29:AF29) -> 0 | AG29: 1078726 | AH29: Phòng giao dịch số 1-Kho bạc Nhà nước Khu vực XVI
A30: =A29+1 -> 5 | B30: Trường THPT Hùng Vương - D'Ran | C30: =D30+L30 -> 0 | D30: =SUM(E30:K30) -> 0 | L30: =SUM(M30:AF30) -> 0 | AG30: 1115635 | AH30: Phòng giao dịch số 1-Kho bạc Nhà nước Khu vực XVI
A31: =A30+1 -> 6 | B31: Trường THPT P' Ró | C31: =D31+L31 -> 0 | D31: =SUM(E31:K31) -> 0 | L31: =SUM(M31:AF31) -> 0 | AG31: 1071851 | AH31: Phòng giao dịch số 1-Kho bạc Nhà nước Khu vực XVI
A32: =A31+1 -> 7 | B32: Trường THPT Đức Trọng | C32: =D32+L32 -> 0 | D32: =SUM(E32:K32) -> 0 | L32: =SUM(M32:AF32) -> 0 | AG32: 1078717 | AH32: Phòng giao dịch số 1-Kho bạc Nhà nước Khu vực XVI
A33: 3 | B33: Trường THPT Hoàng Hoa Thám | C33: =D33+L33 -> 0 | D33: =SUM(E33:K33) -> 0 | L33: =SUM(M33:AF33) -> 0 | AG33: 1083714 | AH33: Phòng giao dịch số 1-Kho bạc Nhà nước Khu vực XVI
A34: 1 | B34: Trường THCS&THPT Nguyễn Thái Bình | C34: =D34+L34 -> 19301782440 | D34: =SUM(E34:K34) -> 18274280000 | E34: 16084749000 | G34: 1943867784 | H34: 245663216 | L34: =SUM(M34:AF34) -> 1027502440 | M34: 35370000 | Q34: 589132440 | R34: 144000000 | T34: 259000000 | AG34: 1178001 | AH34: Phòng giao dịch số 1-Kho bạc Nhà nước Khu vực XVI
A35: 2 | B35: Trường THCS&THPT Nguyễn Bỉnh Khiêm | C35: =D35+L35 -> 13691993344 | D35: =SUM(E35:K35) -> 10344141000 | E35: 9113781000 | G35: 1083505647 | H35: 146854353 | L35: =SUM(M35:AF35) -> 3347852344 | M35: 48636000 | N35: 35696000 | O35: 1049760000 | Q35: 1677760344 | R35: 144000000 | T35: 392000000 | AG35: 1178191 | AH35: Phòng giao dịch số 1-Kho bạc Nhà nước Khu vực XVI
A36: 3 | B36: Trường THCS&THPT Chu Văn An - Hiệp Thạnh | C36: =D36+L36 -> 13124432928 | D36: =SUM(E36:K36) -> 11928524000 | E36: 10501387000 | G36: 1269575256 | H36: 157561744 | L36: =SUM(M36:AF36) -> 1195908928 | M36: 22950000 | Q36: 706958928 | R36: 144000000 | T36: 322000000 | AG36: 1178005 | AH36: Phòng giao dịch số 1-Kho bạc Nhà nước Khu vực XVI
A37: =A36+1 -> 4 | B37: Trường THPT Lương Thế Vinh - Đức Trọng | C37: =D37+L37 -> 0 | D37: =SUM(E37:K37) -> 0 | L37: =SUM(M37:AF37) -> 0 | AG37: 1115636 | AH37: Phòng giao dịch số 1-Kho bạc Nhà nước Khu vực XVI
A38: 7 | B38: Trường THPT Lâm Hà | C38: =D38+L38 -> 0 | D38: =SUM(E38:K38) -> 0 | L38: =SUM(M38:AF38) -> 0 | AG38: 1011512 | AH38: Phòng giao dịch số 2-Kho bạc Nhà nước Khu vực XVI
A39: 8 | B39: Trường THPT Tân Hà | C39: =D39+L39 -> 0 | D39: =SUM(E39:K39) -> 0 | L39: =SUM(M39:AF39) -> 0 | AG39: 1009800 | AH39: Phòng giao dịch số 2-Kho bạc Nhà nước Khu vực XVI
A40: =A39+1 -> 9 | B40: Trường THPT Huỳnh Thúc Kháng - Lâm Hà | C40: =D40+L40 -> 0 | D40: =SUM(E40:K40) -> 0 | L40: =SUM(M40:AF40) -> 0 | AG40: 1083644 | AH40: Phòng giao dịch số 2-Kho bạc Nhà nước Khu vực XVI
A41: 4 | B41: Trường THCS&THPT Thăng Long | C41: =D41+L41 -> 15176739416 | D41: =SUM(E41:K41) -> 13682300000 | E41: 12045969000 | G41: 1418258381 | H41: 218072619 | L41: =SUM(M41:AF41) -> 1494439416 | M41: 29610000 | N41: 89240000 | O41: 81648000 | Q41: 844441416 | R41: 144000000 | S41: 150500000 | T41: 155000000 | AG41: 1078464 | AH41: Phòng giao dịch số 2-Kho bạc Nhà nước Khu vực XVI
A42: =A41+1 -> 5 | B42: Trường THPT Lê Quý Đôn - Lâm Hà | C42: =D42+L42 -> 0 | D42: =SUM(E42:K42) -> 0 | L42: =SUM(M42:AF42) -> 0 | AG42: 1083298 | AH42: Phòng giao dịch số 2-Kho bạc Nhà nước Khu vực XVI
A43: =A42+1 -> 6 | B43: Trường THPT Nguyễn Chí Thanh | C43: =D43+L43 -> 0 | D43: =SUM(E43:K43) -> 0 | L43: =SUM(M43:AF43) -> 0 | AG43: 1084214 | AH43: Phòng giao dịch số 2-Kho bạc Nhà nước Khu vực XVI
A44: =A43+1 -> 7 | B44: Trường THPT Đạ Tông | C44: =D44+L44 -> 0 | D44: =SUM(E44:K44) -> 0 | L44: =SUM(M44:AF44) -> 0 | AG44: 1009269 | AH44: Phòng giao dịch số 2-Kho bạc Nhà nước Khu vực XVI
A45: 10 | B45: Trường THCS & THPT Phan Đình Phùng | C45: =D45+L45 -> 0 | D45: =SUM(E45:K45) -> 0 | L45: =SUM(M45:AF45) -> 0 | AG45: 1115134 | AH45: Phòng giao dịch số 2-Kho bạc Nhà nước Khu vực XVI
A46: 5 | B46: Trường THCS&THPT Võ Nguyên Giáp | C46: =D46+L46 -> 12628527928 | D46: =SUM(E46:K46) -> 10138871000 | E46: 8932926000 | G46: 1058236352 | H46: 147708648 | L46: =SUM(M46:AF46) -> 2489656928 | M46: 738666000 | O46: 116640000 | Q46: 774350928 | R46: 144000000 | S46: 450000000 | T46: 266000000 | AG46: 1084299 | AH46: Phòng giao dịch số 2-Kho bạc Nhà nước Khu vực XVI
A47: 12 | B47: Trường THPT Di Linh | C47: =D47+L47 -> 0 | D47: =SUM(E47:K47) -> 0 | L47: =SUM(M47:AF47) -> 0 | AG47: 1011662 | AH47: Phòng giao dịch số 3-Kho bạc Nhà nước Khu vực XVI
A48: =A47+1 -> 13 | B48: Trường THPT Trường Chinh - Hòa Ninh | C48: =D48+L48 -> 0 | D48: =SUM(E48:K48) -> 0 | L48: =SUM(M48:AF48) -> 0 | AG48: 1083485 | AH48: Phòng giao dịch số 3-Kho bạc Nhà nước Khu vực XVI
A49: 13 | B49: Trường THPT Lê Hồng Phong | C49: =D49+L49 -> 0 | D49: =SUM(E49:K49) -> 0 | L49: =SUM(M49:AF49) -> 0 | AG49: 1009653 | AH49: Phòng giao dịch số 3-Kho bạc Nhà nước Khu vực XVI
A50: 6 | B50: Trường THCS&THPT Nguyễn Viết Xuân | C50: =D50+L50 -> 14371603440 | D50: =SUM(E50:K50) -> 12661617000 | E50: 11152636000 | G50: 1328995959 | H50: 179985041 | L50: =SUM(M50:AF50) -> 1709986440 | M50: 58518000 | O50: 163296000 | Q50: 603172440 | R50: 144000000 | T50: 741000000 | AG50: 1178359 | AH50: Phòng giao dịch số 3-Kho bạc Nhà nước Khu vực XVI
A51: 7 | B51: Trường THCS&THPT Nguyễn Huệ | C51: =D51+L51 -> 10489351728 | D51: =SUM(E51:K51) -> 8147958000 | E51: 7178342000 | G51: 863745111 | H51: 105870889 | L51: =SUM(M51:AF51) -> 2341393728 | M51: 75196800 | O51: 452790000 | Q51: 723806928 | R51: 144000000 | S51: 345600000 | T51: 600000000 | AG51: 1178003 | AH51: Phòng giao dịch số 3-Kho bạc Nhà nước Khu vực XVI
A52: =A51+1 -> 8 | B52: Trường THPT Phan Bội Châu - Di Linh | C52: =D52+L52 -> 0 | D52: =SUM(E52:K52) -> 0 | L52: =SUM(M52:AF52) -> 0 | AG52: 1011664 | AH52: Phòng giao dịch số 3-Kho bạc Nhà nước Khu vực XVI
A53: =A52+1 -> 9 | B53: Trường THPT Bảo Lâm | C53: =D53+L53 -> 0 | D53: =SUM(E53:K53) -> 0 | L53: =SUM(M53:AF53) -> 0 | AG53: 1072815 | AH53: Phòng giao dịch số 3-Kho bạc Nhà nước Khu vực XVI
A54: =A53+1 -> 10 | B54: Trường THPT Lộc An | C54: =D54+L54 -> 0 | D54: =SUM(E54:K54) -> 0 | L54: =SUM(M54:AF54) -> 0 | AG54: 1071852 | AH54: Phòng giao dịch số 3-Kho bạc Nhà nước Khu vực XVI
A55: =A54+1 -> 11 | B55: Trường THPT Lộc Thành | C55: =D55+L55 -> 0 | D55: =SUM(E55:K55) -> 0 | L55: =SUM(M55:AF55) -> 0 | AG55: 1009801 | AH55: Phòng giao dịch số 3-Kho bạc Nhà nước Khu vực XVI
A56: =A55+1 -> 12 | B56: Trường THCS&THPT Lộc Bắc | C56: =D56+L56 -> 0 | D56: =SUM(E56:K56) -> 0 | L56: =SUM(M56:AF56) -> 0 | AG56: 1083483 | AH56: Phòng giao dịch số 3-Kho bạc Nhà nước Khu vực XVI
A57: =A56+1 -> 13 | B57: Trường THPT Chuyên Bảo Lộc | C57: =D57+L57 -> 0 | D57: =SUM(E57:K57) -> 0 | L57: =SUM(M57:AF57) -> 0 | AG57: 1115132 | AH57: Phòng giao dịch số 3-Kho bạc Nhà nước Khu vực XVI
A58: 16 | B58: Trường THPT Bảo Lộc | C58: =D58+L58 -> 0 | D58: =SUM(E58:K58) -> 0 | L58: =SUM(M58:AF58) -> 0 | AG58: 1009803 | AH58: Phòng giao dịch số 3-Kho bạc Nhà nước Khu vực XVI
A59: 17 | B59: Trường THPT Lê Thị Pha | C59: =D59+L59 -> 0 | D59: =SUM(E59:K59) -> 0 | L59: =SUM(M59:AF59) -> 0 | AG59: 1071845 | AH59: Phòng giao dịch số 3-Kho bạc Nhà nước Khu vực XVI
A60: 18 | B60: Trường THPT Lộc Thanh | C60: =D60+L60 -> 0 | D60: =SUM(E60:K60) -> 0 | L60: =SUM(M60:AF60) -> 0 | AG60: 1011668 | AH60: Phòng giao dịch số 4-Kho bạc Nhà nước Khu vực XVI
A61: =A60+1 -> 19 | B61: Trường THPT Lộc Phát | C61: =D61+L61 -> 0 | D61: =SUM(E61:K61) -> 0 | L61: =SUM(M61:AF61) -> 0 | AG61: 1083719 | AH61: Phòng giao dịch số 3-Kho bạc Nhà nước Khu vực XVI
A62: =A61+1 -> 20 | B62: Trường THPT Nguyễn Du - Bảo Lộc | C62: =D62+L62 -> 0 | D62: =SUM(E62:K62) -> 0 | L62: =SUM(M62:AF62) -> 0 | AG62: 1011666 | AH62: Phòng giao dịch số 3-Kho bạc Nhà nước Khu vực XVI
A63: =A62+1 -> 21 | B63: Trường THPT Nguyễn Tri Phương | C63: =D63+L63 -> 0 | D63: =SUM(E63:K63) -> 0 | L63: =SUM(M63:AF63) -> 0 | AG63: 1071846 | AH63: Phòng giao dịch số 3-Kho bạc Nhà nước Khu vực XVI
A64: =A63+1 -> 22 | B64: Trường THPT Đạ Huoai | C64: =D64+L64 -> 0 | D64: =SUM(E64:K64) -> 0 | L64: =SUM(M64:AF64) -> 0 | AG64: 1072814 | AH64: Phòng giao dịch số 4-Kho bạc Nhà nước Khu vực XVI
A65: =A64+1 -> 23 | B65: Trường THPT Đạm Ri | C65: =D65+L65 -> 0 | D65: =SUM(E65:K65) -> 0 | L65: =SUM(M65:AF65) -> 0 | AG65: 1072812 | AH65: Phòng giao dịch số 4-Kho bạc Nhà nước Khu vực XVI
A66: =A65+1 -> 24 | B66: Trường THPT Đạ Tẻh | C66: =D66+L66 -> 0 | D66: =SUM(E66:K66) -> 0 | L66: =SUM(M66:AF66) -> 0 | AG66: 1072464 | AH66: Phòng giao dịch số 4-Kho bạc Nhà nước Khu vực XVI
A67: =A66+1 -> 25 | B67: Trường THCS&THPT Lê Quý Đôn - Đạ Tẻh | C67: =D67+L67 -> 0 | D67: =SUM(E67:K67) -> 0 | L67: =SUM(M67:AF67) -> 0 | AG67: 1083452 | AH67: Phòng giao dịch số 4-Kho bạc Nhà nước Khu vực XVI
A68: 19 | B68: Trường THPT Cát Tiên | C68: =D68+L68 -> 0 | D68: =SUM(E68:K68) -> 0 | L68: =SUM(M68:AF68) -> 0 | AG68: 1072471 | AH68: Phòng giao dịch số 4-Kho bạc Nhà nước Khu vực XVI
A69: =A68+1 -> 20 | B69: Trường THPT Gia Viễn | C69: =D69+L69 -> 0 | D69: =SUM(E69:K69) -> 0 | L69: =SUM(M69:AF69) -> 0 | AG69: 1009503 | AH69: Phòng giao dịch số 4-Kho bạc Nhà nước Khu vực XVI
A70: =A69+1 -> 21 | B70: Trường THPT Quang Trung - Cát Tiên | C70: =D70+L70 -> 0 | D70: =SUM(E70:K70) -> 0 | L70: =SUM(M70:AF70) -> 0 | AG70: 1083450 | AH70: Phòng giao dịch số 4-Kho bạc Nhà nước Khu vực XVI
A71: =A70+1 -> 22 | B71: Trường PT DTNT THCS & THPT Krông Nô | C71: =D71+L71 -> 0 | D71: =SUM(E71:K71) -> 0 | L71: =SUM(M71:AF71) -> 0 | AG71: 1073626 | AH71: Phòng giao dịch số 6-Kho bạc Nhà nước Khu vực XVI
A72: =A71+1 -> 23 | B72: Trường PT DTNT THCS & THPT Đắk Glong | C72: =D72+L72 -> 0 | D72: =SUM(E72:K72) -> 0 | L72: =SUM(M72:AF72) -> 0 | AG72: 1109114 | AH72: Phòng giao dịch số 9-Kho bạc Nhà nước Khu vực XVI
A73: =A72+1 -> 24 | B73: Trường PT DTNT THCS & THPT Đắk Mil | C73: =D73+L73 -> 0 | D73: =SUM(E73:K73) -> 0 | L73: =SUM(M73:AF73) -> 0 | AG73: 1015906 | AH73: Phòng giao dịch số 7-Kho bạc Nhà nước Khu vực XVI
A74: =A73+1 -> 25 | B74: Trường PT DTNT THCS & THPT Đắk R’lấp | C74: =D74+L74 -> 0 | D74: =SUM(E74:K74) -> 0 | L74: =SUM(M74:AF74) -> 0 | AG74: 1070570 | AH74: Phòng giao dịch số 8-Kho bạc Nhà nước Khu vực XVI
A75: =A74+1 -> 26 | B75: Trường PT DTNT THCS & THPT Đắk Song | C75: =D75+L75 -> 0 | D75: =SUM(E75:K75) -> 0 | L75: =SUM(M75:AF75) -> 0 | AG75: 1053279 | AH75: Phòng giao dịch số 7-Kho bạc Nhà nước Khu vực XVI
A76: =A75+1 -> 27 | B76: Trường PT DTNT THCS & THPT Tuy Đức | C76: =D76+L76 -> 0 | D76: =SUM(E76:K76) -> 0 | L76: =SUM(M76:AF76) -> 0 | AG76: 1122623 | AH76: Phòng giao dịch số 8-Kho bạc Nhà nước Khu vực XVI
A77: =A76+1 -> 28 | B77: Trường PT DTNT THCS & THPT Cư Jút | C77: =D77+L77 -> 0 | D77: =SUM(E77:K77) -> 0 | L77: =SUM(M77:AF77) -> 0 | AG77: 1113651 | AH77: Phòng giao dịch số 6-Kho bạc Nhà nước Khu vực XVI
A78: =A77+1 -> 29 | B78: Trường THCS&THPT Lê Hữu Trác | C78: =D78+L78 -> 0 | D78: =SUM(E78:K78) -> 0 | L78: =SUM(M78:AF78) -> 0 | AG78: 1131961 | AH78: Phòng giao dịch số 8-Kho bạc Nhà nước Khu vực XVI
A79: =A78+1 -> 30 | B79: Trường THCS&THPT Quảng Hoà | C79: =D79+L79 -> 0 | D79: =SUM(E79:K79) -> 0 | L79: =SUM(M79:AF79) -> 0 | AG79: 1138278 | AH79: Phòng giao dịch số 9-Kho bạc Nhà nước Khu vực XVI
A80: 20 | B80: Trường THPT Chu Văn An - Gia Nghĩa | C80: =D80+L80 -> 0 | D80: =SUM(E80:K80) -> 0 | L80: =SUM(M80:AF80) -> 0 | AG80: 1090355 | AH80: Phòng giao dịch số 5-Kho bạc Nhà nước Khu vực XVI
A81: =A80+1 -> 21 | B81: Trường THPT Chuyên Nguyễn Chí Thanh | C81: =D81+L81 -> 0 | D81: =SUM(E81:K81) -> 0 | L81: =SUM(M81:AF81) -> 0 | AG81: 1118108 | AH81: Phòng giao dịch số 5-Kho bạc Nhà nước Khu vực XVI
A82: =A81+1 -> 22 | B82: Trường THPT Đắk Glong | C82: =D82+L82 -> 0 | D82: =SUM(E82:K82) -> 0 | L82: =SUM(M82:AF82) -> 0 | AG82: 1091524 | AH82: Phòng giao dịch số 9-Kho bạc Nhà nước Khu vực XVI
A83: 21 | B83: Trường THPT Đắk Mil | C83: =D83+L83 -> 0 | D83: =SUM(E83:K83) -> 0 | L83: =SUM(M83:AF83) -> 0 | AG83: 1008012 | AH83: Phòng giao dịch số 7-Kho bạc Nhà nước Khu vực XVI
A84: =A83+1 -> 22 | B84: Trường THPT Đắk Song | C84: =D84+L84 -> 0 | D84: =SUM(E84:K84) -> 0 | L84: =SUM(M84:AF84) -> 0 | AG84: 1053483 | AH84: Phòng giao dịch số 7-Kho bạc Nhà nước Khu vực XVI
A85: =A84+1 -> 23 | B85: Trường THPT DTNT N'Trang Lơng | C85: =D85+L85 -> 0 | D85: =SUM(E85:K85) -> 0 | L85: =SUM(M85:AF85) -> 0 | AG85: 1061264 | AH85: Phòng giao dịch số 5-Kho bạc Nhà nước Khu vực XVI
A86: =A85+1 -> 24 | B86: Trường THPT Gia Nghĩa | C86: =D86+L86 -> 0 | D86: =SUM(E86:K86) -> 0 | L86: =SUM(M86:AF86) -> 0 | AG86: 1091540 | AH86: Phòng giao dịch số 5-Kho bạc Nhà nước Khu vực XVI
A87: =A86+1 -> 25 | B87: Trường THPT Hùng Vương – Quảng Phú | C87: =D87+L87 -> 0 | D87: =SUM(E87:K87) -> 0 | L87: =SUM(M87:AF87) -> 0 | AG87: 1091522 | AH87: Phòng giao dịch số 6-Kho bạc Nhà nước Khu vực XVI
A88: 22 | B88: Trường THPT Krông Nô | C88: =D88+L88 -> 0 | D88: =SUM(E88:K88) -> 0 | L88: =SUM(M88:AF88) -> 0 | AG88: 1008011 | AH88: Phòng giao dịch số 6-Kho bạc Nhà nước Khu vực XVI
A89: =A88+1 -> 23 | B89: Trường THPT Lê Duẩn | C89: =D89+L89 -> 0 | D89: =SUM(E89:K89) -> 0 | L89: =SUM(M89:AF89) -> 0 | AG89: 1115605 | AH89: Phòng giao dịch số 9-Kho bạc Nhà nước Khu vực XVI
A90: =A89+1 -> 24 | B90: Trường THPT Lê Quý Đôn – Tuy Đức | C90: =D90+L90 -> 0 | D90: =SUM(E90:K90) -> 0 | L90: =SUM(M90:AF90) -> 0 | AG90: 1091353 | AH90: Phòng giao dịch số 8-Kho bạc Nhà nước Khu vực XVI
A91: =A90+1 -> 25 | B91: Trường THPT Lương Thế Vinh – Thuận Hạnh | C91: =D91+L91 -> 0 | D91: =SUM(E91:K91) -> 0 | L91: =SUM(M91:AF91) -> 0 | AG91: 1125442 | AH91: Phòng giao dịch số 7-Kho bạc Nhà nước Khu vực XVI
A92: =A91+1 -> 26 | B92: Trường THPT Nguyễn Bỉnh Khiêm – Nam Dong | C92: =D92+L92 -> 0 | D92: =SUM(E92:K92) -> 0 | L92: =SUM(M92:AF92) -> 0 | AG92: 1113652 | AH92: Phòng giao dịch số 6-Kho bạc Nhà nước Khu vực XVI
A93: =A92+1 -> 27 | B93: Trường THPT Nguyễn Đình Chiểu | C93: =D93+L93 -> 0 | D93: =SUM(E93:K93) -> 0 | L93: =SUM(M93:AF93) -> 0 | AG93: 1115549 | AH93: Phòng giao dịch số 8-Kho bạc Nhà nước Khu vực XVI
A94: =A93+1 -> 28 | B94: Trường THPT Nguyễn Du – Đắk Sắk | C94: =D94+L94 -> 0 | D94: =SUM(E94:K94) -> 0 | L94: =SUM(M94:AF94) -> 0 | AG94: 1110219 | AH94: Phòng giao dịch số 7-Kho bạc Nhà nước Khu vực XVI
A95: 23 | B95: Trường THPT Nguyễn Tất Thành | C95: =D95+L95 -> 0 | D95: =SUM(E95:K95) -> 0 | L95: =SUM(M95:AF95) -> 0 | AG95: 1053357 | AH95: Phòng giao dịch số 8-Kho bạc Nhà nước Khu vực XVI
A96: 24 | B96: Trường THPT Phạm Văn Đồng | C96: =D96+L96 -> 0 | D96: =SUM(E96:K96) -> 0 | L96: =SUM(M96:AF96) -> 0 | AG96: 1061411 | AH96: Phòng giao dịch số 8-Kho bạc Nhà nước Khu vực XVI
A97: 25 | B97: Trường THPT Phan Bội Châu – Nam Dong | C97: =D97+L97 -> 0 | D97: =SUM(E97:K97) -> 0 | L97: =SUM(M97:AF97) -> 0 | AG97: 1091523 | AH97: Phòng giao dịch số 6-Kho bạc Nhà nước Khu vực XVI
A98: =A97+1 -> 26 | B98: Trường THPT Phan Chu Trinh – Cư Jút | C98: =D98+L98 -> 0 | D98: =SUM(E98:K98) -> 0 | L98: =SUM(M98:AF98) -> 0 | AG98: 1091344 | AH98: Phòng giao dịch số 6-Kho bạc Nhà nước Khu vực XVI
A99: =A98+1 -> 27 | B99: Trường THPT Phan Đình Phùng – Đức An | C99: =D99+L99 -> 0 | D99: =SUM(E99:K99) -> 0 | L99: =SUM(M99:AF99) -> 0 | AG99: 1104232 | AH99: Phòng giao dịch số 7-Kho bạc Nhà nước Khu vực XVI
A100: =A99+1 -> 28 | B100: Trường THPT Quang Trung – Đắk Mil | C100: =D100+L100 -> 0 | D100: =SUM(E100:K100) -> 0 | L100: =SUM(M100:AF100) -> 0 | AG100: 1091521 | AH100: Phòng giao dịch số 7-Kho bạc Nhà nước Khu vực XVI
...

Sheet VPS
A1: DỰ TOÁN THU, CHI NGÂN SÁCH NHÀ NƯỚC NĂM 2026
A2: ='TONG HOP'!B10 -> Cơ quan Sở Giáo dục và Đào tạo tỉnh Lâm Đồng
A3: ='TONG HOP'!A2:AH2 -> (Kèm theo Quyết định số /QĐ-SGDĐT ngày tháng 10 năm 2026 của Sở Giáo dục và Đào tạo tỉnh Lâm Đồng)
F4: Đơn vị tính: đồng
A5: STT | B5: Nội dung | C5: Tổng số | D5: Chi tiết theo loại khoản
D6: Cơ quan Sở Giáo dục và Đào tạo
D7: Loại 340 Khoản 341 | E7: Loại 280 Khoản 338 | F7: Loại 070 khoản 098 | G7: Loại 370 khoản 398
A8: A | B8: Dự toán thu | C8: =C9+C10 -> 0 | D8: =D9+D10 -> 0 | E8: =E9+E10 -> 0 | F8: =F9+F10 -> 0 | G8: =G9+G10 -> 0
A9: 1 | B9: Thu sự nghiệp | C9: =SUM(D9:G9) -> 0 | D9: 0 | E9: 0 | F9: 0 | G9: 0
A10: 2 | B10: Chi từ nguôn thu để lại | C10: =SUM(D10:G10) -> 0 | D10: 0 | E10: 0 | F10: 0 | G10: 0
B11: Trong đó: Trích tạo nguồn thực hiện CCTL theo quy định (40%) | C11: =SUM(D11:G11) -> 0 | D11: 0 | E11: 0 | F11: 0 | G11: 0
A12: B | B12: Dự toán chi NSNN | C12: =C13+C21 -> 0 | D12: =D13+D21 -> 0 | E12: =E13+E21 -> 0 | F12: =F13+F21 -> 0 | G12: =G13+G21 -> 0
A13: I | B13: Chi thường xuyên giao tự chủ | C13: =SUM(C14:C20) -> 0 | D13: =SUM(D14:D20) -> 0 | E13: =SUM(E14:E20) -> 0 | F13: =SUM(F14:F20) -> 0 | G13: =SUM(G14:G20) -> 0
A14: 1 | C14: =SUM(D14:G14) -> 0
A15: =A14+1 -> 2 | C15: =SUM(D15:G15) -> 0
A16: =A15+1 -> 3 | C16: =SUM(D16:G16) -> 0
A17: =A16+1 -> 4 | C17: =SUM(D17:G17) -> 0
A18: =A17+1 -> 5 | C18: =SUM(D18:G18) -> 0
A19: =A18+1 -> 6 | C19: =SUM(D19:G19) -> 0
A20: =A19+1 -> 7 | C20: =SUM(D20:G20) -> 0
A21: II | B21: Chi thường xuyên không giao tự chủ | C21: =SUM(C22:C41) -> 0 | D21: =SUM(D22:D41) -> 0 | E21: =SUM(E22:E41) -> 0 | F21: =SUM(F22:F41) -> 0 | G21: =SUM(G22:G41) -> 0
A22: 1 | C22: =SUM(D22:G22) -> 0
A23: =A22+1 -> 2 | C23: =SUM(D23:G23) -> 0
A24: =A23+1 -> 3 | C24: =SUM(D24:G24) -> 0
A25: =A24+1 -> 4 | C25: =SUM(D25:G25) -> 0
A26: =A25+1 -> 5 | C26: =SUM(D26:G26) -> 0
A27: =A26+1 -> 6 | C27: =SUM(D27:G27) -> 0
A28: =A27+1 -> 7 | C28: =SUM(D28:G28) -> 0
A29: =A28+1 -> 8 | C29: =SUM(D29:G29) -> 0
A30: =A29+1 -> 9 | C30: =SUM(D30:G30) -> 0
A31: =A30+1 -> 10 | C31: =SUM(D31:G31) -> 0
A32: =A31+1 -> 11 | C32: =SUM(D32:G32) -> 0
A33: =A32+1 -> 12 | C33: =SUM(D33:G33) -> 0
A34: =A33+1 -> 13 | C34: =SUM(D34:G34) -> 0
... A41: =A40+1 -> 20 | C41: =SUM(D41:G41) -> 0
A42: C | B42: Mã số đơn vị sử dụng ngân sách | C42: ='TONG HOP'!AG10 -> 1072470

Sheet GDHN-CL
A1: DỰ TOÁN THU, CHI NGÂN SÁCH NHÀ NƯỚC NĂM 2026
A2: ='TONG HOP'!B13 -> Trung tâm Hỗ trợ phát triển giáo dục hòa nhập - Cam Ly
A3: ='TONG HOP'!A2:AH2 -> (Kèm theo Quyết định số /QĐ-SGDĐT ngày tháng 10 năm 2026 của Sở Giáo dục và Đào tạo tỉnh Lâm Đồng)
A4: Chương: 422 ; Loại: 070 ; Khoản: 072
C5: Đơn vị: đồng
A6: Nội dung | C6: Tổng số
A7: A | B7: Tổng số thu, chi, nộp ngân sách
B8: 1. Số thu | C8: =SUM(C9:C10) -> 0
B9: - Học phí | C9: 0
B10: - Thu khác | C10: 0
B11: 2. Chi từ nguồn thu được để lại | C11: =SUM(C12:C13) -> 0
B12: - Học phí | C12: 0
B13: - Thu khác | C13: 0
B14: 3. Số nộp NSNN | C14: 0
A15: B | B15: Dự toán chi ngân sách nhà nước | C15: =C17+C25 -> 0
B16: Giáo dục, đào tạo, dạy nghề
A17: I | B17: Kinh phí thực hiện tự chủ | C17: =SUM(C18:C24) -> 0
A18: 1 | B18: {=TRANSPOSE('TONG HOP'!E5:K5)} -> NSNN hỗ trợ chi thường xuyên cho đơn vị sự nghiệp công lập | C18: {=TRANSPOSE('TONG HOP'!E13:K13)} -> 0
A19: =A18+1 -> 2 | B19: Kinh phí cho hợp đồng hỗ trợ phục vụ | C19: 0
A20: =A19+1 -> 3 | B20: Chi hoạt động thường xuyên | C20: 0
A21: =A20+1 -> 4 | B21: Dự toán giữ lại | C21: 0
A22: =A21+1 -> 5 | B22: nội dung 5 | C22: 0
A23: =A22+1 -> 6 | B23: nội dung 6 | C23: 0
A24: =A23+1 -> 7 | B24: nội dung 7 | C24: 0
A25: II | B25: Kinh phí không thực hiện tự chủ | C25: =SUM(C26:C45) -> 0
A26: 1 | B26: {=TRANSPOSE('TONG HOP'!M5:AF5)} -> Kinh phí hỗ trợ chi phí học tập theo Nghị định số 238/2025/NĐ-CP | C26: {=TRANSPOSE('TONG HOP'!M13:AF13)} -> 0
A27: =A26+1 -> 2 | B27: Kinh phí hỗ trợ học bổng theo Thông tư số 42/2013/TTLT-BGDĐT-BLĐTBXH | C27: 0
A28: =A27+1 -> 3 | B28: Kinh phí hỗ trợ tiền ăn ở theo Nghị định số 66/2025/NĐ-CP | C28: 0
A29: =A28+1 -> 4 | B29: Kinh phí hỗ trợ học bổng theo Nghị định số 57/2017/NĐ-CP | C29: 0
A30: =A29+1 -> 5 | B30: Chế độ, chính sách cho hợp đồng chuyên môn, nghiệp vụ trong các đơn vị sự nghiệp công lập do ngân sách nhà nước bảo đảm chi thường xuyên thuộc lĩnh vực giáo dục theo Nghị quyết của HĐND tỉnh | C30: 0
A31: =A30+1 -> 6 | B31: Chính sách hợp đồng thực hiện công việc hỗ trợ, phục vụ hoạt động thường xuyên của cơ quan đơn vị do lãnh đạo cơ quan quyết định | C31: 0
A32: =A31+1 -> 7 | B32: Mua sắm trang thiết bị, sữa chữa trường học | C32: 0
A33: =A32+1 -> 8 | B33: Kinh phí thực hiện dạy học 2 buổi/ngày năm học 2025-2026 | C33: 0
A34: =A33+1 -> 9 | B34: Kinh phí thực hiện chế độ, chính sách theo Nghị định số 154/2025/NĐ-CP ngày 15/6/2025 của Chính phủ | C34: 0
A35: =A34+1 -> 10 | B35: Kinh phí sữa chữa , bảo dưỡng nhà xe, sân trường Trường THPT Gia Nghĩa (trước sáp nhập) | C35: 0
A36: =A35+1 -> 11 | B36: Kinh phí khen thưởng năm 2026 theo nghị định 161/NĐ-CP ngày 15/05/2026 | C36: 0
A37: =A36+1 -> 12 | B37: Gia hạn phần mềm misa | C37: 0
A38: =A37+1 -> 13 | B38: Kinh phí Cấp bù học phí | C38: 0
... A45: =A44+1 -> 20 | B45: Dự toán giữ lại | C45: 0
A46: C | B46: Mã số đơn vị sử dụng ngân sách | C46: ='TONG HOP'!AG13 -> 1133448

Sheet GDHN-GN
A1: DỰ TOÁN THU, CHI NGÂN SÁCH NHÀ NƯỚC NĂM 2026
A2: ='TONG HOP'!B14 -> Trung tâm Hỗ trợ phát triển giáo dục hòa nhập - Gia Nghĩa
A3: ='TONG HOP'!A2:AH2 -> (Kèm theo Quyết định số /QĐ-SGDĐT ngày tháng 10 năm 2026 của Sở Giáo dục và Đào tạo tỉnh Lâm Đồng)
A4: Chương: 422 ; Loại: 070 ; Khoản: 072
C5: Đơn vị: đồng
A6: Nội dung | C6: Tổng số
A7: A | B7: Tổng số thu, chi, nộp ngân sách
B8: 1. Số thu | C8: =SUM(C9:C10) -> 0
B9: - Học phí | C9: 0
B10: - Thu khác | C10: 0
B11: 2. Chi từ nguồn thu được để lại | C11: =SUM(C12:C13) -> 0
B12: - Học phí | C12: 0
B13: - Thu khác | C13: 0
B14: 3. Số nộp NSNN | C14: 0
A15: B | B15: Dự toán chi ngân sách nhà nước | C15: =C17+C25 -> 0
B16: Giáo dục, đào tạo, dạy nghề
A17: I | B17: Kinh phí thực hiện tự chủ | C17: =SUM(C18:C24) -> 0
A18: 1 | B18: {=TRANSPOSE('TONG HOP'!E5:K5)} -> NSNN hỗ trợ chi thường xuyên cho đơn vị sự nghiệp công lập | C18: {=TRANSPOSE('TONG HOP'!E14:K14)} -> 0
A19: =A18+1 -> 2 | B19: Kinh phí cho hợp đồng hỗ trợ phục vụ | C19: 0
A20: =A19+1 -> 3 | B20: Chi hoạt động thường xuyên | C20: 0
A21: =A20+1 -> 4 | B21: Dự toán giữ lại | C21: 0
A22: =A21+1 -> 5 | B22: nội dung 5 | C22: 0
A23: =A22+1 -> 6 | B23: nội dung 6 | C23: 0
A24: =A23+1 -> 7 | B24: nội dung 7 | C24: 0
A25: II | B25: Kinh phí không thực hiện tự chủ | C25: =SUM(C26:C45) -> 0
A26: 1 | B26: {=TRANSPOSE('TONG HOP'!M5:AF5)} -> Kinh phí hỗ trợ chi phí học tập theo Nghị định số 238/2025/NĐ-CP | C26: {=TRANSPOSE('TONG HOP'!M14:AF14)} -> 0
A27: =A26+1 -> 2 | B27: Kinh phí hỗ trợ học bổng theo Thông tư số 42/2013/TTLT-BGDĐT-BLĐTBXH | C27: 0
A28: =A27+1 -> 3 | B28: Kinh phí hỗ trợ tiền ăn ở theo Nghị định số 66/2025/NĐ-CP | C28: 0
A29: =A28+1 -> 4 | B29: Kinh phí hỗ trợ học bổng theo Nghị định số 57/2017/NĐ-CP | C29: 0
A30: =A29+1 -> 5 | B30: Chế độ, chính sách cho hợp đồng chuyên môn, nghiệp vụ trong các đơn vị sự nghiệp công lập do ngân sách nhà nước bảo đảm chi thường xuyên thuộc lĩnh vực giáo dục theo Nghị quyết của HĐND tỉnh | C30: 0
A31: =A30+1 -> 6 | B31: Chính sách hợp đồng thực hiện công việc hỗ trợ, phục vụ hoạt động thường xuyên của cơ quan đơn vị do lãnh đạo cơ quan quyết định | C31: 0
A32: =A31+1 -> 7 | B32: Mua sắm trang thiết bị, sữa chữa trường học | C32: 0
A33: =A32+1 -> 8 | B33: Kinh phí thực hiện dạy học 2 buổi/ngày năm học 2025-2026 | C33: 0
A34: =A33+1 -> 9 | B34: Kinh phí thực hiện chế độ, chính sách theo Nghị định số 154/2025/NĐ-CP ngày 15/6/2025 của Chính phủ | C34: 0
A35: =A34+1 -> 10 | B35: Kinh phí sữa chữa , bảo dưỡng nhà xe, sân trường Trường THPT Gia Nghĩa (trước sáp nhập) | C35: 0
A36: =A35+1 -> 11 | B36: Kinh phí khen thưởng năm 2026 theo nghị định 161/NĐ-CP ngày 15/05/2026 | C36: 0
A37: =A36+1 -> 12 | B37: Gia hạn phần mềm misa | C37: 0
A38: =A37+1 -> 13 | B38: Kinh phí Cấp bù học phí | C38: 0
... A45: =A44+1 -> 20 | B45: Dự toán giữ lại | C45: 0
A46: C | B46: Mã số đơn vị sử dụng ngân sách | C46: ='TONG HOP'!AG14 -> 1123589

Sheet DTNT-LĐ
A1: DỰ TOÁN THU, CHI NGÂN SÁCH NHÀ NƯỚC NĂM 2026
A2: ='TONG HOP'!B16 -> Trường PT DTNT THCS&THPT tỉnh Lâm Đồng
A3: ='TONG HOP'!A2:AH2 -> (Kèm theo Quyết định số /QĐ-SGDĐT ngày tháng 10 năm 2026 của Sở Giáo dục và Đào tạo tỉnh Lâm Đồng)
A4: Chương: 422 ; Loại: 070 ; Khoản: 074
C5: Đơn vị: đồng
A6: Nội dung | C6: Tổng số
A7: A | B7: Tổng số thu, chi, nộp ngân sách
B8: 1. Số thu | C8: =SUM(C9:C10) -> 0
B9: - Học phí | C9: 0
B10: - Thu khác | C10: 0
B11: 2. Chi từ nguồn thu được để lại | C11: =SUM(C12:C13) -> 0
B12: - Học phí | C12: 0
B13: - Thu khác | C13: 0
B14: 3. Số nộp NSNN | C14: 0
A15: B | B15: Dự toán chi ngân sách nhà nước | C15: =C17+C25 -> 0
B16: Giáo dục, đào tạo, dạy nghề
A17: I | B17: Kinh phí thực hiện tự chủ | C17: =SUM(C18:C24) -> 0
A18: 1 | B18: {=TRANSPOSE('TONG HOP'!E5:K5)} -> NSNN hỗ trợ chi thường xuyên cho đơn vị sự nghiệp công lập | C18: {=TRANSPOSE('TONG HOP'!E16:K16)} -> 0
A19: =A18+1 -> 2 | B19: Kinh phí cho hợp đồng hỗ trợ phục vụ | C19: 0
A20: =A19+1 -> 3 | B20: Chi hoạt động thường xuyên | C20: 0
A21: =A20+1 -> 4 | B21: Dự toán giữ lại | C21: 0
A22: =A21+1 -> 5 | B22: nội dung 5 | C22: 0
A23: =A22+1 -> 6 | B23: nội dung 6 | C23: 0
A24: =A23+1 -> 7 | B24: nội dung 7 | C24: 0
A25: II | B25: Kinh phí không thực hiện tự chủ | C25: =SUM(C26:C45) -> 0
A26: 1 | B26: {=TRANSPOSE('TONG HOP'!M5:AF5)} -> Kinh phí hỗ trợ chi phí học tập theo Nghị định số 238/2025/NĐ-CP | C26: {=TRANSPOSE('TONG HOP'!M16:AF16)} -> 0
A27: =A26+1 -> 2 | B27: Kinh phí hỗ trợ học bổng theo Thông tư số 42/2013/TTLT-BGDĐT-BLĐTBXH | C27: 0
A28: =A27+1 -> 3 | B28: Kinh phí hỗ trợ tiền ăn ở theo Nghị định số 66/2025/NĐ-CP | C28: 0
A29: =A28+1 -> 4 | B29: Kinh phí hỗ trợ học bổng theo Nghị định số 57/2017/NĐ-CP | C29: 0
A30: =A29+1 -> 5 | B30: Chế độ, chính sách cho hợp đồng chuyên môn, nghiệp vụ trong các đơn vị sự nghiệp công lập do ngân sách nhà nước bảo đảm chi thường xuyên thuộc lĩnh vực giáo dục theo Nghị quyết của HĐND tỉnh | C30: 0
A31: =A30+1 -> 6 | B31: Chính sách hợp đồng thực hiện công việc hỗ trợ, phục vụ hoạt động thường xuyên của cơ quan đơn vị do lãnh đạo cơ quan quyết định | C31: 0
A32: =A31+1 -> 7 | B32: Mua sắm trang thiết bị, sữa chữa trường học | C32: 0
A33: =A32+1 -> 8 | B33: Kinh phí thực hiện dạy học 2 buổi/ngày năm học 2025-2026 | C33: 0
A34: =A33+1 -> 9 | B34: Kinh phí thực hiện chế độ, chính sách theo Nghị định số 154/2025/NĐ-CP ngày 15/6/2025 của Chính phủ | C34: 0
A35: =A34+1 -> 10 | B35: Kinh phí sữa chữa , bảo dưỡng nhà xe, sân trường Trường THPT Gia Nghĩa (trước sáp nhập) | C35: 0
A36: =A35+1 -> 11 | B36: Kinh phí khen thưởng năm 2026 theo nghị định 161/NĐ-CP ngày 15/05/2026 | C36: 0
A37: =A36+1 -> 12 | B37: Gia hạn phần mềm misa | C37: 0
A38: =A37+1 -> 13 | B38: Kinh phí Cấp bù học phí | C38: 0
... A45: =A44+1 -> 20 | B45: Dự toán giữ lại | C45: 0
A46: C | B46: Mã số đơn vị sử dụng ngân sách | C46: ='TONG HOP'!AG16 -> 1078714

Sheet DTNT-Đateh
A1: DỰ TOÁN THU, CHI NGÂN SÁCH NHÀ NƯỚC NĂM 2026
A2: ='TONG HOP'!B17 -> Trường PT DTNT THCS&THPT Đạ Tẻh
A3: ='TONG HOP'!A2:AH2 -> (Kèm theo Quyết định số /QĐ-SGDĐT ngày tháng 10 năm 2026 của Sở Giáo dục và Đào tạo tỉnh Lâm Đồng)
A4: Chương: 422 ; Loại: 070 ; Khoản: 074
C5: Đơn vị: đồng
A6: Nội dung | C6: Tổng số
A7: A | B7: Tổng số thu, chi, nộp ngân sách
B8: 1. Số thu | C8: =SUM(C9:C10) -> 0
B9: - Học phí | C9: 0
B10: - Thu khác | C10: 0
B11: 2. Chi từ nguồn thu được để lại | C11: =SUM(C12:C13) -> 0
B12: - Học phí | C12: 0
B13: - Thu khác | C13: 0
B14: 3. Số nộp NSNN | C14: 0
A15: B | B15: Dự toán chi ngân sách nhà nước | C15: =C17+C25 -> 0
B16: Giáo dục, đào tạo, dạy nghề
A17: I | B17: Kinh phí thực hiện tự chủ | C17: =SUM(C18:C24) -> 0
A18: 1 | B18: {=TRANSPOSE('TONG HOP'!E5:K5)} -> NSNN hỗ trợ chi thường xuyên cho đơn vị sự nghiệp công lập | C18: {=TRANSPOSE('TONG HOP'!E17:K17)} -> 0
A19: =A18+1 -> 2 | B19: Kinh phí cho hợp đồng hỗ trợ phục vụ | C19: 0
A20: =A19+1 -> 3 | B20: Chi hoạt động thường xuyên | C20: 0
A21: =A20+1 -> 4 | B21: Dự toán giữ lại | C21: 0
A22: =A21+1 -> 5 | B22: nội dung 5 | C22: 0
A23: =A22+1 -> 6 | B23: nội dung 6 | C23: 0
A24: =A23+1 -> 7 | B24: nội dung 7 | C24: 0
A25: II | B25: Kinh phí không thực hiện tự chủ | C25: =SUM(C26:C45) -> 0
A26: 1 | B26: {=TRANSPOSE('TONG HOP'!M5:AF5)} -> Kinh phí hỗ trợ chi phí học tập theo Nghị định số 238/2025/NĐ-CP | C26: {=TRANSPOSE('TONG HOP'!M17:AF17)} -> 0
A27: =A26+1 -> 2 | B27: Kinh phí hỗ trợ học bổng theo Thông tư số 42/2013/TTLT-BGDĐT-BLĐTBXH | C27: 0
A28: =A27+1 -> 3 | B28: Kinh phí hỗ trợ tiền ăn ở theo Nghị định số 66/2025/NĐ-CP | C28: 0
A29: =A28+1 -> 4 | B29: Kinh phí hỗ trợ học bổng theo Nghị định số 57/2017/NĐ-CP | C29: 0
A30: =A29+1 -> 5 | B30: Chế độ, chính sách cho hợp đồng chuyên môn, nghiệp vụ trong các đơn vị sự nghiệp công lập do ngân sách nhà nước bảo đảm chi thường xuyên thuộc lĩnh vực giáo dục theo Nghị quyết của HĐND tỉnh | C30: 0
A31: =A30+1 -> 6 | B31: Chính sách hợp đồng thực hiện công việc hỗ trợ, phục vụ hoạt động thường xuyên của cơ quan đơn vị do lãnh đạo cơ quan quyết định | C31: 0
A32: =A31+1 -> 7 | B32: Mua sắm trang thiết bị, sữa chữa trường học | C32: 0
A33: =A32+1 -> 8 | B33: Kinh phí thực hiện dạy học 2 buổi/ngày năm học 2025-2026 | C33: 0
A34: =A33+1 -> 9 | B34: Kinh phí thực hiện chế độ, chính sách theo Nghị định số 154/2025/NĐ-CP ngày 15/6/2025 của Chính phủ | C34: 0
A35: =A34+1 -> 10 | B35: Kinh phí sữa chữa , bảo dưỡng nhà xe, sân trường Trường THPT Gia Nghĩa (trước sáp nhập) | C35: 0
A36: =A35+1 -> 11 | B36: Kinh phí khen thưởng năm 2026 theo nghị định 161/NĐ-CP ngày 15/05/2026 | C36: 0
A37: =A36+1 -> 12 | B37: Gia hạn phần mềm misa | C37: 0
A38: =A37+1 -> 13 | B38: Kinh phí Cấp bù học phí | C38: 0
... A45: =A44+1 -> 20 | B45: Dự toán giữ lại | C45: 0
A46: C | B46: Mã số đơn vị sử dụng ngân sách | C46: ='TONG HOP'!AG17 -> 1072818

Sheet Chuyen TLong
A1: DỰ TOÁN THU, CHI NGÂN SÁCH NHÀ NƯỚC NĂM 2026
A2: ='TONG HOP'!B18 -> Trường THPT Chuyên Thăng Long
A3: ='TONG HOP'!A2:AH2 -> (Kèm theo Quyết định số /QĐ-SGDĐT ngày tháng 10 năm 2026 của Sở Giáo dục và Đào tạo tỉnh Lâm Đồng)
A4: Chương: 422 ; Loại: 070 ; Khoản: 074
C5: Đơn vị: đồng
A6: Nội dung | C6: Tổng số
A7: A | B7: Tổng số thu, chi, nộp ngân sách
B8: 1. Số thu | C8: =SUM(C9:C10) -> 0
B9: - Học phí | C9: 0
B10: - Thu khác | C10: 0
B11: 2. Chi từ nguồn thu được để lại | C11: =SUM(C12:C13) -> 0
B12: - Học phí | C12: 0
B13: - Thu khác | C13: 0
B14: 3. Số nộp NSNN | C14: 0
A15: B | B15: Dự toán chi ngân sách nhà nước | C15: =C17+C25 -> 0
B16: Giáo dục, đào tạo, dạy nghề
A17: I | B17: Kinh phí thực hiện tự chủ | C17: =SUM(C18:C24) -> 0
A18: 1 | B18: {=TRANSPOSE('TONG HOP'!E5:K5)} -> NSNN hỗ trợ chi thường xuyên cho đơn vị sự nghiệp công lập | C18: {=TRANSPOSE('TONG HOP'!E18:K18)} -> 0
A19: =A18+1 -> 2 | B19: Kinh phí cho hợp đồng hỗ trợ phục vụ | C19: 0
A20: =A19+1 -> 3 | B20: Chi hoạt động thường xuyên | C20: 0
A21: =A20+1 -> 4 | B21: Dự toán giữ lại | C21: 0
A22: =A21+1 -> 5 | B22: nội dung 5 | C22: 0
A23: =A22+1 -> 6 | B23: nội dung 6 | C23: 0
A24: =A23+1 -> 7 | B24: nội dung 7 | C24: 0
A25: II | B25: Kinh phí không thực hiện tự chủ | C25: =SUM(C26:C45) -> 0
A26: 1 | B26: {=TRANSPOSE('TONG HOP'!M5:AF5)} -> Kinh phí hỗ trợ chi phí học tập theo Nghị định số 238/2025/NĐ-CP | C26: {=TRANSPOSE('TONG HOP'!M18:AF18)} -> 0
A27: =A26+1 -> 2 | B27: Kinh phí hỗ trợ học bổng theo Thông tư số 42/2013/TTLT-BGDĐT-BLĐTBXH | C27: 0
A28: =A27+1 -> 3 | B28: Kinh phí hỗ trợ tiền ăn ở theo Nghị định số 66/2025/NĐ-CP | C28: 0
A29: =A28+1 -> 4 | B29: Kinh phí hỗ trợ học bổng theo Nghị định số 57/2017/NĐ-CP | C29: 0
A30: =A29+1 -> 5 | B30: Chế độ, chính sách cho hợp đồng chuyên môn, nghiệp vụ trong các đơn vị sự nghiệp công lập do ngân sách nhà nước bảo đảm chi thường xuyên thuộc lĩnh vực giáo dục theo Nghị quyết của HĐND tỉnh | C30: 0
A31: =A30+1 -> 6 | B31: Chính sách hợp đồng thực hiện công việc hỗ trợ, phục vụ hoạt động thường xuyên của cơ quan đơn vị do lãnh đạo cơ quan quyết định | C31: 0
A32: =A31+1 -> 7 | B32: Mua sắm trang thiết bị, sữa chữa trường học | C32: 0
A33: =A32+1 -> 8 | B33: Kinh phí thực hiện dạy học 2 buổi/ngày năm học 2025-2026 | C33: 0
A34: =A33+1 -> 9 | B34: Kinh phí thực hiện chế độ, chính sách theo Nghị định số 154/2025/NĐ-CP ngày 15/6/2025 của Chính phủ | C34: 0
A35: =A34+1 -> 10 | B35: Kinh phí sữa chữa , bảo dưỡng nhà xe, sân trường Trường THPT Gia Nghĩa (trước sáp nhập) | C35: 0
A36: =A35+1 -> 11 | B36: Kinh phí khen thưởng năm 2026 theo nghị định 161/NĐ-CP ngày 15/05/2026 | C36: 0
A37: =A36+1 -> 12 | B37: Gia hạn phần mềm misa | C37: 0
A38: =A37+1 -> 13 | B38: Kinh phí Cấp bù học phí | C38: 0
... A45: =A44+1 -> 20 | B45: Dự toán giữ lại | C45: 0
A46: C | B46: Mã số đơn vị sử dụng ngân sách | C46: ='TONG HOP'!AG18 -> 1078464

Sheet BTX-ĐL
A1: DỰ TOÁN THU, CHI NGÂN SÁCH NHÀ NƯỚC NĂM 2026
A2: ='TONG HOP'!B19 -> Trường THPT Bùi Thị Xuân - Đà Lạt
A3: ='TONG HOP'!A2:AH2 -> (Kèm theo Quyết định số /QĐ-SGDĐT ngày tháng 10 năm 2026 của Sở Giáo dục và Đào tạo tỉnh Lâm Đồng)
A4: Chương: 422 ; Loại: 070 ; Khoản: 074
C5: Đơn vị: đồng
A6: Nội dung | C6: Tổng số
A7: A | B7: Tổng số thu, chi, nộp ngân sách
B8: 1. Số thu | C8: =SUM(C9:C10) -> 0
B9: - Học phí | C9: 0
B10: - Thu khác | C10: 0
B11: 2. Chi từ nguồn thu được để lại | C11: =SUM(C12:C13) -> 0
B12: - Học phí | C12: 0
B13: - Thu khác | C13: 0
B14: 3. Số nộp NSNN | C14: 0
A15: B | B15: Dự toán chi ngân sách nhà nước | C15: =C17+C25 -> 0
B16: Giáo dục, đào tạo, dạy nghề
A17: I | B17: Kinh phí thực hiện tự chủ | C17: =SUM(C18:C24) -> 0
A18: 1 | B18: {=TRANSPOSE('TONG HOP'!E5:K5)} -> NSNN hỗ trợ chi thường xuyên cho đơn vị sự nghiệp công lập | C18: {=TRANSPOSE('TONG HOP'!E19:K19)} -> 0
A19: =A18+1 -> 2 | B19: Kinh phí cho hợp đồng hỗ trợ phục vụ | C19: 0
A20: =A19+1 -> 3 | B20: Chi hoạt động thường xuyên | C20: 0
A21: =A20+1 -> 4 | B21: Dự toán giữ lại | C21: 0
A22: =A21+1 -> 5 | B22: nội dung 5 | C22: 0
A23: =A22+1 -> 6 | B23: nội dung 6 | C23: 0
A24: =A23+1 -> 7 | B24: nội dung 7 | C24: 0
A25: II | B25: Kinh phí không thực hiện tự chủ | C25: =SUM(C26:C45) -> 0
A26: 1 | B26: {=TRANSPOSE('TONG HOP'!M5:AF5)} -> Kinh phí hỗ trợ chi phí học tập theo Nghị định số 238/2025/NĐ-CP | C26: {=TRANSPOSE('TONG HOP'!M19:AF19)} -> 0
A27: =A26+1 -> 2 | B27: Kinh phí hỗ trợ học bổng theo Thông tư số 42/2013/TTLT-BGDĐT-BLĐTBXH | C27: 0
A28: =A27+1 -> 3 | B28: Kinh phí hỗ trợ tiền ăn ở theo Nghị định số 66/2025/NĐ-CP | C28: 0
A29: =A28+1 -> 4 | B29: Kinh phí hỗ trợ học bổng theo Nghị định số 57/2017/NĐ-CP | C29: 0
A30: =A29+1 -> 5 | B30: Chế độ, chính sách cho hợp đồng chuyên môn, nghiệp vụ trong các đơn vị sự nghiệp công lập do ngân sách nhà nước bảo đảm chi thường xuyên thuộc lĩnh vực giáo dục theo Nghị quyết của HĐND tỉnh | C30: 0
A31: =A30+1 -> 6 | B31: Chính sách hợp đồng thực hiện công việc hỗ trợ, phục vụ hoạt động thường xuyên của cơ quan đơn vị do lãnh đạo cơ quan quyết định | C31: 0
A32: =A31+1 -> 7 | B32: Mua sắm trang thiết bị, sữa chữa trường học | C32: 0
A33: =A32+1 -> 8 | B33: Kinh phí thực hiện dạy học 2 buổi/ngày năm học 2025-2026 | C33: 0
A34: =A33+1 -> 9 | B34: Kinh phí thực hiện chế độ, chính sách theo Nghị định số 154/2025/NĐ-CP ngày 15/6/2025 của Chính phủ | C34: 0
A35: =A34+1 -> 10 | B35: Kinh phí sữa chữa , bảo dưỡng nhà xe, sân trường Trường THPT Gia Nghĩa (trước sáp nhập) | C35: 0
A36: =A35+1 -> 11 | B36: Kinh phí khen thưởng năm 2026 theo nghị định 161/NĐ-CP ngày 15/05/2026 | C36: 0
A37: =A36+1 -> 12 | B37: Gia hạn phần mềm misa | C37: 0
A38: =A37+1 -> 13 | B38: Kinh phí Cấp bù học phí | C38: 0
... A45: =A44+1 -> 20 | B45: Dự toán giữ lại | C45: 0
A46: C | B46: Mã số đơn vị sử dụng ngân sách | C46: ='TONG HOP'!AG19 -> 1078465

Sheet TPhu-ĐL
A1: DỰ TOÁN THU, CHI NGÂN SÁCH NHÀ NƯỚC NĂM 2026
A2: ='TONG HOP'!B20 -> Trường THPT Trần Phú - Đà Lạt
A3: ='TONG HOP'!A2:AH2 -> (Kèm theo Quyết định số /QĐ-SGDĐT ngày tháng 10 năm 2026 của Sở Giáo dục và Đào tạo tỉnh Lâm Đồng)
A4: Chương: 422 ; Loại: 070 ; Khoản: 074
C5: Đơn vị: đồng
A6: Nội dung | C6: Tổng số
A7: A | B7: Tổng số thu, chi, nộp ngân sách
B8: 1. Số thu | C8: =SUM(C9:C10) -> 0
B9: - Học phí | C9: 0
B10: - Thu khác | C10: 0
B11: 2. Chi từ nguồn thu được để lại | C11: =SUM(C12:C13) -> 0
B12: - Học phí | C12: 0
B13: - Thu khác | C13: 0
B14: 3. Số nộp NSNN | C14: 0
A15: B | B15: Dự toán chi ngân sách nhà nước | C15: =C17+C25 -> 0
B16: Giáo dục, đào tạo, dạy nghề
A17: I | B17: Kinh phí thực hiện tự chủ | C17: =SUM(C18:C24) -> 0
A18: 1 | B18: {=TRANSPOSE('TONG HOP'!E5:K5)} -> NSNN hỗ trợ chi thường xuyên cho đơn vị sự nghiệp công lập | C18: {=TRANSPOSE('TONG HOP'!E20:K20)} -> 0
A19: =A18+1 -> 2 | B19: Kinh phí cho hợp đồng hỗ trợ phục vụ | C19: 0
A20: =A19+1 -> 3 | B20: Chi hoạt động thường xuyên | C20: 0
A21: =A20+1 -> 4 | B21: Dự toán giữ lại | C21: 0
A22: =A21+1 -> 5 | B22: nội dung 5 | C22: 0
A23: =A22+1 -> 6 | B23: nội dung 6 | C23: 0
A24: =A23+1 -> 7 | B24: nội dung 7 | C24: 0
A25: II | B25: Kinh phí không thực hiện tự chủ | C25: =SUM(C26:C45) -> 0
A26: 1 | B26: {=TRANSPOSE('TONG HOP'!M5:AF5)} -> Kinh phí hỗ trợ chi phí học tập theo Nghị định số 238/2025/NĐ-CP | C26: {=TRANSPOSE('TONG HOP'!M20:AF20)} -> 0
A27: =A26+1 -> 2 | B27: Kinh phí hỗ trợ học bổng theo Thông tư số 42/2013/TTLT-BGDĐT-BLĐTBXH | C27: 0
A28: =A27+1 -> 3 | B28: Kinh phí hỗ trợ tiền ăn ở theo Nghị định số 66/2025/NĐ-CP | C28: 0
A29: =A28+1 -> 4 | B29: Kinh phí hỗ trợ học bổng theo Nghị định số 57/2017/NĐ-CP | C29: 0
A30: =A29+1 -> 5 | B30: Chế độ, chính sách cho hợp đồng chuyên môn, nghiệp vụ trong các đơn vị sự nghiệp công lập do ngân sách nhà nước bảo đảm chi thường xuyên thuộc lĩnh vực giáo dục theo Nghị quyết của HĐND tỉnh | C30: 0
A31: =A30+1 -> 6 | B31: Chính sách hợp đồng thực hiện công việc hỗ trợ, phục vụ hoạt động thường xuyên của cơ quan đơn vị do lãnh đạo cơ quan quyết định | C31: 0
A32: =A31+1 -> 7 | B32: Mua sắm trang thiết bị, sữa chữa trường học | C32: 0
A33: =A32+1 -> 8 | B33: Kinh phí thực hiện dạy học 2 buổi/ngày năm học 2025-2026 | C33: 0
A34: =A33+1 -> 9 | B34: Kinh phí thực hiện chế độ, chính sách theo Nghị định số 154/2025/NĐ-CP ngày 15/6/2025 của Chính phủ | C34: 0
A35: =A34+1 -> 10 | B35: Kinh phí sữa chữa , bảo dưỡng nhà xe, sân trường Trường THPT Gia Nghĩa (trước sáp nhập) | C35: 0
A36: =A35+1 -> 11 | B36: Kinh phí khen thưởng năm 2026 theo nghị định 161/NĐ-CP ngày 15/05/2026 | C36: 0
A37: =A36+1 -> 12 | B37: Gia hạn phần mềm misa | C37: 0
A38: =A37+1 -> 13 | B38: Kinh phí Cấp bù học phí | C38: 0
... A45: =A44+1 -> 20 | B45: Dự toán giữ lại | C45: 0
A46: C | B46: Mã số đơn vị sử dụng ngân sách | C46: ='TONG HOP'!AG20 -> 1078468

Sheet ĐĐa
A1: DỰ TOÁN THU, CHI NGÂN SÁCH NHÀ NƯỚC NĂM 2026
A2: ='TONG HOP'!B21 -> Trường THCS&THPT Đống Đa
A3: ='TONG HOP'!A2:AH2 -> (Kèm theo Quyết định số /QĐ-SGDĐT ngày tháng 10 năm 2026 của Sở Giáo dục và Đào tạo tỉnh Lâm Đồng)
A4: Chương: 422 ; Loại: 070 ; Khoản: 074
C5: Đơn vị: đồng
A6: Nội dung | C6: Tổng số
A7: A | B7: Tổng số thu, chi, nộp ngân sách
B8: 1. Số thu | C8: =SUM(C9:C10) -> 0
B9: - Học phí | C9: 0
B10: - Thu khác | C10: 0
B11: 2. Chi từ nguồn thu được để lại | C11: =SUM(C12:C13) -> 0
B12: - Học phí | C12: 0
B13: - Thu khác | C13: 0
B14: 3. Số nộp NSNN | C14: 0
A15: B | B15: Dự toán chi ngân sách nhà nước | C15: =C17+C25 -> 0
B16: Giáo dục, đào tạo, dạy nghề
A17: I | B17: Kinh phí thực hiện tự chủ | C17: =SUM(C18:C24) -> 0
A18: 1 | B18: {=TRANSPOSE('TONG HOP'!E5:K5)} -> NSNN hỗ trợ chi thường xuyên cho đơn vị sự nghiệp công lập | C18: {=TRANSPOSE('TONG HOP'!E21:K21)} -> 0
A19: =A18+1 -> 2 | B19: Kinh phí cho hợp đồng hỗ trợ phục vụ | C19: 0
A20: =A19+1 -> 3 | B20: Chi hoạt động thường xuyên | C20: 0
A21: =A20+1 -> 4 | B21: Dự toán giữ lại | C21: 0
A22: =A21+1 -> 5 | B22: nội dung 5 | C22: 0
A23: =A22+1 -> 6 | B23: nội dung 6 | C23: 0
A24: =A23+1 -> 7 | B24: nội dung 7 | C24: 0
A25: II | B25: Kinh phí không thực hiện tự chủ | C25: =SUM(C26:C45) -> 0
A26: 1 | B26: {=TRANSPOSE('TONG HOP'!M5:AF5)} -> Kinh phí hỗ trợ chi phí học tập theo Nghị định số 238/2025/NĐ-CP | C26: {=TRANSPOSE('TONG HOP'!M21:AF21)} -> 0
A27: =A26+1 -> 2 | B27: Kinh phí hỗ trợ học bổng theo Thông tư số 42/2013/TTLT-BGDĐT-BLĐTBXH | C27: 0
A28: =A27+1 -> 3 | B28: Kinh phí hỗ trợ tiền ăn ở theo Nghị định số 66/2025/NĐ-CP | C28: 0
A29: =A28+1 -> 4 | B29: Kinh phí hỗ trợ học bổng theo Nghị định số 57/2017/NĐ-CP | C29: 0
A30: =A29+1 -> 5 | B30: Chế độ, chính sách cho hợp đồng chuyên môn, nghiệp vụ trong các đơn vị sự nghiệp công lập do ngân sách nhà nước bảo đảm chi thường xuyên thuộc lĩnh vực giáo dục theo Nghị quyết của HĐND tỉnh | C30: 0
A31: =A30+1 -> 6 | B31: Chính sách hợp đồng thực hiện công việc hỗ trợ, phục vụ hoạt động thường xuyên của cơ quan đơn vị do lãnh đạo cơ quan quyết định | C31: 0
A32: =A31+1 -> 7 | B32: Mua sắm trang thiết bị, sữa chữa trường học | C32: 0
A33: =A32+1 -> 8 | B33: Kinh phí thực hiện dạy học 2 buổi/ngày năm học 2025-2026 | C33: 0
A34: =A33+1 -> 9 | B34: Kinh phí thực hiện chế độ, chính sách theo Nghị định số 154/2025/NĐ-CP ngày 15/6/2025 của Chính phủ | C34: 0
A35: =A34+1 -> 10 | B35: Kinh phí sữa chữa , bảo dưỡng nhà xe, sân trường Trường THPT Gia Nghĩa (trước sáp nhập) | C35: 0
A36: =A35+1 -> 11 | B36: Kinh phí khen thưởng năm 2026 theo nghị định 161/NĐ-CP ngày 15/05/2026 | C36: 0
A37: =A36+1 -> 12 | B37: Gia hạn phần mềm misa | C37: 0
A38: =A37+1 -> 13 | B38: Kinh phí Cấp bù học phí | C38: 0
... A45: =A44+1 -> 20 | B45: Dự toán giữ lại | C45: 0
A46: C | B46: Mã số đơn vị sử dụng ngân sách | C46: ='TONG HOP'!AG21 -> 1075358

Sheet TSon
A1: DỰ TOÁN THU, CHI NGÂN SÁCH NHÀ NƯỚC NĂM 2026
A2: ='TONG HOP'!B22 -> Trường THCS&THPT Tây Sơn
A3: ='TONG HOP'!A2:AH2 -> (Kèm theo Quyết định số /QĐ-SGDĐT ngày tháng 10 năm 2026 của Sở Giáo dục và Đào tạo tỉnh Lâm Đồng)
A4: Chương: 422 ; Loại: 070 ; Khoản: 074
C5: Đơn vị: đồng
A6: Nội dung | C6: Tổng số
A7: A | B7: Tổng số thu, chi, nộp ngân sách
B8: 1. Số thu | C8: =SUM(C9:C10) -> 0
B9: - Học phí | C9: 0
B10: - Thu khác | C10: 0
B11: 2. Chi từ nguồn thu được để lại | C11: =SUM(C12:C13) -> 0
B12: - Học phí | C12: 0
B13: - Thu khác | C13: 0
B14: 3. Số nộp NSNN | C14: 0
A15: B | B15: Dự toán chi ngân sách nhà nước | C15: =C17+C25 -> 0
B16: Giáo dục, đào tạo, dạy nghề
A17: I | B17: Kinh phí thực hiện tự chủ | C17: =SUM(C18:C24) -> 0
A18: 1 | B18: {=TRANSPOSE('TONG HOP'!E5:K5)} -> NSNN hỗ trợ chi thường xuyên cho đơn vị sự nghiệp công lập | C18: {=TRANSPOSE('TONG HOP'!E22:K22)} -> 0
A19: =A18+1 -> 2 | B19: Kinh phí cho hợp đồng hỗ trợ phục vụ | C19: 0
A20: =A19+1 -> 3 | B20: Chi hoạt động thường xuyên | C20: 0
A21: =A20+1 -> 4 | B21: Dự toán giữ lại | C21: 0
A22: =A21+1 -> 5 | B22: nội dung 5 | C22: 0
A23: =A22+1 -> 6 | B23: nội dung 6 | C23: 0
A24: =A23+1 -> 7 | B24: nội dung 7 | C24: 0
A25: II | B25: Kinh phí không thực hiện tự chủ | C25: =SUM(C26:C45) -> 0
A26: 1 | B26: {=TRANSPOSE('TONG HOP'!M5:AF5)} -> Kinh phí hỗ trợ chi phí học tập theo Nghị định số 238/2025/NĐ-CP | C26: {=TRANSPOSE('TONG HOP'!M22:AF22)} -> 0
A27: =A26+1 -> 2 | B27: Kinh phí hỗ trợ học bổng theo Thông tư số 42/2013/TTLT-BGDĐT-BLĐTBXH | C27: 0
A28: =A27+1 -> 3 | B28: Kinh phí hỗ trợ tiền ăn ở theo Nghị định số 66/2025/NĐ-CP | C28: 0
A29: =A28+1 -> 4 | B29: Kinh phí hỗ trợ học bổng theo Nghị định số 57/2017/NĐ-CP | C29: 0
A30: =A29+1 -> 5 | B30: Chế độ, chính sách cho hợp đồng chuyên môn, nghiệp vụ trong các đơn vị sự nghiệp công lập do ngân sách nhà nước bảo đảm chi thường xuyên thuộc lĩnh vực giáo dục theo Nghị quyết của HĐND tỉnh | C30: 0
A31: =A30+1 -> 6 | B31: Chính sách hợp đồng thực hiện công việc hỗ trợ, phục vụ hoạt động thường xuyên của cơ quan đơn vị do lãnh đạo cơ quan quyết định | C31: 0
A32: =A31+1 -> 7 | B32: Mua sắm trang thiết bị, sữa chữa trường học | C32: 0
A33: =A32+1 -> 8 | B33: Kinh phí thực hiện dạy học 2 buổi/ngày năm học 2025-2026 | C33: 0
A34: =A33+1 -> 9 | B34: Kinh phí thực hiện chế độ, chính sách theo Nghị định số 154/2025/NĐ-CP ngày 15/6/2025 của Chính phủ | C34: 0
A35: =A34+1 -> 10 | B35: Kinh phí sữa chữa , bảo dưỡng nhà xe, sân trường Trường THPT Gia Nghĩa (trước sáp nhập) | C35: 0
A36: =A35+1 -> 11 | B36: Kinh phí khen thưởng năm 2026 theo nghị định 161/NĐ-CP ngày 15/05/2026 | C36: 0
A37: =A36+1 -> 12 | B37: Gia hạn phần mềm misa | C37: 0
A38: =A37+1 -> 13 | B38: Kinh phí Cấp bù học phí | C38: 0
... A45: =A44+1 -> 20 | B45: Dự toán giữ lại | C45: 0
A46: C | B46: Mã số đơn vị sử dụng ngân sách | C46: ='TONG HOP'!AG22 -> 1075357

Sheet CLang
A1: DỰ TOÁN THU, CHI NGÂN SÁCH NHÀ NƯỚC NĂM 2026
A2: ='TONG HOP'!B23 -> Trường THCS&THPT Chi Lăng
A3: ='TONG HOP'!A2:AH2 -> (Kèm theo Quyết định số /QĐ-SGDĐT ngày tháng 10 năm 2026 của Sở Giáo dục và Đào tạo tỉnh Lâm Đồng)
A4: Chương: 422 ; Loại: 070 ; Khoản: 074
C5: Đơn vị: đồng
A6: Nội dung | C6: Tổng số
A7: A | B7: Tổng số thu, chi, nộp ngân sách
B8: 1. Số thu | C8: =SUM(C9:C10) -> 0
B9: - Học phí | C9: 0
B10: - Thu khác | C10: 0
B11: 2. Chi từ nguồn thu được để lại | C11: =SUM(C12:C13) -> 0
B12: - Học phí | C12: 0
B13: - Thu khác | C13: 0
B14: 3. Số nộp NSNN | C14: 0
A15: B | B15: Dự toán chi ngân sách nhà nước | C15: =C17+C25 -> 0
B16: Giáo dục, đào tạo, dạy nghề
A17: I | B17: Kinh phí thực hiện tự chủ | C17: =SUM(C18:C24) -> 0
A18: 1 | B18: {=TRANSPOSE('TONG HOP'!E5:K5)} -> NSNN hỗ trợ chi thường xuyên cho đơn vị sự nghiệp công lập | C18: {=TRANSPOSE('TONG HOP'!E23:K23)} -> 0
A19: =A18+1 -> 2 | B19: Kinh phí cho hợp đồng hỗ trợ phục vụ | C19: 0
A20: =A19+1 -> 3 | B20: Chi hoạt động thường xuyên | C20: 0
A21: =A20+1 -> 4 | B21: Dự toán giữ lại | C21: 0
A22: =A21+1 -> 5 | B22: nội dung 5 | C22: 0
A23: =A22+1 -> 6 | B23: nội dung 6 | C23: 0
A24: =A23+1 -> 7 | B24: nội dung 7 | C24: 0
A25: II | B25: Kinh phí không thực hiện tự chủ | C25: =SUM(C26:C45) -> 0
A26: 1 | B26: {=TRANSPOSE('TONG HOP'!M5:AF5)} -> Kinh phí hỗ trợ chi phí học tập theo Nghị định số 238/2025/NĐ-CP | C26: {=TRANSPOSE('TONG HOP'!M23:AF23)} -> 0
A27: =A26+1 -> 2 | B27: Kinh phí hỗ trợ học bổng theo Thông tư số 42/2013/TTLT-BGDĐT-BLĐTBXH | C27: 0
A28: =A27+1 -> 3 | B28: Kinh phí hỗ trợ tiền ăn ở theo Nghị định số 66/2025/NĐ-CP | C28: 0
A29: =A28+1 -> 4 | B29: Kinh phí hỗ trợ học bổng theo Nghị định số 57/2017/NĐ-CP | C29: 0
A30: =A29+1 -> 5 | B30: Chế độ, chính sách cho hợp đồng chuyên môn, nghiệp vụ trong các đơn vị sự nghiệp công lập do ngân sách nhà nước bảo đảm chi thường xuyên thuộc lĩnh vực giáo dục theo Nghị quyết của HĐND tỉnh | C30: 0
A31: =A30+1 -> 6 | B31: Chính sách hợp đồng thực hiện công việc hỗ trợ, phục vụ hoạt động thường xuyên của cơ quan đơn vị do lãnh đạo cơ quan quyết định | C31: 0
A32: =A31+1 -> 7 | B32: Mua sắm trang thiết bị, sữa chữa trường học | C32: 0
A33: =A32+1 -> 8 | B33: Kinh phí thực hiện dạy học 2 buổi/ngày năm học 2025-2026 | C33: 0
A34: =A33+1 -> 9 | B34: Kinh phí thực hiện chế độ, chính sách theo Nghị định số 154/2025/NĐ-CP ngày 15/6/2025 của Chính phủ | C34: 0
A35: =A34+1 -> 10 | B35: Kinh phí sữa chữa , bảo dưỡng nhà xe, sân trường Trường THPT Gia Nghĩa (trước sáp nhập) | C35: 0
A36: =A35+1 -> 11 | B36: Kinh phí khen thưởng năm 2026 theo nghị định 161/NĐ-CP ngày 15/05/2026 | C36: 0
A37: =A36+1 -> 12 | B37: Gia hạn phần mềm misa | C37: 0
A38: =A37+1 -> 13 | B38: Kinh phí Cấp bù học phí | C38: 0
... A45: =A44+1 -> 20 | B45: Dự toán giữ lại | C45: 0
A46: C | B46: Mã số đơn vị sử dụng ngân sách | C46: ='TONG HOP'!AG23 -> 1078467

Sheet TNung
A1: DỰ TOÁN THU, CHI NGÂN SÁCH NHÀ NƯỚC NĂM 2026
A2: ='TONG HOP'!B24 -> Trường THCS&THPT Tà Nung
A3: ='TONG HOP'!A2:AH2 -> (Kèm theo Quyết định số /QĐ-SGDĐT ngày tháng 10 năm 2026 của Sở Giáo dục và Đào tạo tỉnh Lâm Đồng)
A4: Chương: 422 ; Loại: 070 ; Khoản: 074
C5: Đơn vị: đồng
A6: Nội dung | C6: Tổng số
A7: A | B7: Tổng số thu, chi, nộp ngân sách
B8: 1. Số thu | C8: =SUM(C9:C10) -> 0
B9: - Học phí | C9: 0
B10: - Thu khác | C10: 0
B11: 2. Chi từ nguồn thu được để lại | C11: =SUM(C12:C13) -> 0
B12: - Học phí | C12: 0
B13: - Thu khác | C13: 0
B14: 3. Số nộp NSNN | C14: 0
A15: B | B15: Dự toán chi ngân sách nhà nước | C15: =C17+C25 -> 0
B16: Giáo dục, đào tạo, dạy nghề
A17: I | B17: Kinh phí thực hiện tự chủ | C17: =SUM(C18:C24) -> 0
A18: 1 | B18: {=TRANSPOSE('TONG HOP'!E5:K5)} -> NSNN hỗ trợ chi thường xuyên cho đơn vị sự nghiệp công lập | C18: {=TRANSPOSE('TONG HOP'!E24:K24)} -> 0
A19: =A18+1 -> 2 | B19: Kinh phí cho hợp đồng hỗ trợ phục vụ | C19: 0
A20: =A19+1 -> 3 | B20: Chi hoạt động thường xuyên | C20: 0
A21: =A20+1 -> 4 | B21: Dự toán giữ lại | C21: 0
A22: =A21+1 -> 5 | B22: nội dung 5 | C22: 0
A23: =A22+1 -> 6 | B23: nội dung 6 | C23: 0
A24: =A23+1 -> 7 | B24: nội dung 7 | C24: 0
A25: II | B25: Kinh phí không thực hiện tự chủ | C25: =SUM(C26:C45) -> 0
A26: 1 | B26: {=TRANSPOSE('TONG HOP'!M5:AF5)} -> Kinh phí hỗ trợ chi phí học tập theo Nghị định số 238/2025/NĐ-CP | C26: {=TRANSPOSE('TONG HOP'!M24:AF24)} -> 0
A27: =A26+1 -> 2 | B27: Kinh phí hỗ trợ học bổng theo Thông tư số 42/2013/TTLT-BGDĐT-BLĐTBXH | C27: 0
A28: =A27+1 -> 3 | B28: Kinh phí hỗ trợ tiền ăn ở theo Nghị định số 66/2025/NĐ-CP | C28: 0
A29: =A28+1 -> 4 | B29: Kinh phí hỗ trợ học bổng theo Nghị định số 57/2017/NĐ-CP | C29: 0
A30: =A29+1 -> 5 | B30: Chế độ, chính sách cho hợp đồng chuyên môn, nghiệp vụ trong các đơn vị sự nghiệp công lập do ngân sách nhà nước bảo đảm chi thường xuyên thuộc lĩnh vực giáo dục theo Nghị quyết của HĐND tỉnh | C30: 0
A31: =A30+1 -> 6 | B31: Chính sách hợp đồng thực hiện công việc hỗ trợ, phục vụ hoạt động thường xuyên của cơ quan đơn vị do lãnh đạo cơ quan quyết định | C31: 0
A32: =A31+1 -> 7 | B32: Mua sắm trang thiết bị, sữa chữa trường học | C32: 0
A33: =A32+1 -> 8 | B33: Kinh phí thực hiện dạy học 2 buổi/ngày năm học 2025-2026 | C33: 0
A34: =A33+1 -> 9 | B34: Kinh phí thực hiện chế độ, chính sách theo Nghị định số 154/2025/NĐ-CP ngày 15/6/2025 của Chính phủ | C34: 0
A35: =A34+1 -> 10 | B35: Kinh phí sữa chữa , bảo dưỡng nhà xe, sân trường Trường THPT Gia Nghĩa (trước sáp nhập) | C35: 0
A36: =A35+1 -> 11 | B36: Kinh phí khen thưởng năm 2026 theo nghị định 161/NĐ-CP ngày 15/05/2026 | C36: 0
A37: =A36+1 -> 12 | B37: Gia hạn phần mềm misa | C37: 0
A38: =A37+1 -> 13 | B38: Kinh phí Cấp bù học phí | C38: 0
... A45: =A44+1 -> 20 | B45: Dự toán giữ lại | C45: 0
A46: C | B46: Mã số đơn vị sử dụng ngân sách | C46: ='TONG HOP'!AG24 -> 1083484

Sheet XTruong
A1: DỰ TOÁN THU, CHI NGÂN SÁCH NHÀ NƯỚC NĂM 2026
A2: ='TONG HOP'!B25 -> Trường THCS&THPT Xuân Trường
A3: ='TONG HOP'!A2:AH2 -> (Kèm theo Quyết định số /QĐ-SGDĐT ngày tháng 10 năm 2026 của Sở Giáo dục và Đào tạo tỉnh Lâm Đồng)
A4: Chương: 422 ; Loại: 070 ; Khoản: 074
C5: Đơn vị: đồng
A6: Nội dung | C6: Tổng số
A7: A | B7: Tổng số thu, chi, nộp ngân sách
B8: 1. Số thu | C8: =SUM(C9:C10) -> 0
B9: - Học phí | C9: 0
B10: - Thu khác | C10: 0
B11: 2. Chi từ nguồn thu được để lại | C11: =SUM(C12:C13) -> 0
B12: - Học phí | C12: 0
B13: - Thu khác | C13: 0
B14: 3. Số nộp NSNN | C14: 0
A15: B | B15: Dự toán chi ngân sách nhà nước | C15: =C17+C25 -> 0
B16: Giáo dục, đào tạo, dạy nghề
A17: I | B17: Kinh phí thực hiện tự chủ | C17: =SUM(C18:C24) -> 0
A18: 1 | B18: {=TRANSPOSE('TONG HOP'!E5:K5)} -> NSNN hỗ trợ chi thường xuyên cho đơn vị sự nghiệp công lập | C18: {=TRANSPOSE('TONG HOP'!E25:K25)} -> 0
A19: =A18+1 -> 2 | B19: Kinh phí cho hợp đồng hỗ trợ phục vụ | C19: 0
A20: =A19+1 -> 3 | B20: Chi hoạt động thường xuyên | C20: 0
A21: =A20+1 -> 4 | B21: Dự toán giữ lại | C21: 0
A22: =A21+1 -> 5 | B22: nội dung 5 | C22: 0
A23: =A22+1 -> 6 | B23: nội dung 6 | C23: 0
A24: =A23+1 -> 7 | B24: nội dung 7 | C24: 0
A25: II | B25: Kinh phí không thực hiện tự chủ | C25: =SUM(C26:C45) -> 0
A26: 1 | B26: {=TRANSPOSE('TONG HOP'!M5:AF5)} -> Kinh phí hỗ trợ chi phí học tập theo Nghị định số 238/2025/NĐ-CP | C26: {=TRANSPOSE('TONG HOP'!M25:AF25)} -> 0
A27: =A26+1 -> 2 | B27: Kinh phí hỗ trợ học bổng theo Thông tư số 42/2013/TTLT-BGDĐT-BLĐTBXH | C27: 0
A28: =A27+1 -> 3 | B28: Kinh phí hỗ trợ tiền ăn ở theo Nghị định số 66/2025/NĐ-CP | C28: 0
A29: =A28+1 -> 4 | B29: Kinh phí hỗ trợ học bổng theo Nghị định số 57/2017/NĐ-CP | C29: 0
A30: =A29+1 -> 5 | B30: Chế độ, chính sách cho hợp đồng chuyên môn, nghiệp vụ trong các đơn vị sự nghiệp công lập do ngân sách nhà nước bảo đảm chi thường xuyên thuộc lĩnh vực giáo dục theo Nghị quyết của HĐND tỉnh | C30: 0
A31: =A30+1 -> 6 | B31: Chính sách hợp đồng thực hiện công việc hỗ trợ, phục vụ hoạt động thường xuyên của cơ quan đơn vị do lãnh đạo cơ quan quyết định | C31: 0
A32: =A31+1 -> 7 | B32: Mua sắm trang thiết bị, sữa chữa trường học | C32: 0
A33: =A32+1 -> 8 | B33: Kinh phí thực hiện dạy học 2 buổi/ngày năm học 2025-2026 | C33: 0
A34: =A33+1 -> 9 | B34: Kinh phí thực hiện chế độ, chính sách theo Nghị định số 154/2025/NĐ-CP ngày 15/6/2025 của Chính phủ | C34: 0
A35: =A34+1 -> 10 | B35: Kinh phí sữa chữa , bảo dưỡng nhà xe, sân trường Trường THPT Gia Nghĩa (trước sáp nhập) | C35: 0
A36: =A35+1 -> 11 | B36: Kinh phí khen thưởng năm 2026 theo nghị định 161/NĐ-CP ngày 15/05/2026 | C36: 0
A37: =A36+1 -> 12 | B37: Gia hạn phần mềm misa | C37: 0
A38: =A37+1 -> 13 | B38: Kinh phí Cấp bù học phí | C38: 0
... A45: =A44+1 -> 20 | B45: Dự toán giữ lại | C45: 0
A46: C | B46: Mã số đơn vị sử dụng ngân sách | C46: ='TONG HOP'!AG25 -> 1078716

Sheet LBiang
A1: DỰ TOÁN THU, CHI NGÂN SÁCH NHÀ NƯỚC NĂM 2026
A2: ='TONG HOP'!B26 -> Trường THCS&THPT Lang Biang
A3: ='TONG HOP'!A2:AH2 -> (Kèm theo Quyết định số /QĐ-SGDĐT ngày tháng 10 năm 2026 của Sở Giáo dục và Đào tạo tỉnh Lâm Đồng)
A4: Chương: 422 ; Loại: 070 ; Khoản: 074
C5: Đơn vị: đồng
A6: Nội dung | C6: Tổng số
A7: A | B7: Tổng số thu, chi, nộp ngân sách
B8: 1. Số thu | C8: =SUM(C9:C10) -> 0
B9: - Học phí | C9: 0
B10: - Thu khác | C10: 0
B11: 2. Chi từ nguồn thu được để lại | C11: =SUM(C12:C13) -> 0
B12: - Học phí | C12: 0
B13: - Thu khác | C13: 0
B14: 3. Số nộp NSNN | C14: 0
B15: Dự toán chi ngân sách nhà nước | C15: =C17+C25 -> 0
B16: Giáo dục, đào tạo, dạy nghề
A17: I | B17: Kinh phí thực hiện tự chủ | C17: =SUM(C18:C24) -> 0
A18: 1 | B18: {=TRANSPOSE('TONG HOP'!E5:K5)} -> NSNN hỗ trợ chi thường xuyên cho đơn vị sự nghiệp công lập | C18: {=TRANSPOSE('TONG HOP'!E26:K26)} -> 0
A19: =A18+1 -> 2 | B19: Kinh phí cho hợp đồng hỗ trợ phục vụ | C19: 0
A20: =A19+1 -> 3 | B20: Chi hoạt động thường xuyên | C20: 0
A21: =A20+1 -> 4 | B21: Dự toán giữ lại | C21: 0
A22: =A21+1 -> 5 | B22: nội dung 5 | C22: 0
A23: =A22+1 -> 6 | B23: nội dung 6 | C23: 0
A24: =A23+1 -> 7 | B24: nội dung 7 | C24: 0
A25: II | B25: Kinh phí không thực hiện tự chủ | C25: =SUM(C26:C45) -> 0
A26: 1 | B26: {=TRANSPOSE('TONG HOP'!M5:AF5)} -> Kinh phí hỗ trợ chi phí học tập theo Nghị định số 238/2025/NĐ-CP | C26: {=TRANSPOSE('TONG HOP'!M26:AF26)} -> 0
A27: =A26+1 -> 2 | B27: Kinh phí hỗ trợ học bổng theo Thông tư số 42/2013/TTLT-BGDĐT-BLĐTBXH | C27: 0
A28: =A27+1 -> 3 | B28: Kinh phí hỗ trợ tiền ăn ở theo Nghị định số 66/2025/NĐ-CP | C28: 0
A29: =A28+1 -> 4 | B29: Kinh phí hỗ trợ học bổng theo Nghị định số 57/2017/NĐ-CP | C29: 0
A30: =A29+1 -> 5 | B30: Chế độ, chính sách cho hợp đồng chuyên môn, nghiệp vụ trong các đơn vị sự nghiệp công lập do ngân sách nhà nước bảo đảm chi thường xuyên thuộc lĩnh vực giáo dục theo Nghị quyết của HĐND tỉnh | C30: 0
A31: =A30+1 -> 6 | B31: Chính sách hợp đồng thực hiện công việc hỗ trợ, phục vụ hoạt động thường xuyên của cơ quan đơn vị do lãnh đạo cơ quan quyết định | C31: 0
A32: =A31+1 -> 7 | B32: Mua sắm trang thiết bị, sữa chữa trường học | C32: 0
A33: =A32+1 -> 8 | B33: Kinh phí thực hiện dạy học 2 buổi/ngày năm học 2025-2026 | C33: 0
A34: =A33+1 -> 9 | B34: Kinh phí thực hiện chế độ, chính sách theo Nghị định số 154/2025/NĐ-CP ngày 15/6/2025 của Chính phủ | C34: 0
A35: =A34+1 -> 10 | B35: Kinh phí sữa chữa , bảo dưỡng nhà xe, sân trường Trường THPT Gia Nghĩa (trước sáp nhập) | C35: 0
A36: =A35+1 -> 11 | B36: Kinh phí khen thưởng năm 2026 theo nghị định 161/NĐ-CP ngày 15/05/2026 | C36: 0
A37: =A36+1 -> 12 | B37: Gia hạn phần mềm misa | C37: 0
A38: =A37+1 -> 13 | B38: Kinh phí Cấp bù học phí | C38: 0
... A45: =A44+1 -> 20 | B45: Dự toán giữ lại | C45: 0
A46: C | B46: Mã số đơn vị sử dụng ngân sách | C46: ='TONG HOP'!AG26 -> 0

Sheet ĐSar
A1: DỰ TOÁN THU, CHI NGÂN SÁCH NHÀ NƯỚC NĂM 2026
A2: ='TONG HOP'!B27 -> Trường THCS&THPT Đạ Sar
A3: ='TONG HOP'!A2:AH2 -> (Kèm theo Quyết định số /QĐ-SGDĐT ngày tháng 10 năm 2026 của Sở Giáo dục và Đào tạo tỉnh Lâm Đồng)
A4: Chương: 422 ; Loại: 070 ; Khoản: 074
C5: Đơn vị: đồng
A6: Nội dung | C6: Tổng số
A7: A | B7: Tổng số thu, chi, nộp ngân sách
B8: 1. Số thu | C8: =SUM(C9:C10) -> 0
B9: - Học phí | C9: 0
B10: - Thu khác | C10: 0
B11: 2. Chi từ nguồn thu được để lại | C11: =SUM(C12:C13) -> 0
B12: - Học phí | C12: 0
B13: - Thu khác | C13: 0
B14: 3. Số nộp NSNN | C14: 0
B15: Dự toán chi ngân sách nhà nước | C15: =C17+C25 -> 0
B16: Giáo dục, đào tạo, dạy nghề
A17: I | B17: Kinh phí thực hiện tự chủ | C17: =SUM(C18:C24) -> 0
A18: 1 | B18: {=TRANSPOSE('TONG HOP'!E5:K5)} -> NSNN hỗ trợ chi thường xuyên cho đơn vị sự nghiệp công lập | C18: {=TRANSPOSE('TONG HOP'!E27:K27)} -> 0
A19: =A18+1 -> 2 | B19: Kinh phí cho hợp đồng hỗ trợ phục vụ | C19: 0
A20: =A19+1 -> 3 | B20: Chi hoạt động thường xuyên | C20: 0
A21: =A20+1 -> 4 | B21: Dự toán giữ lại | C21: 0
A22: =A21+1 -> 5 | B22: nội dung 5 | C22: 0
A23: =A22+1 -> 6 | B23: nội dung 6 | C23: 0
A24: =A23+1 -> 7 | B24: nội dung 7 | C24: 0
A25: II | B25: Kinh phí không thực hiện tự chủ | C25: =SUM(C26:C45) -> 0
A26: 1 | B26: {=TRANSPOSE('TONG HOP'!M5:AF5)} -> Kinh phí hỗ trợ chi phí học tập theo Nghị định số 238/2025/NĐ-CP | C26: {=TRANSPOSE('TONG HOP'!M27:AF27)} -> 0
A27: =A26+1 -> 2 | B27: Kinh phí hỗ trợ học bổng theo Thông tư số 42/2013/TTLT-BGDĐT-BLĐTBXH | C27: 0
A28: =A27+1 -> 3 | B28: Kinh phí hỗ trợ tiền ăn ở theo Nghị định số 66/2025/NĐ-CP | C28: 0
A29: =A28+1 -> 4 | B29: Kinh phí hỗ trợ học bổng theo Nghị định số 57/2017/NĐ-CP | C29: 0
A30: =A29+1 -> 5 | B30: Chế độ, chính sách cho hợp đồng chuyên môn, nghiệp vụ trong các đơn vị sự nghiệp công lập do ngân sách nhà nước bảo đảm chi thường xuyên thuộc lĩnh vực giáo dục theo Nghị quyết của HĐND tỉnh | C30: 0
A31: =A30+1 -> 6 | B31: Chính sách hợp đồng thực hiện công việc hỗ trợ, phục vụ hoạt động thường xuyên của cơ quan đơn vị do lãnh đạo cơ quan quyết định | C31: 0
A32: =A31+1 -> 7 | B32: Mua sắm trang thiết bị, sữa chữa trường học | C32: 0
A33: =A32+1 -> 8 | B33: Kinh phí thực hiện dạy học 2 buổi/ngày năm học 2025-2026 | C33: 0
A34: =A33+1 -> 9 | B34: Kinh phí thực hiện chế độ, chính sách theo Nghị định số 154/2025/NĐ-CP ngày 15/6/2025 của Chính phủ | C34: 0
A35: =A34+1 -> 10 | B35: Kinh phí sữa chữa , bảo dưỡng nhà xe, sân trường Trường THPT Gia Nghĩa (trước sáp nhập) | C35: 0
A36: =A35+1 -> 11 | B36: Kinh phí khen thưởng năm 2026 theo nghị định 161/NĐ-CP ngày 15/05/2026 | C36: 0
A37: =A36+1 -> 12 | B37: Gia hạn phần mềm misa | C37: 0
A38: =A37+1 -> 13 | B38: Kinh phí Cấp bù học phí | C38: 0
... A45: =A44+1 -> 20 | B45: Dự toán giữ lại | C45: 0
A46: C | B46: Mã số đơn vị sử dụng ngân sách | C46: ='TONG HOP'!AG27 -> 1083721

Sheet ĐNhim
A1: DỰ TOÁN THU, CHI NGÂN SÁCH NHÀ NƯỚC NĂM 2026
A2: ='TONG HOP'!B28 -> Trường THCS&THPT Đạ Nhim
A3: ='TONG HOP'!A2:AH2 -> (Kèm theo Quyết định số /QĐ-SGDĐT ngày tháng 10 năm 2026 của Sở Giáo dục và Đào tạo tỉnh Lâm Đồng)
A4: Chương: 422 ; Loại: 070 ; Khoản: 074
C5: Đơn vị: đồng
A6: Nội dung | C6: Tổng số
A7: A | B7: Tổng số thu, chi, nộp ngân sách
B8: 1. Số thu | C8: =SUM(C9:C10) -> 0
B9: - Học phí | C9: 0
B10: - Thu khác | C10: 0
B11: 2. Chi từ nguồn thu được để lại | C11: =SUM(C12:C13) -> 0
B12: - Học phí | C12: 0
B13: - Thu khác | C13: 0
B14: 3. Số nộp NSNN | C14: 0
A15: B | B15: Dự toán chi ngân sách nhà nước | C15: =C17+C25 -> 0
B16: Giáo dục, đào tạo, dạy nghề
A17: I | B17: Kinh phí thực hiện tự chủ | C17: =SUM(C18:C24) -> 0
A18: 1 | B18: {=TRANSPOSE('TONG HOP'!E5:K5)} -> NSNN hỗ trợ chi thường xuyên cho đơn vị sự nghiệp công lập | C18: {=TRANSPOSE('TONG HOP'!E28:K28)} -> 0
A19: =A18+1 -> 2 | B19: Kinh phí cho hợp đồng hỗ trợ phục vụ | C19: 0
A20: =A19+1 -> 3 | B20: Chi hoạt động thường xuyên | C20: 0
A21: =A20+1 -> 4 | B21: Dự toán giữ lại | C21: 0
A22: =A21+1 -> 5 | B22: nội dung 5 | C22: 0
A23: =A22+1 -> 6 | B23: nội dung 6 | C23: 0
A24: =A23+1 -> 7 | B24: nội dung 7 | C24: 0
A25: II | B25: Kinh phí không thực hiện tự chủ | C25: =SUM(C26:C45) -> 0
A26: 1 | B26: {=TRANSPOSE('TONG HOP'!M5:AF5)} -> Kinh phí hỗ trợ chi phí học tập theo Nghị định số 238/2025/NĐ-CP | C26: {=TRANSPOSE('TONG HOP'!M28:AF28)} -> 0
A27: =A26+1 -> 2 | B27: Kinh phí hỗ trợ học bổng theo Thông tư số 42/2013/TTLT-BGDĐT-BLĐTBXH | C27: 0
A28: =A27+1 -> 3 | B28: Kinh phí hỗ trợ tiền ăn ở theo Nghị định số 66/2025/NĐ-CP | C28: 0
A29: =A28+1 -> 4 | B29: Kinh phí hỗ trợ học bổng theo Nghị định số 57/2017/NĐ-CP | C29: 0
A30: =A29+1 -> 5 | B30: Chế độ, chính sách cho hợp đồng chuyên môn, nghiệp vụ trong các đơn vị sự nghiệp công lập do ngân sách nhà nước bảo đảm chi thường xuyên thuộc lĩnh vực giáo dục theo Nghị quyết của HĐND tỉnh | C30: 0
A31: =A30+1 -> 6 | B31: Chính sách hợp đồng thực hiện công việc hỗ trợ, phục vụ hoạt động thường xuyên của cơ quan đơn vị do lãnh đạo cơ quan quyết định | C31: 0
A32: =A31+1 -> 7 | B32: Mua sắm trang thiết bị, sữa chữa trường học | C32: 0
A33: =A32+1 -> 8 | B33: Kinh phí thực hiện dạy học 2 buổi/ngày năm học 2025-2026 | C33: 0
A34: =A33+1 -> 9 | B34: Kinh phí thực hiện chế độ, chính sách theo Nghị định số 154/2025/NĐ-CP ngày 15/6/2025 của Chính phủ | C34: 0
A35: =A34+1 -> 10 | B35: Kinh phí sữa chữa , bảo dưỡng nhà xe, sân trường Trường THPT Gia Nghĩa (trước sáp nhập) | C35: 0
A36: =A35+1 -> 11 | B36: Kinh phí khen thưởng năm 2026 theo nghị định 161/NĐ-CP ngày 15/05/2026 | C36: 0
A37: =A36+1 -> 12 | B37: Gia hạn phần mềm misa | C37: 0
A38: =A37+1 -> 13 | B38: Kinh phí Cấp bù học phí | C38: 0
... A45: =A44+1 -> 20 | B45: Dự toán giữ lại | C45: 0
A46: C | B46: Mã số đơn vị sử dụng ngân sách | C46: ='TONG HOP'!AG28 -> 1083613

Sheet ĐDuong
A1: DỰ TOÁN THU, CHI NGÂN SÁCH NHÀ NƯỚC NĂM 2026
A2: ='TONG HOP'!B29 -> Trường THPT Đơn Dương
A3: ='TONG HOP'!A2:AH2 -> (Kèm theo Quyết định số /QĐ-SGDĐT ngày tháng 10 năm 2026 của Sở Giáo dục và Đào tạo tỉnh Lâm Đồng)
A4: Chương: 422 ; Loại: 070 ; Khoản: 074
C5: Đơn vị: đồng
A6: Nội dung | C6: Tổng số
A7: A | B7: Tổng số thu, chi, nộp ngân sách
B8: 1. Số thu | C8: =SUM(C9:C10) -> 0
B9: - Học phí | C9: 0
B10: - Thu khác | C10: 0
B11: 2. Chi từ nguồn thu được để lại | C11: =SUM(C12:C13) -> 0
B12: - Học phí | C12: 0
B13: - Thu khác | C13: 0
B14: 3. Số nộp NSNN | C14: 0
A15: B | B15: Dự toán chi ngân sách nhà nước | C15: =C17+C25 -> 0
B16: Giáo dục, đào tạo, dạy nghề
A17: I | B17: Kinh phí thực hiện tự chủ | C17: =SUM(C18:C24) -> 0
A18: 1 | B18: {=TRANSPOSE('TONG HOP'!E5:K5)} -> NSNN hỗ trợ chi thường xuyên cho đơn vị sự nghiệp công lập | C18: {=TRANSPOSE('TONG HOP'!E29:K29)} -> 0
A19: =A18+1 -> 2 | B19: Kinh phí cho hợp đồng hỗ trợ phục vụ | C19: 0
A20: =A19+1 -> 3 | B20: Chi hoạt động thường xuyên | C20: 0
A21: =A20+1 -> 4 | B21: Dự toán giữ lại | C21: 0
A22: =A21+1 -> 5 | B22: nội dung 5 | C22: 0
A23: =A22+1 -> 6 | B23: nội dung 6 | C23: 0
A24: =A23+1 -> 7 | B24: nội dung 7 | C24: 0
A25: II | B25: Kinh phí không thực hiện tự chủ | C25: =SUM(C26:C45) -> 0
A26: 1 | B26: {=TRANSPOSE('TONG HOP'!M5:AF5)} -> Kinh phí hỗ trợ chi phí học tập theo Nghị định số 238/2025/NĐ-CP | C26: {=TRANSPOSE('TONG HOP'!M29:AF29)} -> 0
A27: =A26+1 -> 2 | B27: Kinh phí hỗ trợ học bổng theo Thông tư số 42/2013/TTLT-BGDĐT-BLĐTBXH | C27: 0
A28: =A27+1 -> 3 | B28: Kinh phí hỗ trợ tiền ăn ở theo Nghị định số 66/2025/NĐ-CP | C28: 0
A29: =A28+1 -> 4 | B29: Kinh phí hỗ trợ học bổng theo Nghị định số 57/2017/NĐ-CP | C29: 0
A30: =A29+1 -> 5 | B30: Chế độ, chính sách cho hợp đồng chuyên môn, nghiệp vụ trong các đơn vị sự nghiệp công lập do ngân sách nhà nước bảo đảm chi thường xuyên thuộc lĩnh vực giáo dục theo Nghị quyết của HĐND tỉnh | C30: 0
A31: =A30+1 -> 6 | B31: Chính sách hợp đồng thực hiện công việc hỗ trợ, phục vụ hoạt động thường xuyên của cơ quan đơn vị do lãnh đạo cơ quan quyết định | C31: 0
A32: =A31+1 -> 7 | B32: Mua sắm trang thiết bị, sữa chữa trường học | C32: 0
A33: =A32+1 -> 8 | B33: Kinh phí thực hiện dạy học 2 buổi/ngày năm học 2025-2026 | C33: 0
A34: =A33+1 -> 9 | B34: Kinh phí thực hiện chế độ, chính sách theo Nghị định số 154/2025/NĐ-CP ngày 15/6/2025 của Chính phủ | C34: 0
A35: =A34+1 -> 10 | B35: Kinh phí sữa chữa , bảo dưỡng nhà xe, sân trường Trường THPT Gia Nghĩa (trước sáp nhập) | C35: 0
A36: =A35+1 -> 11 | B36: Kinh phí khen thưởng năm 2026 theo nghị định 161/NĐ-CP ngày 15/05/2026 | C36: 0
A37: =A36+1 -> 12 | B37: Gia hạn phần mềm misa | C37: 0
A38: =A37+1 -> 13 | B38: Kinh phí Cấp bù học phí | C38: 0
... A45: =A44+1 -> 20 | B45: Dự toán giữ lại | C45: 0
A46: C | B46: Mã số đơn vị sử dụng ngân sách | C46: ='TONG HOP'!AG29 -> 1078726

Sheet HV-Dran
A1: DỰ TOÁN THU, CHI NGÂN SÁCH NHÀ NƯỚC NĂM 2026
A2: ='TONG HOP'!B30 -> Trường THPT Hùng Vương - D'Ran
A3: ='TONG HOP'!A2:AH2 -> (Kèm theo Quyết định số /QĐ-SGDĐT ngày tháng 10 năm 2026 của Sở Giáo dục và Đào tạo tỉnh Lâm Đồng)
A4: Chương: 422 ; Loại: 070 ; Khoản: 074
C5: Đơn vị: đồng
A6: Nội dung | C6: Tổng số
A7: A | B7: Tổng số thu, chi, nộp ngân sách
B8: 1. Số thu | C8: =SUM(C9:C10) -> 0
B9: - Học phí | C9: 0
B10: - Thu khác | C10: 0
B11: 2. Chi từ nguồn thu được để lại | C11: =SUM(C12:C13) -> 0
B12: - Học phí | C12: 0
B13: - Thu khác | C13: 0
B14: 3. Số nộp NSNN | C14: 0
A15: B | B15: Dự toán chi ngân sách nhà nước | C15: =C17+C25 -> 0
B16: Giáo dục, đào tạo, dạy nghề
A17: I | B17: Kinh phí thực hiện tự chủ | C17: =SUM(C18:C24) -> 0
A18: 1 | B18: {=TRANSPOSE('TONG HOP'!E5:K5)} -> NSNN hỗ trợ chi thường xuyên cho đơn vị sự nghiệp công lập | C18: {=TRANSPOSE('TONG HOP'!E30:K30)} -> 0
A19: =A18+1 -> 2 | B19: Kinh phí cho hợp đồng hỗ trợ phục vụ | C19: 0
A20: =A19+1 -> 3 | B20: Chi hoạt động thường xuyên | C20: 0
A21: =A20+1 -> 4 | B21: Dự toán giữ lại | C21: 0
A22: =A21+1 -> 5 | B22: nội dung 5 | C22: 0
A23: =A22+1 -> 6 | B23: nội dung 6 | C23: 0
A24: =A23+1 -> 7 | B24: nội dung 7 | C24: 0
A25: II | B25: Kinh phí không thực hiện tự chủ | C25: =SUM(C26:C45) -> 0
A26: 1 | B26: {=TRANSPOSE('TONG HOP'!M5:AF5)} -> Kinh phí hỗ trợ chi phí học tập theo Nghị định số 238/2025/NĐ-CP | C26: {=TRANSPOSE('TONG HOP'!M30:AF30)} -> 0
A27: =A26+1 -> 2 | B27: Kinh phí hỗ trợ học bổng theo Thông tư số 42/2013/TTLT-BGDĐT-BLĐTBXH | C27: 0
A28: =A27+1 -> 3 | B28: Kinh phí hỗ trợ tiền ăn ở theo Nghị định số 66/2025/NĐ-CP | C28: 0
A29: =A28+1 -> 4 | B29: Kinh phí hỗ trợ học bổng theo Nghị định số 57/2017/NĐ-CP | C29: 0
A30: =A29+1 -> 5 | B30: Chế độ, chính sách cho hợp đồng chuyên môn, nghiệp vụ trong các đơn vị sự nghiệp công lập do ngân sách nhà nước bảo đảm chi thường xuyên thuộc lĩnh vực giáo dục theo Nghị quyết của HĐND tỉnh | C30: 0
A31: =A30+1 -> 6 | B31: Chính sách hợp đồng thực hiện công việc hỗ trợ, phục vụ hoạt động thường xuyên của cơ quan đơn vị do lãnh đạo cơ quan quyết định | C31: 0
A32: =A31+1 -> 7 | B32: Mua sắm trang thiết bị, sữa chữa trường học | C32: 0
A33: =A32+1 -> 8 | B33: Kinh phí thực hiện dạy học 2 buổi/ngày năm học 2025-2026 | C33: 0
A34: =A33+1 -> 9 | B34: Kinh phí thực hiện chế độ, chính sách theo Nghị định số 154/2025/NĐ-CP ngày 15/6/2025 của Chính phủ | C34: 0
A35: =A34+1 -> 10 | B35: Kinh phí sữa chữa , bảo dưỡng nhà xe, sân trường Trường THPT Gia Nghĩa (trước sáp nhập) | C35: 0
A36: =A35+1 -> 11 | B36: Kinh phí khen thưởng năm 2026 theo nghị định 161/NĐ-CP ngày 15/05/2026 | C36: 0
A37: =A36+1 -> 12 | B37: Gia hạn phần mềm misa | C37: 0
A38: =A37+1 -> 13 | B38: Kinh phí Cấp bù học phí | C38: 0
... A45: =A44+1 -> 20 | B45: Dự toán giữ lại | C45: 0
A46: C | B46: Mã số đơn vị sử dụng ngân sách | C46: ='TONG HOP'!AG30 -> 1115635

Sheet Pro
A1: DỰ TOÁN THU, CHI NGÂN SÁCH NHÀ NƯỚC NĂM 2026
A2: ='TONG HOP'!B31 -> Trường THPT P' Ró
A3: ='TONG HOP'!A2:AH2 -> (Kèm theo Quyết định số /QĐ-SGDĐT ngày tháng 10 năm 2026 của Sở Giáo dục và Đào tạo tỉnh Lâm Đồng)
A4: Chương: 422 ; Loại: 070 ; Khoản: 074
C5: Đơn vị: đồng
A6: Nội dung | C6: Tổng số
A7: A | B7: Tổng số thu, chi, nộp ngân sách
B8: 1. Số thu | C8: =SUM(C9:C10) -> 0
B9: - Học phí | C9: 0
B10: - Thu khác | C10: 0
B11: 2. Chi từ nguồn thu được để lại | C11: =SUM(C12:C13) -> 0
B12: - Học phí | C12: 0
B13: - Thu khác | C13: 0
B14: 3. Số nộp NSNN | C14: 0
A15: B | B15: Dự toán chi ngân sách nhà nước | C15: =C17+C25 -> 0
B16: Giáo dục, đào tạo, dạy nghề
A17: I | B17: Kinh phí thực hiện tự chủ | C17: =SUM(C18:C24) -> 0
A18: 1 | B18: {=TRANSPOSE('TONG HOP'!E5:K5)} -> NSNN hỗ trợ chi thường xuyên cho đơn vị sự nghiệp công lập | C18: {=TRANSPOSE('TONG HOP'!E31:K31)} -> 0
A19: =A18+1 -> 2 | B19: Kinh phí cho hợp đồng hỗ trợ phục vụ | C19: 0
A20: =A19+1 -> 3 | B20: Chi hoạt động thường xuyên | C20: 0
A21: =A20+1 -> 4 | B21: Dự toán giữ lại | C21: 0
A22: =A21+1 -> 5 | B22: nội dung 5 | C22: 0
A23: =A22+1 -> 6 | B23: nội dung 6 | C23: 0
A24: =A23+1 -> 7 | B24: nội dung 7 | C24: 0
A25: II | B25: Kinh phí không thực hiện tự chủ | C25: =SUM(C26:C45) -> 0
A26: 1 | B26: {=TRANSPOSE('TONG HOP'!M5:AF5)} -> Kinh phí hỗ trợ chi phí học tập theo Nghị định số 238/2025/NĐ-CP | C26: {=TRANSPOSE('TONG HOP'!M31:AF31)} -> 0
A27: =A26+1 -> 2 | B27: Kinh phí hỗ trợ học bổng theo Thông tư số 42/2013/TTLT-BGDĐT-BLĐTBXH | C27: 0
A28: =A27+1 -> 3 | B28: Kinh phí hỗ trợ tiền ăn ở theo Nghị định số 66/2025/NĐ-CP | C28: 0
A29: =A28+1 -> 4 | B29: Kinh phí hỗ trợ học bổng theo Nghị định số 57/2017/NĐ-CP | C29: 0
A30: =A29+1 -> 5 | B30: Chế độ, chính sách cho hợp đồng chuyên môn, nghiệp vụ trong các đơn vị sự nghiệp công lập do ngân sách nhà nước bảo đảm chi thường xuyên thuộc lĩnh vực giáo dục theo Nghị quyết của HĐND tỉnh | C30: 0
A31: =A30+1 -> 6 | B31: Chính sách hợp đồng thực hiện công việc hỗ trợ, phục vụ hoạt động thường xuyên của cơ quan đơn vị do lãnh đạo cơ quan quyết định | C31: 0
A32: =A31+1 -> 7 | B32: Mua sắm trang thiết bị, sữa chữa trường học | C32: 0
A33: =A32+1 -> 8 | B33: Kinh phí thực hiện dạy học 2 buổi/ngày năm học 2025-2026 | C33: 0
A34: =A33+1 -> 9 | B34: Kinh phí thực hiện chế độ, chính sách theo Nghị định số 154/2025/NĐ-CP ngày 15/6/2025 của Chính phủ | C34: 0
A35: =A34+1 -> 10 | B35: Kinh phí sữa chữa , bảo dưỡng nhà xe, sân trường Trường THPT Gia Nghĩa (trước sáp nhập) | C35: 0
A36: =A35+1 -> 11 | B36: Kinh phí khen thưởng năm 2026 theo nghị định 161/NĐ-CP ngày 15/05/2026 | C36: 0
A37: =A36+1 -> 12 | B37: Gia hạn phần mềm misa | C37: 0
A38: =A37+1 -> 13 | B38: Kinh phí Cấp bù học phí | C38: 0
... A45: =A44+1 -> 20 | B45: Dự toán giữ lại | C45: 0
A46: C | B46: Mã số đơn vị sử dụng ngân sách | C46: ='TONG HOP'!AG31 -> 1071851

Sheet ĐTrong
A1: DỰ TOÁN THU, CHI NGÂN SÁCH NHÀ NƯỚC NĂM 2026
A2: ='TONG HOP'!B32 -> Trường THPT Đức Trọng
A3: ='TONG HOP'!A2:AH2 -> (Kèm theo Quyết định số /QĐ-SGDĐT ngày tháng 10 năm 2026 của Sở Giáo dục và Đào tạo tỉnh Lâm Đồng)
A4: Chương: 422 ; Loại: 070 ; Khoản: 074
C5: Đơn vị: đồng
A6: Nội dung | C6: Tổng số
A7: A | B7: Tổng số thu, chi, nộp ngân sách
B8: 1. Số thu | C8: =SUM(C9:C10) -> 0
B9: - Học phí | C9: 0
B10: - Thu khác | C10: 0
B11: 2. Chi từ nguồn thu được để lại | C11: =SUM(C12:C13) -> 0
B12: - Học phí | C12: 0
B13: - Thu khác | C13: 0
B14: 3. Số nộp NSNN | C14: 0
A15: B | B15: Dự toán chi ngân sách nhà nước | C15: =C17+C25 -> 0
B16: Giáo dục, đào tạo, dạy nghề
A17: I | B17: Kinh phí thực hiện tự chủ | C17: =SUM(C18:C24) -> 0
A18: 1 | B18: {=TRANSPOSE('TONG HOP'!E5:K5)} -> NSNN hỗ trợ chi thường xuyên cho đơn vị sự nghiệp công lập | C18: {=TRANSPOSE('TONG HOP'!E32:K32)} -> 0
A19: =A18+1 -> 2 | B19: Kinh phí cho hợp đồng hỗ trợ phục vụ | C19: 0
A20: =A19+1 -> 3 | B20: Chi hoạt động thường xuyên | C20: 0
A21: =A20+1 -> 4 | B21: Dự toán giữ lại | C21: 0
A22: =A21+1 -> 5 | B22: nội dung 5 | C22: 0
A23: =A22+1 -> 6 | B23: nội dung 6 | C23: 0
A24: =A23+1 -> 7 | B24: nội dung 7 | C24: 0
A25: II | B25: Kinh phí không thực hiện tự chủ | C25: =SUM(C26:C45) -> 0
A26: 1 | B26: {=TRANSPOSE('TONG HOP'!M5:AF5)} -> Kinh phí hỗ trợ chi phí học tập theo Nghị định số 238/2025/NĐ-CP | C26: {=TRANSPOSE('TONG HOP'!M32:AF32)} -> 0
A27: =A26+1 -> 2 | B27: Kinh phí hỗ trợ học bổng theo Thông tư số 42/2013/TTLT-BGDĐT-BLĐTBXH | C27: 0
A28: =A27+1 -> 3 | B28: Kinh phí hỗ trợ tiền ăn ở theo Nghị định số 66/2025/NĐ-CP | C28: 0
A29: =A28+1 -> 4 | B29: Kinh phí hỗ trợ học bổng theo Nghị định số 57/2017/NĐ-CP | C29: 0
A30: =A29+1 -> 5 | B30: Chế độ, chính sách cho hợp đồng chuyên môn, nghiệp vụ trong các đơn vị sự nghiệp công lập do ngân sách nhà nước bảo đảm chi thường xuyên thuộc lĩnh vực giáo dục theo Nghị quyết của HĐND tỉnh | C30: 0
A31: =A30+1 -> 6 | B31: Chính sách hợp đồng thực hiện công việc hỗ trợ, phục vụ hoạt động thường xuyên của cơ quan đơn vị do lãnh đạo cơ quan quyết định | C31: 0
A32: =A31+1 -> 7 | B32: Mua sắm trang thiết bị, sữa chữa trường học | C32: 0
A33: =A32+1 -> 8 | B33: Kinh phí thực hiện dạy học 2 buổi/ngày năm học 2025-2026 | C33: 0
A34: =A33+1 -> 9 | B34: Kinh phí thực hiện chế độ, chính sách theo Nghị định số 154/2025/NĐ-CP ngày 15/6/2025 của Chính phủ | C34: 0
A35: =A34+1 -> 10 | B35: Kinh phí sữa chữa , bảo dưỡng nhà xe, sân trường Trường THPT Gia Nghĩa (trước sáp nhập) | C35: 0
A36: =A35+1 -> 11 | B36: Kinh phí khen thưởng năm 2026 theo nghị định 161/NĐ-CP ngày 15/05/2026 | C36: 0
A37: =A36+1 -> 12 | B37: Gia hạn phần mềm misa | C37: 0
A38: =A37+1 -> 13 | B38: Kinh phí Cấp bù học phí | C38: 0
... A45: =A44+1 -> 20 | B45: Dự toán giữ lại | C45: 0
A46: C | B46: Mã số đơn vị sử dụng ngân sách | C46: ='TONG HOP'!AG32 -> 1078717

Sheet HHTham
A1: DỰ TOÁN THU, CHI NGÂN SÁCH NHÀ NƯỚC NĂM 2026
A2: ='TONG HOP'!B33 -> Trường THPT Hoàng Hoa Thám
A3: ='TONG HOP'!A2:AH2 -> (Kèm theo Quyết định số /QĐ-SGDĐT ngày tháng 10 năm 2026 của Sở Giáo dục và Đào tạo tỉnh Lâm Đồng)
A4: Chương: 422 ; Loại: 070 ; Khoản: 074
C5: Đơn vị: đồng
A6: Nội dung | C6: Tổng số
A7: A | B7: Tổng số thu, chi, nộp ngân sách
B8: 1. Số thu | C8: =SUM(C9:C10) -> 0
B9: - Học phí | C9: 0
B10: - Thu khác | C10: 0
B11: 2. Chi từ nguồn thu được để lại | C11: =SUM(C12:C13) -> 0
B12: - Học phí | C12: 0
B13: - Thu khác | C13: 0
B14: 3. Số nộp NSNN | C14: 0
B15: Dự toán chi ngân sách nhà nước | C15: =C17+C25 -> 0
B16: Giáo dục, đào tạo, dạy nghề
A17: I | B17: Kinh phí thực hiện tự chủ | C17: =SUM(C18:C24) -> 0
A18: 1 | B18: {=TRANSPOSE('TONG HOP'!E5:K5)} -> NSNN hỗ trợ chi thường xuyên cho đơn vị sự nghiệp công lập | C18: {=TRANSPOSE('TONG HOP'!E33:K33)} -> 0
A19: =A18+1 -> 2 | B19: Kinh phí cho hợp đồng hỗ trợ phục vụ | C19: 0
A20: =A19+1 -> 3 | B20: Chi hoạt động thường xuyên | C20: 0
A21: =A20+1 -> 4 | B21: Dự toán giữ lại | C21: 0
A22: =A21+1 -> 5 | B22: nội dung 5 | C22: 0
A23: =A22+1 -> 6 | B23: nội dung 6 | C23: 0
A24: =A23+1 -> 7 | B24: nội dung 7 | C24: 0
A25: II | B25: Kinh phí không thực hiện tự chủ | C25: =SUM(C26:C45) -> 0
A26: 1 | B26: {=TRANSPOSE('TONG HOP'!M5:AF5)} -> Kinh phí hỗ trợ chi phí học tập theo Nghị định số 238/2025/NĐ-CP | C26: {=TRANSPOSE('TONG HOP'!M33:AF33)} -> 0
A27: =A26+1 -> 2 | B27: Kinh phí hỗ trợ học bổng theo Thông tư số 42/2013/TTLT-BGDĐT-BLĐTBXH | C27: 0
A28: =A27+1 -> 3 | B28: Kinh phí hỗ trợ tiền ăn ở theo Nghị định số 66/2025/NĐ-CP | C28: 0
A29: =A28+1 -> 4 | B29: Kinh phí hỗ trợ học bổng theo Nghị định số 57/2017/NĐ-CP | C29: 0
A30: =A29+1 -> 5 | B30: Chế độ, chính sách cho hợp đồng chuyên môn, nghiệp vụ trong các đơn vị sự nghiệp công lập do ngân sách nhà nước bảo đảm chi thường xuyên thuộc lĩnh vực giáo dục theo Nghị quyết của HĐND tỉnh | C30: 0
A31: =A30+1 -> 6 | B31: Chính sách hợp đồng thực hiện công việc hỗ trợ, phục vụ hoạt động thường xuyên của cơ quan đơn vị do lãnh đạo cơ quan quyết định | C31: 0
A32: =A31+1 -> 7 | B32: Mua sắm trang thiết bị, sữa chữa trường học | C32: 0
A33: =A32+1 -> 8 | B33: Kinh phí thực hiện dạy học 2 buổi/ngày năm học 2025-2026 | C33: 0
A34: =A33+1 -> 9 | B34: Kinh phí thực hiện chế độ, chính sách theo Nghị định số 154/2025/NĐ-CP ngày 15/6/2025 của Chính phủ | C34: 0
A35: =A34+1 -> 10 | B35: Kinh phí sữa chữa , bảo dưỡng nhà xe, sân trường Trường THPT Gia Nghĩa (trước sáp nhập) | C35: 0
A36: =A35+1 -> 11 | B36: Kinh phí khen thưởng năm 2026 theo nghị định 161/NĐ-CP ngày 15/05/2026 | C36: 0
A37: =A36+1 -> 12 | B37: Gia hạn phần mềm misa | C37: 0
A38: =A37+1 -> 13 | B38: Kinh phí Cấp bù học phí | C38: 0
... A45: =A44+1 -> 20 | B45: Dự toán giữ lại | C45: 0
A46: C | B46: Mã số đơn vị sử dụng ngân sách | C46: ='TONG HOP'!AG33 -> 1083714

Sheet NTBinh
A1: DỰ TOÁN CHI NGÂN SÁCH NHÀ NƯỚC NĂM 2026 SAU SÁP NHẬP (ĐỢT 2)
A2: ='TONG HOP'!B34 -> Trường THCS&THPT Nguyễn Thái Bình
A3: ='TONG HOP'!A2:AH2 -> (Kèm theo Quyết định số /QĐ-SGDĐT ngày tháng 10 năm 2026 của Sở Giáo dục và Đào tạo tỉnh Lâm Đồng)
A4: Chương: 422 ; Loại: 070 ; Khoản: 074
C5: Đơn vị: đồng
A6: Nội dung | C6: Tổng số
A7: A | B7: Tổng số thu, chi, nộp ngân sách
B8: 1. Số thu | C8: =SUM(C9:C10) -> 0
B9: - Học phí | C9: 0
B10: - Thu khác | C10: 0
B11: 2. Chi từ nguồn thu được để lại | C11: =SUM(C12:C13) -> 0
B12: - Học phí | C12: 0
B13: - Thu khác | C13: 0
B14: 3. Số nộp NSNN | C14: 0
B15: Dự toán chi ngân sách nhà nước | C15: =C17+C25 -> 19301782440
B16: Giáo dục, đào tạo, dạy nghề
A17: I | B17: Kinh phí thực hiện tự chủ | C17: =SUM(C18:C24) -> 18274280000
A18: 1 | B18: {=TRANSPOSE('TONG HOP'!E5:K5)} -> NSNN hỗ trợ chi thường xuyên cho đơn vị sự nghiệp công lập | C18: {=TRANSPOSE('TONG HOP'!E34:K34)} -> 16084749000
A19: =A18+1 -> 2 | B19: Kinh phí cho hợp đồng hỗ trợ phục vụ | C19: 0
A20: 2 | B20: Chi hoạt động thường xuyên | C20: 1943867784
A21: 3 | B21: Dự toán giữ lại | C21: 245663216
A22: =A21+1 -> 4 | B22: nội dung 5 | C22: 0
A23: =A22+1 -> 5 | B23: nội dung 6 | C23: 0
A24: =A23+1 -> 6 | B24: nội dung 7 | C24: 0
A25: II | B25: Kinh phí không thực hiện tự chủ | C25: =SUM(C26:C45) -> 1027502440
A26: 1 | B26: {=TRANSPOSE('TONG HOP'!M5:AF5)} -> Kinh phí hỗ trợ chi phí học tập theo Nghị định số 238/2025/NĐ-CP | C26: {=TRANSPOSE('TONG HOP'!M34:AF34)} -> 35370000
A27: =A26+1 -> 2 | B27: Kinh phí hỗ trợ học bổng theo Thông tư số 42/2013/TTLT-BGDĐT-BLĐTBXH | C27: 0
A28: =A27+1 -> 3 | B28: Kinh phí hỗ trợ tiền ăn ở theo Nghị định số 66/2025/NĐ-CP | C28: 0
A29: =A28+1 -> 4 | B29: Kinh phí hỗ trợ học bổng theo Nghị định số 57/2017/NĐ-CP | C29: 0
A30: 2 | B30: Chế độ, chính sách cho hợp đồng chuyên môn, nghiệp vụ trong các đơn vị sự nghiệp công lập do ngân sách nhà nước bảo đảm chi thường xuyên thuộc lĩnh vực giáo dục theo Nghị quyết của HĐND tỉnh | C30: 589132440
A31: 3 | B31: Chính sách hợp đồng thực hiện công việc hỗ trợ, phục vụ hoạt động thường xuyên của cơ quan đơn vị do lãnh đạo cơ quan quyết định | C31: 144000000
A32: =A31+1 -> 4 | B32: Mua sắm trang thiết bị, sữa chữa trường học | C32: 0
A33: 4 | B33: Kinh phí thực hiện dạy học 2 buổi/ngày năm học 2025-2026 | C33: 259000000
A34: 5 | B34: Kinh phí thực hiện chế độ, chính sách theo Nghị định số 154/2025/NĐ-CP ngày 15/6/2025 của Chính phủ | C34: 0
A35: =A34+1 -> 6 | B35: Kinh phí sữa chữa , bảo dưỡng nhà xe, sân trường Trường THPT Gia Nghĩa (trước sáp nhập) | C35: 0
A36: =A35+1 -> 7 | B36: Kinh phí khen thưởng năm 2026 theo nghị định 161/NĐ-CP ngày 15/05/2026 | C36: 0
A37: =A36+1 -> 8 | B37: Gia hạn phần mềm misa | C37: 0
A38: =A37+1 -> 9 | B38: Kinh phí Cấp bù học phí | C38: 0
A39: =A38+1 -> 10 | B39: Kinh phí Đảng | C39: 0
A40: =A39+1 -> 11 | B40: Chế độ bồi dưỡng và chế độ trang phục đối với giáo viên thể dục | C40: 0
A41: 5 | B41: Kinh phí thực hiện cho giáo viên dạy cho học sinh khuyết tật theo Nghị định 28/2012/NĐ-CP | C41: 0
A42: =A41+1 -> 6 | B42: Kinh phí thực hiện CCTL | C42: 0
A43: =A42+1 -> 7 | B43: Kinh phí bổ sung dự toán chi NSNN năm 2026 để thực hiện truy lĩnh kinh phí phụ cấp độc hại, nguy hiểm đối với nhân viên thiết bị, thí nghiệm | C43: 0
A44: =A43+1 -> 8 | B44: Dự toán giữ lại | C44: 0
A45: =A44+1 -> 9 | B45: Dự toán giữ lại | C45: 0
A46: C | B46: Mã số đơn vị sử dụng ngân sách | C46: ='TONG HOP'!AG34 -> 1178001

Sheet NBK-TaHine
A1: DỰ TOÁN CHI NGÂN SÁCH NHÀ NƯỚC NĂM 2026 SAU SÁP NHẬP (ĐỢT 2)
A2: ='TONG HOP'!B35 -> Trường THCS&THPT Nguyễn Bỉnh Khiêm
A3: ='TONG HOP'!A2:AH2 -> (Kèm theo Quyết định số /QĐ-SGDĐT ngày tháng 10 năm 2026 của Sở Giáo dục và Đào tạo tỉnh Lâm Đồng)
A4: Chương: 422 ; Loại: 070 ; Khoản: 074
C5: Đơn vị: đồng
A6: Nội dung | C6: Tổng số
A7: A | B7: Tổng số thu, chi, nộp ngân sách
B8: 1. Số thu | C8: =SUM(C9:C10) -> 0
B9: - Học phí | C9: 0
B10: - Thu khác | C10: 0
B11: 2. Chi từ nguồn thu được để lại | C11: =SUM(C12:C13) -> 0
B12: - Học phí | C12: 0
B13: - Thu khác | C13: 0
B14: 3. Số nộp NSNN | C14: 0
B15: Dự toán chi ngân sách nhà nước | C15: =C17+C25 -> 13691993344
B16: Giáo dục, đào tạo, dạy nghề
A17: I | B17: Kinh phí thực hiện tự chủ | C17: =SUM(C18:C24) -> 10344141000
A18: 1 | B18: {=TRANSPOSE('TONG HOP'!E5:K5)} -> NSNN hỗ trợ chi thường xuyên cho đơn vị sự nghiệp công lập | C18: {=TRANSPOSE('TONG HOP'!E35:K35)} -> 9113781000
A19: =A18+1 -> 2 | B19: Kinh phí cho hợp đồng hỗ trợ phục vụ | C19: 0
A20: 2 | B20: Chi hoạt động thường xuyên | C20: 1083505647
A21: 3 | B21: Dự toán giữ lại | C21: 146854353
A22: =A21+1 -> 4 | B22: nội dung 5 | C22: 0
A23: =A22+1 -> 5 | B23: nội dung 6 | C23: 0
A24: =A23+1 -> 6 | B24: nội dung 7 | C24: 0
A25: II | B25: Kinh phí không thực hiện tự chủ | C25: =SUM(C26:C45) -> 3347852344
A26: 1 | B26: {=TRANSPOSE('TONG HOP'!M5:AF5)} -> Kinh phí hỗ trợ chi phí học tập theo Nghị định số 238/2025/NĐ-CP | C26: {=TRANSPOSE('TONG HOP'!M35:AF35)} -> 48636000
A27: =A26+1 -> 2 | B27: Kinh phí hỗ trợ học bổng theo Thông tư số 42/2013/TTLT-BGDĐT-BLĐTBXH | C27: 35696000
A28: =A27+1 -> 3 | B28: Kinh phí hỗ trợ tiền ăn ở theo Nghị định số 66/2025/NĐ-CP | C28: 1049760000
A29: =A28+1 -> 4 | B29: Kinh phí hỗ trợ học bổng theo Nghị định số 57/2017/NĐ-CP | C29: 0
A30: 4 | B30: Chế độ, chính sách cho hợp đồng chuyên môn, nghiệp vụ trong các đơn vị sự nghiệp công lập do ngân sách nhà nước bảo đảm chi thường xuyên thuộc lĩnh vực giáo dục theo Nghị quyết của HĐND tỉnh | C30: 1677760344
A31: 5 | B31: Chính sách hợp đồng thực hiện công việc hỗ trợ, phục vụ hoạt động thường xuyên của cơ quan đơn vị do lãnh đạo cơ quan quyết định | C31: 144000000
A32: =A31+1 -> 6 | B32: Mua sắm trang thiết bị, sữa chữa trường học | C32: 0
A33: 6 | B33: Kinh phí thực hiện dạy học 2 buổi/ngày năm học 2025-2026 | C33: 392000000
A34: =A33+1 -> 7 | B34: Kinh phí thực hiện chế độ, chính sách theo Nghị định số 154/2025/NĐ-CP ngày 15/6/2025 của Chính phủ | C34: 0
A35: =A34+1 -> 8 | B35: Kinh phí sữa chữa , bảo dưỡng nhà xe, sân trường Trường THPT Gia Nghĩa (trước sáp nhập) | C35: 0
A36: =A35+1 -> 9 | B36: Kinh phí khen thưởng năm 2026 theo nghị định 161/NĐ-CP ngày 15/05/2026 | C36: 0
A37: =A36+1 -> 10 | B37: Gia hạn phần mềm misa | C37: 0
A38: 7 | B38: Kinh phí Cấp bù học phí | C38: 0
A39: =A38+1 -> 8 | B39: Kinh phí Đảng | C39: 0
A40: =A39+1 -> 9 | B40: Chế độ bồi dưỡng và chế độ trang phục đối với giáo viên thể dục | C40: 0
A41: 8 | B41: Kinh phí thực hiện cho giáo viên dạy cho học sinh khuyết tật theo Nghị định 28/2012/NĐ-CP | C41: 0
A42: =A41+1 -> 9 | B42: Kinh phí thực hiện CCTL | C42: 0
A43: =A42+1 -> 10 | B43: Kinh phí bổ sung dự toán chi NSNN năm 2026 để thực hiện truy lĩnh kinh phí phụ cấp độc hại, nguy hiểm đối với nhân viên thiết bị, thí nghiệm | C43: 0
A44: =A43+1 -> 11 | B44: Dự toán giữ lại | C44: 0
A45: =A44+1 -> 12 | B45: Dự toán giữ lại | C45: 0
A46: C | B46: Mã số đơn vị sử dụng ngân sách | C46: ='TONG HOP'!AG35 -> 1178191

Sheet CVA-HThanh
A1: DỰ TOÁN CHI NGÂN SÁCH NHÀ NƯỚC NĂM 2026 SAU SÁP NHẬP (ĐỢT 2)
A2: ='TONG HOP'!B36 -> Trường THCS&THPT Chu Văn An - Hiệp Thạnh
A3: ='TONG HOP'!A2:AH2 -> (Kèm theo Quyết định số /QĐ-SGDĐT ngày tháng 10 năm 2026 của Sở Giáo dục và Đào tạo tỉnh Lâm Đồng)
A4: Chương: 422 ; Loại: 070 ; Khoản: 074
C5: Đơn vị: đồng
A6: Nội dung | C6: Tổng số
A7: A | B7: Tổng số thu, chi, nộp ngân sách
B8: 1. Số thu | C8: =SUM(C9:C10) -> 0
B9: - Học phí | C9: 0
B10: - Thu khác | C10: 0
B11: 2. Chi từ nguồn thu được để lại | C11: =SUM(C12:C13) -> 0
B12: - Học phí | C12: 0
B13: - Thu khác | C13: 0
B14: 3. Số nộp NSNN | C14: 0
B15: Dự toán chi ngân sách nhà nước | C15: =C17+C25 -> 13124432928
B16: Giáo dục, đào tạo, dạy nghề
A17: I | B17: Kinh phí thực hiện tự chủ | C17: =SUM(C18:C24) -> 11928524000
A18: 1 | B18: {=TRANSPOSE('TONG HOP'!E5:K5)} -> NSNN hỗ trợ chi thường xuyên cho đơn vị sự nghiệp công lập | C18: {=TRANSPOSE('TONG HOP'!E36:K36)} -> 10501387000
A19: =A18+1 -> 2 | B19: Kinh phí cho hợp đồng hỗ trợ phục vụ | C19: 0
A20: 2 | B20: Chi hoạt động thường xuyên | C20: 1269575256
A21: 3 | B21: Dự toán giữ lại | C21: 157561744
A22: =A21+1 -> 4 | B22: nội dung 5 | C22: 0
A23: =A22+1 -> 5 | B23: nội dung 6 | C23: 0
A24: =A23+1 -> 6 | B24: nội dung 7 | C24: 0
A25: II | B25: Kinh phí không thực hiện tự chủ | C25: =SUM(C26:C45) -> 1195908928
A26: 1 | B26: {=TRANSPOSE('TONG HOP'!M5:AF5)} -> Kinh phí hỗ trợ chi phí học tập theo Nghị định số 238/2025/NĐ-CP | C26: {=TRANSPOSE('TONG HOP'!M36:AF36)} -> 22950000
A27: =A26+1 -> 2 | B27: Kinh phí hỗ trợ học bổng theo Thông tư số 42/2013/TTLT-BGDĐT-BLĐTBXH | C27: 0
A28: =A27+1 -> 3 | B28: Kinh phí hỗ trợ tiền ăn ở theo Nghị định số 66/2025/NĐ-CP | C28: 0
A29: =A28+1 -> 4 | B29: Kinh phí hỗ trợ học bổng theo Nghị định số 57/2017/NĐ-CP | C29: 0
A30: 2 | B30: Chế độ, chính sách cho hợp đồng chuyên môn, nghiệp vụ trong các đơn vị sự nghiệp công lập do ngân sách nhà nước bảo đảm chi thường xuyên thuộc lĩnh vực giáo dục theo Nghị quyết của HĐND tỉnh | C30: 706958928
A31: 3 | B31: Chính sách hợp đồng thực hiện công việc hỗ trợ, phục vụ hoạt động thường xuyên của cơ quan đơn vị do lãnh đạo cơ quan quyết định | C31: 144000000
A32: =A31+1 -> 4 | B32: Mua sắm trang thiết bị, sữa chữa trường học | C32: 0
A33: 4 | B33: Kinh phí thực hiện dạy học 2 buổi/ngày năm học 2025-2026 | C33: 322000000
A34: =A33+1 -> 5 | B34: Kinh phí thực hiện chế độ, chính sách theo Nghị định số 154/2025/NĐ-CP ngày 15/6/2025 của Chính phủ | C34: 0
A35: =A34+1 -> 6 | B35: Kinh phí sữa chữa , bảo dưỡng nhà xe, sân trường Trường THPT Gia Nghĩa (trước sáp nhập) | C35: 0
A36: =A35+1 -> 7 | B36: Kinh phí khen thưởng năm 2026 theo nghị định 161/NĐ-CP ngày 15/05/2026 | C36: 0
A37: =A36+1 -> 8 | B37: Gia hạn phần mềm misa | C37: 0
A38: =A37+1 -> 9 | B38: Kinh phí Cấp bù học phí | C38: 0
A39: =A38+1 -> 10 | B39: Kinh phí Đảng | C39: 0
A40: =A39+1 -> 11 | B40: Chế độ bồi dưỡng và chế độ trang phục đối với giáo viên thể dục | C40: 0
A41: 5 | B41: Kinh phí thực hiện cho giáo viên dạy cho học sinh khuyết tật theo Nghị định 28/2012/NĐ-CP | C41: 0
A42: =A41+1 -> 6 | B42: Kinh phí thực hiện CCTL | C42: 0
A43: =A42+1 -> 7 | B43: Kinh phí bổ sung dự toán chi NSNN năm 2026 để thực hiện truy lĩnh kinh phí phụ cấp độc hại, nguy hiểm đối với nhân viên thiết bị, thí nghiệm | C43: 0
A44: =A43+1 -> 8 | B44: Dự toán giữ lại | C44: 0
A45: =A44+1 -> 9 | B45: Dự toán giữ lại | C45: 0
A46: C | B46: Mã số đơn vị sử dụng ngân sách | C46: ='TONG HOP'!AG36 -> 1178005

Sheet LTV-ĐTrong
A1: DỰ TOÁN THU, CHI NGÂN SÁCH NHÀ NƯỚC NĂM 2026
A2: ='TONG HOP'!B37 -> Trường THPT Lương Thế Vinh - Đức Trọng
A3: ='TONG HOP'!A2:AH2 -> (Kèm theo Quyết định số /QĐ-SGDĐT ngày tháng 10 năm 2026 của Sở Giáo dục và Đào tạo tỉnh Lâm Đồng)
A4: Chương: 422 ; Loại: 070 ; Khoản: 074
C5: Đơn vị: đồng
A6: Nội dung | C6: Tổng số
A7: A | B7: Tổng số thu, chi, nộp ngân sách
B8: 1. Số thu | C8: =SUM(C9:C10) -> 0
B9: - Học phí | C9: 0
B10: - Thu khác | C10: 0
B11: 2. Chi từ nguồn thu được để lại | C11: =SUM(C12:C13) -> 0
B12: - Học phí | C12: 0
B13: - Thu khác | C13: 0
B14: 3. Số nộp NSNN | C14: 0
A15: B | B15: Dự toán chi ngân sách nhà nước | C15: =C17+C25 -> 0
B16: Giáo dục, đào tạo, dạy nghề
A17: I | B17: Kinh phí thực hiện tự chủ | C17: =SUM(C18:C24) -> 0
A18: 1 | B18: {=TRANSPOSE('TONG HOP'!E5:K5)} -> NSNN hỗ trợ chi thường xuyên cho đơn vị sự nghiệp công lập | C18: {=TRANSPOSE('TONG HOP'!E37:K37)} -> 0
A19: =A18+1 -> 2 | B19: Kinh phí cho hợp đồng hỗ trợ phục vụ | C19: 0
A20: =A19+1 -> 3 | B20: Chi hoạt động thường xuyên | C20: 0
A21: =A20+1 -> 4 | B21: Dự toán giữ lại | C21: 0
A22: =A21+1 -> 5 | B22: nội dung 5 | C22: 0
A23: =A22+1 -> 6 | B23: nội dung 6 | C23: 0
A24: =A23+1 -> 7 | B24: nội dung 7 | C24: 0
A25: II | B25: Kinh phí không thực hiện tự chủ | C25: =SUM(C26:C45) -> 0
A26: 1 | B26: {=TRANSPOSE('TONG HOP'!M5:AF5)} -> Kinh phí hỗ trợ chi phí học tập theo Nghị định số 238/2025/NĐ-CP | C26: {=TRANSPOSE('TONG HOP'!M37:AF37)} -> 0
A27: =A26+1 -> 2 | B27: Kinh phí hỗ trợ học bổng theo Thông tư số 42/2013/TTLT-BGDĐT-BLĐTBXH | C27: 0
A28: =A27+1 -> 3 | B28: Kinh phí hỗ trợ tiền ăn ở theo Nghị định số 66/2025/NĐ-CP | C28: 0
A29: =A28+1 -> 4 | B29: Kinh phí hỗ trợ học bổng theo Nghị định số 57/2017/NĐ-CP | C29: 0
A30: =A29+1 -> 5 | B30: Chế độ, chính sách cho hợp đồng chuyên môn, nghiệp vụ trong các đơn vị sự nghiệp công lập do ngân sách nhà nước bảo đảm chi thường xuyên thuộc lĩnh vực giáo dục theo Nghị quyết của HĐND tỉnh | C30: 0
A31: =A30+1 -> 6 | B31: Chính sách hợp đồng thực hiện công việc hỗ trợ, phục vụ hoạt động thường xuyên của cơ quan đơn vị do lãnh đạo cơ quan quyết định | C31: 0
A32: =A31+1 -> 7 | B32: Mua sắm trang thiết bị, sữa chữa trường học | C32: 0
A33: =A32+1 -> 8 | B33: Kinh phí thực hiện dạy học 2 buổi/ngày năm học 2025-2026 | C33: 0
A34: =A33+1 -> 9 | B34: Kinh phí thực hiện chế độ, chính sách theo Nghị định số 154/2025/NĐ-CP ngày 15/6/2025 của Chính phủ | C34: 0
A35: =A34+1 -> 10 | B35: Kinh phí sữa chữa , bảo dưỡng nhà xe, sân trường Trường THPT Gia Nghĩa (trước sáp nhập) | C35: 0
A36: =A35+1 -> 11 | B36: Kinh phí khen thưởng năm 2026 theo nghị định 161/NĐ-CP ngày 15/05/2026 | C36: 0
A37: =A36+1 -> 12 | B37: Gia hạn phần mềm misa | C37: 0
A38: =A37+1 -> 13 | B38: Kinh phí Cấp bù học phí | C38: 0
... A45: =A44+1 -> 20 | B45: Dự toán giữ lại | C45: 0
A46: C | B46: Mã số đơn vị sử dụng ngân sách | C46: ='TONG HOP'!AG37 -> 1115636

Sheet LHa
A1: DỰ TOÁN CHI NGÂN SÁCH NHÀ NƯỚC NĂM 2026 SAU SÁP NHẬP (ĐỢT 2)
A2: ='TONG HOP'!B38 -> Trường THPT Lâm Hà
A3: ='TONG HOP'!A2:AH2 -> (Kèm theo Quyết định số /QĐ-SGDĐT ngày tháng 10 năm 2026 của Sở Giáo dục và Đào tạo tỉnh Lâm Đồng)
A4: Chương: 422 ; Loại: 070 ; Khoản: 074
C5: Đơn vị: đồng
A6: Nội dung | C6: Tổng số
A7: A | B7: Tổng số thu, chi, nộp ngân sách
B8: 1. Số thu | C8: =SUM(C9:C10) -> 0
B9: - Học phí | C9: 0
B10: - Thu khác | C10: 0
B11: 2. Chi từ nguồn thu được để lại | C11: =SUM(C12:C13) -> 0
B12: - Học phí | C12: 0
B13: - Thu khác | C13: 0
B14: 3. Số nộp NSNN | C14: 0
B15: Dự toán chi ngân sách nhà nước | C15: =C17+C25 -> 0
B16: Giáo dục, đào tạo, dạy nghề
A17: I | B17: Kinh phí thực hiện tự chủ | C17: =SUM(C18:C24) -> 0
A18: 1 | B18: {=TRANSPOSE('TONG HOP'!E5:K5)} -> NSNN hỗ trợ chi thường xuyên cho đơn vị sự nghiệp công lập | C18: {=TRANSPOSE('TONG HOP'!E38:K38)} -> 0
A19: =A18+1 -> 2 | B19: Kinh phí cho hợp đồng hỗ trợ phục vụ | C19: 0
A20: =A19+1 -> 3 | B20: Chi hoạt động thường xuyên | C20: 0
A21: =A20+1 -> 4 | B21: Dự toán giữ lại | C21: 0
A22: =A21+1 -> 5 | B22: nội dung 5 | C22: 0
A23: =A22+1 -> 6 | B23: nội dung 6 | C23: 0
A24: =A23+1 -> 7 | B24: nội dung 7 | C24: 0
A25: II | B25: Kinh phí không thực hiện tự chủ | C25: =SUM(C26:C45) -> 0
A26: 1 | B26: {=TRANSPOSE('TONG HOP'!M5:AF5)} -> Kinh phí hỗ trợ chi phí học tập theo Nghị định số 238/2025/NĐ-CP | C26: {=TRANSPOSE('TONG HOP'!M38:AF38)} -> 0
A27: =A26+1 -> 2 | B27: Kinh phí hỗ trợ học bổng theo Thông tư số 42/2013/TTLT-BGDĐT-BLĐTBXH | C27: 0
A28: =A27+1 -> 3 | B28: Kinh phí hỗ trợ tiền ăn ở theo Nghị định số 66/2025/NĐ-CP | C28: 0
A29: =A28+1 -> 4 | B29: Kinh phí hỗ trợ học bổng theo Nghị định số 57/2017/NĐ-CP | C29: 0
A30: =A29+1 -> 5 | B30: Chế độ, chính sách cho hợp đồng chuyên môn, nghiệp vụ trong các đơn vị sự nghiệp công lập do ngân sách nhà nước bảo đảm chi thường xuyên thuộc lĩnh vực giáo dục theo Nghị quyết của HĐND tỉnh | C30: 0
A31: =A30+1 -> 6 | B31: Chính sách hợp đồng thực hiện công việc hỗ trợ, phục vụ hoạt động thường xuyên của cơ quan đơn vị do lãnh đạo cơ quan quyết định | C31: 0
A32: =A31+1 -> 7 | B32: Mua sắm trang thiết bị, sữa chữa trường học | C32: 0
A33: =A32+1 -> 8 | B33: Kinh phí thực hiện dạy học 2 buổi/ngày năm học 2025-2026 | C33: 0
A34: =A33+1 -> 9 | B34: Kinh phí thực hiện chế độ, chính sách theo Nghị định số 154/2025/NĐ-CP ngày 15/6/2025 của Chính phủ | C34: 0
A35: =A34+1 -> 10 | B35: Kinh phí sữa chữa , bảo dưỡng nhà xe, sân trường Trường THPT Gia Nghĩa (trước sáp nhập) | C35: 0
A36: =A35+1 -> 11 | B36: Kinh phí khen thưởng năm 2026 theo nghị định 161/NĐ-CP ngày 15/05/2026 | C36: 0
A37: =A36+1 -> 12 | B37: Gia hạn phần mềm misa | C37: 0
A38: =A37+1 -> 13 | B38: Kinh phí Cấp bù học phí | C38: 0
... A45: =A44+1 -> 20 | B45: Dự toán giữ lại | C45: 0
A46: C | B46: Mã số đơn vị sử dụng ngân sách | C46: ='TONG HOP'!AG38 -> 1011512

Sheet THa
A1: DỰ TOÁN CHI NGÂN SÁCH NHÀ NƯỚC NĂM 2026 SAU SÁP NHẬP (ĐỢT 2)
A2: ='TONG HOP'!B39 -> Trường THPT Tân Hà
A3: ='TONG HOP'!A2:AH2 -> (Kèm theo Quyết định số /QĐ-SGDĐT ngày tháng 10 năm 2026 của Sở Giáo dục và Đào tạo tỉnh Lâm Đồng)
A4: Chương: 422 ; Loại: 070 ; Khoản: 074
C5: Đơn vị: đồng
A6: Nội dung | C6: Tổng số
A7: A | B7: Tổng số thu, chi, nộp ngân sách
B8: 1. Số thu | C8: =SUM(C9:C10) -> 0
B9: - Học phí | C9: 0
B10: - Thu khác | C10: 0
B11: 2. Chi từ nguồn thu được để lại | C11: =SUM(C12:C13) -> 0
B12: - Học phí | C12: 0
B13: - Thu khác | C13: 0
B14: 3. Số nộp NSNN | C14: 0
B15: Dự toán chi ngân sách nhà nước | C15: =C17+C25 -> 0
B16: Giáo dục, đào tạo, dạy nghề
A17: I | B17: Kinh phí thực hiện tự chủ | C17: =SUM(C18:C24) -> 0
A18: 1 | B18: {=TRANSPOSE('TONG HOP'!E5:K5)} -> NSNN hỗ trợ chi thường xuyên cho đơn vị sự nghiệp công lập | C18: {=TRANSPOSE('TONG HOP'!E39:K39)} -> 0
A19: =A18+1 -> 2 | B19: Kinh phí cho hợp đồng hỗ trợ phục vụ | C19: 0
A20: =A19+1 -> 3 | B20: Chi hoạt động thường xuyên | C20: 0
A21: =A20+1 -> 4 | B21: Dự toán giữ lại | C21: 0
A22: =A21+1 -> 5 | B22: nội dung 5 | C22: 0
A23: =A22+1 -> 6 | B23: nội dung 6 | C23: 0
A24: =A23+1 -> 7 | B24: nội dung 7 | C24: 0
A25: II | B25: Kinh phí không thực hiện tự chủ | C25: =SUM(C26:C45) -> 0
A26: 1 | B26: {=TRANSPOSE('TONG HOP'!M5:AF5)} -> Kinh phí hỗ trợ chi phí học tập theo Nghị định số 238/2025/NĐ-CP | C26: {=TRANSPOSE('TONG HOP'!M39:AF39)} -> 0
A27: =A26+1 -> 2 | B27: Kinh phí hỗ trợ học bổng theo Thông tư số 42/2013/TTLT-BGDĐT-BLĐTBXH | C27: 0
A28: =A27+1 -> 3 | B28: Kinh phí hỗ trợ tiền ăn ở theo Nghị định số 66/2025/NĐ-CP | C28: 0
A29: =A28+1 -> 4 | B29: Kinh phí hỗ trợ học bổng theo Nghị định số 57/2017/NĐ-CP | C29: 0
A30: =A29+1 -> 5 | B30: Chế độ, chính sách cho hợp đồng chuyên môn, nghiệp vụ trong các đơn vị sự nghiệp công lập do ngân sách nhà nước bảo đảm chi thường xuyên thuộc lĩnh vực giáo dục theo Nghị quyết của HĐND tỉnh | C30: 0
A31: =A30+1 -> 6 | B31: Chính sách hợp đồng thực hiện công việc hỗ trợ, phục vụ hoạt động thường xuyên của cơ quan đơn vị do lãnh đạo cơ quan quyết định | C31: 0
A32: =A31+1 -> 7 | B32: Mua sắm trang thiết bị, sữa chữa trường học | C32: 0
A33: =A32+1 -> 8 | B33: Kinh phí thực hiện dạy học 2 buổi/ngày năm học 2025-2026 | C33: 0
A34: =A33+1 -> 9 | B34: Kinh phí thực hiện chế độ, chính sách theo Nghị định số 154/2025/NĐ-CP ngày 15/6/2025 của Chính phủ | C34: 0
A35: =A34+1 -> 10 | B35: Kinh phí sữa chữa , bảo dưỡng nhà xe, sân trường Trường THPT Gia Nghĩa (trước sáp nhập) | C35: 0
A36: =A35+1 -> 11 | B36: Kinh phí khen thưởng năm 2026 theo nghị định 161/NĐ-CP ngày 15/05/2026 | C36: 0
A37: =A36+1 -> 12 | B37: Gia hạn phần mềm misa | C37: 0
A38: =A37+1 -> 13 | B38: Kinh phí Cấp bù học phí | C38: 0
... A45: =A44+1 -> 20 | B45: Dự toán giữ lại | C45: 0
A46: C | B46: Mã số đơn vị sử dụng ngân sách | C46: ='TONG HOP'!AG39 -> 1009800

Sheet HTK-LHa
A1: DỰ TOÁN THU, CHI NGÂN SÁCH NHÀ NƯỚC NĂM 2026
A2: ='TONG HOP'!B40 -> Trường THPT Huỳnh Thúc Kháng - Lâm Hà
A3: ='TONG HOP'!A2:AH2 -> (Kèm theo Quyết định số /QĐ-SGDĐT ngày tháng 10 năm 2026 của Sở Giáo dục và Đào tạo tỉnh Lâm Đồng)
A4: Chương: 422 ; Loại: 070 ; Khoản: 074
C5: Đơn vị: đồng
A6: Nội dung | C6: Tổng số
A7: A | B7: Tổng số thu, chi, nộp ngân sách
B8: 1. Số thu | C8: =SUM(C9:C10) -> 0
B9: - Học phí | C9: 0
B10: - Thu khác | C10: 0
B11: 2. Chi từ nguồn thu được để lại | C11: =SUM(C12:C13) -> 0
B12: - Học phí | C12: 0
B13: - Thu khác | C13: 0
B14: 3. Số nộp NSNN | C14: 0
A15: B | B15: Dự toán chi ngân sách nhà nước | C15: =C17+C25 -> 0
B16: Giáo dục, đào tạo, dạy nghề
A17: I | B17: Kinh phí thực hiện tự chủ | C17: =SUM(C18:C24) -> 0
A18: 1 | B18: {=TRANSPOSE('TONG HOP'!E5:K5)} -> NSNN hỗ trợ chi thường xuyên cho đơn vị sự nghiệp công lập | C18: {=TRANSPOSE('TONG HOP'!E40:K40)} -> 0
A19: =A18+1 -> 2 | B19: Kinh phí cho hợp đồng hỗ trợ phục vụ | C19: 0
A20: =A19+1 -> 3 | B20: Chi hoạt động thường xuyên | C20: 0
A21: =A20+1 -> 4 | B21: Dự toán giữ lại | C21: 0
A22: =A21+1 -> 5 | B22: nội dung 5 | C22: 0
A23: =A22+1 -> 6 | B23: nội dung 6 | C23: 0
A24: =A23+1 -> 7 | B24: nội dung 7 | C24: 0
A25: II | B25: Kinh phí không thực hiện tự chủ | C25: =SUM(C26:C45) -> 0
A26: 1 | B26: {=TRANSPOSE('TONG HOP'!M5:AF5)} -> Kinh phí hỗ trợ chi phí học tập theo Nghị định số 238/2025/NĐ-CP | C26: {=TRANSPOSE('TONG HOP'!M40:AF40)} -> 0
A27: =A26+1 -> 2 | B27: Kinh phí hỗ trợ học bổng theo Thông tư số 42/2013/TTLT-BGDĐT-BLĐTBXH | C27: 0
A28: =A27+1 -> 3 | B28: Kinh phí hỗ trợ tiền ăn ở theo Nghị định số 66/2025/NĐ-CP | C28: 0
A29: =A28+1 -> 4 | B29: Kinh phí hỗ trợ học bổng theo Nghị định số 57/2017/NĐ-CP | C29: 0
A30: =A29+1 -> 5 | B30: Chế độ, chính sách cho hợp đồng chuyên môn, nghiệp vụ trong các đơn vị sự nghiệp công lập do ngân sách nhà nước bảo đảm chi thường xuyên thuộc lĩnh vực giáo dục theo Nghị quyết của HĐND tỉnh | C30: 0
A31: =A30+1 -> 6 | B31: Chính sách hợp đồng thực hiện công việc hỗ trợ, phục vụ hoạt động thường xuyên của cơ quan đơn vị do lãnh đạo cơ quan quyết định | C31: 0
A32: =A31+1 -> 7 | B32: Mua sắm trang thiết bị, sữa chữa trường học | C32: 0
A33: =A32+1 -> 8 | B33: Kinh phí thực hiện dạy học 2 buổi/ngày năm học 2025-2026 | C33: 0
A34: =A33+1 -> 9 | B34: Kinh phí thực hiện chế độ, chính sách theo Nghị định số 154/2025/NĐ-CP ngày 15/6/2025 của Chính phủ | C34: 0
A35: =A34+1 -> 10 | B35: Kinh phí sữa chữa , bảo dưỡng nhà xe, sân trường Trường THPT Gia Nghĩa (trước sáp nhập) | C35: 0
A36: =A35+1 -> 11 | B36: Kinh phí khen thưởng năm 2026 theo nghị định 161/NĐ-CP ngày 15/05/2026 | C36: 0
A37: =A36+1 -> 12 | B37: Gia hạn phần mềm misa | C37: 0
A38: =A37+1 -> 13 | B38: Kinh phí Cấp bù học phí | C38: 0
... A45: =A44+1 -> 20 | B45: Dự toán giữ lại | C45: 0
A46: C | B46: Mã số đơn vị sử dụng ngân sách | C46: ='TONG HOP'!AG40 -> 1083644

Sheet TLong-LH
A1: DỰ TOÁN CHI NGÂN SÁCH NHÀ NƯỚC NĂM 2026 SAU SÁP NHẬP (ĐỢT 2)
A2: ='TONG HOP'!B41 -> Trường THCS&THPT Thăng Long
A3: ='TONG HOP'!A2:AH2 -> (Kèm theo Quyết định số /QĐ-SGDĐT ngày tháng 10 năm 2026 của Sở Giáo dục và Đào tạo tỉnh Lâm Đồng)
A4: Chương: 422 ; Loại: 070 ; Khoản: 074
C5: Đơn vị: đồng
A6: Nội dung | C6: Tổng số
A7: A | B7: Tổng số thu, chi, nộp ngân sách
B8: 1. Số thu | C8: =SUM(C9:C10) -> 0
B9: - Học phí | C9: 0
B10: - Thu khác | C10: 0
B11: 2. Chi từ nguồn thu được để lại | C11: =SUM(C12:C13) -> 0
B12: - Học phí | C12: 0
B13: - Thu khác | C13: 0
B14: 3. Số nộp NSNN | C14: 0
B15: Dự toán chi ngân sách nhà nước | C15: =C17+C25 -> 15176739416
B16: Giáo dục, đào tạo, dạy nghề
A17: I | B17: Kinh phí thực hiện tự chủ | C17: =SUM(C18:C24) -> 13682300000
A18: 1 | B18: {=TRANSPOSE('TONG HOP'!E5:K5)} -> NSNN hỗ trợ chi thường xuyên cho đơn vị sự nghiệp công lập | C18: {=TRANSPOSE('TONG HOP'!E41:K41)} -> 12045969000
A19: =A18+1 -> 2 | B19: Kinh phí cho hợp đồng hỗ trợ phục vụ | C19: 0
A20: 2 | B20: Chi hoạt động thường xuyên | C20: 1418258381
A21: 3 | B21: Dự toán giữ lại | C21: 218072619
A22: =A21+1 -> 4 | B22: nội dung 5 | C22: 0
A23: =A22+1 -> 5 | B23: nội dung 6 | C23: 0
A24: =A23+1 -> 6 | B24: nội dung 7 | C24: 0
A25: II | B25: Kinh phí không thực hiện tự chủ | C25: =SUM(C26:C45) -> 1494439416
A26: 1 | B26: {=TRANSPOSE('TONG HOP'!M5:AF5)} -> Kinh phí hỗ trợ chi phí học tập theo Nghị định số 238/2025/NĐ-CP | C26: {=TRANSPOSE('TONG HOP'!M41:AF41)} -> 29610000
A27: =A26+1 -> 2 | B27: Kinh phí hỗ trợ học bổng theo Thông tư số 42/2013/TTLT-BGDĐT-BLĐTBXH | C27: 89240000
A28: =A27+1 -> 3 | B28: Kinh phí hỗ trợ tiền ăn ở theo Nghị định số 66/2025/NĐ-CP | C28: 81648000
A29: =A28+1 -> 4 | B29: Kinh phí hỗ trợ học bổng theo Nghị định số 57/2017/NĐ-CP | C29: 0
A30: 4 | B30: Chế độ, chính sách cho hợp đồng chuyên môn, nghiệp vụ trong các đơn vị sự nghiệp công lập do ngân sách nhà nước bảo đảm chi thường xuyên thuộc lĩnh vực giáo dục theo Nghị quyết của HĐND tỉnh | C30: 844441416
A31: 5 | B31: Chính sách hợp đồng thực hiện công việc hỗ trợ, phục vụ hoạt động thường xuyên của cơ quan đơn vị do lãnh đạo cơ quan quyết định | C31: 144000000
A32: 6 | B32: Mua sắm trang thiết bị, sữa chữa trường học | C32: 150500000
A33: 7 | B33: Kinh phí thực hiện dạy học 2 buổi/ngày năm học 2025-2026 | C33: 155000000
A34: =A33+1 -> 8 | B34: Kinh phí thực hiện chế độ, chính sách theo Nghị định số 154/2025/NĐ-CP ngày 15/6/2025 của Chính phủ | C34: 0
A35: =A34+1 -> 9 | B35: Kinh phí sữa chữa , bảo dưỡng nhà xe, sân trường Trường THPT Gia Nghĩa (trước sáp nhập) | C35: 0
A36: =A35+1 -> 10 | B36: Kinh phí khen thưởng năm 2026 theo nghị định 161/NĐ-CP ngày 15/05/2026 | C36: 0
A37: 8 | B37: Gia hạn phần mềm misa | C37: 0
A38: =A37+1 -> 9 | B38: Kinh phí Cấp bù học phí | C38: 0
A39: =A38+1 -> 10 | B39: Kinh phí Đảng | C39: 0
A40: =A39+1 -> 11 | B40: Chế độ bồi dưỡng và chế độ trang phục đối với giáo viên thể dục | C40: 0
A41: 9 | B41: Kinh phí thực hiện cho giáo viên dạy cho học sinh khuyết tật theo Nghị định 28/2012/NĐ-CP | C41: 0
A42: =A41+1 -> 10 | B42: Kinh phí thực hiện CCTL | C42: 0
A43: =A42+1 -> 11 | B43: Kinh phí bổ sung dự toán chi NSNN năm 2026 để thực hiện truy lĩnh kinh phí phụ cấp độc hại, nguy hiểm đối với nhân viên thiết bị, thí nghiệm | C43: 0
A44: =A43+1 -> 12 | B44: Dự toán giữ lại | C44: 0
A45: =A44+1 -> 13 | B45: Dự toán giữ lại | C45: 0
A46: C | B46: Mã số đơn vị sử dụng ngân sách | C46: ='TONG HOP'!AG41 -> 1078464

Sheet LQĐ-LHa
A1: DỰ TOÁN THU, CHI NGÂN SÁCH NHÀ NƯỚC NĂM 2026
A2: ='TONG HOP'!B42 -> Trường THPT Lê Quý Đôn - Lâm Hà
A3: ='TONG HOP'!A2:AH2 -> (Kèm theo Quyết định số /QĐ-SGDĐT ngày tháng 10 năm 2026 của Sở Giáo dục và Đào tạo tỉnh Lâm Đồng)
A4: Chương: 422 ; Loại: 070 ; Khoản: 074
C5: Đơn vị: đồng
A6: Nội dung | C6: Tổng số
A7: A | B7: Tổng số thu, chi, nộp ngân sách
B8: 1. Số thu | C8: =SUM(C9:C10) -> 0
B9: - Học phí | C9: 0
B10: - Thu khác | C10: 0
B11: 2. Chi từ nguồn thu được để lại | C11: =SUM(C12:C13) -> 0
B12: - Học phí | C12: 0
B13: - Thu khác | C13: 0
B14: 3. Số nộp NSNN | C14: 0
A15: B | B15: Dự toán chi ngân sách nhà nước | C15: =C17+C25 -> 0
B16: Giáo dục, đào tạo, dạy nghề
A17: I | B17: Kinh phí thực hiện tự chủ | C17: =SUM(C18:C24) -> 0
A18: 1 | B18: {=TRANSPOSE('TONG HOP'!E5:K5)} -> NSNN hỗ trợ chi thường xuyên cho đơn vị sự nghiệp công lập | C18: {=TRANSPOSE('TONG HOP'!E42:K42)} -> 0
A19: =A18+1 -> 2 | B19: Kinh phí cho hợp đồng hỗ trợ phục vụ | C19: 0
A20: =A19+1 -> 3 | B20: Chi hoạt động thường xuyên | C20: 0
A21: =A20+1 -> 4 | B21: Dự toán giữ lại | C21: 0
A22: =A21+1 -> 5 | B22: nội dung 5 | C22: 0
A23: =A22+1 -> 6 | B23: nội dung 6 | C23: 0
A24: =A23+1 -> 7 | B24: nội dung 7 | C24: 0
A25: II | B25: Kinh phí không thực hiện tự chủ | C25: =SUM(C26:C45) -> 0
A26: 1 | B26: {=TRANSPOSE('TONG HOP'!M5:AF5)} -> Kinh phí hỗ trợ chi phí học tập theo Nghị định số 238/2025/NĐ-CP | C26: {=TRANSPOSE('TONG HOP'!M42:AF42)} -> 0
A27: =A26+1 -> 2 | B27: Kinh phí hỗ trợ học bổng theo Thông tư số 42/2013/TTLT-BGDĐT-BLĐTBXH | C27: 0
A28: =A27+1 -> 3 | B28: Kinh phí hỗ trợ tiền ăn ở theo Nghị định số 66/2025/NĐ-CP | C28: 0
A29: =A28+1 -> 4 | B29: Kinh phí hỗ trợ học bổng theo Nghị định số 57/2017/NĐ-CP | C29: 0
A30: =A29+1 -> 5 | B30: Chế độ, chính sách cho hợp đồng chuyên môn, nghiệp vụ trong các đơn vị sự nghiệp công lập do ngân sách nhà nước bảo đảm chi thường xuyên thuộc lĩnh vực giáo dục theo Nghị quyết của HĐND tỉnh | C30: 0
A31: =A30+1 -> 6 | B31: Chính sách hợp đồng thực hiện công việc hỗ trợ, phục vụ hoạt động thường xuyên của cơ quan đơn vị do lãnh đạo cơ quan quyết định | C31: 0
A32: =A31+1 -> 7 | B32: Mua sắm trang thiết bị, sữa chữa trường học | C32: 0
A33: =A32+1 -> 8 | B33: Kinh phí thực hiện dạy học 2 buổi/ngày năm học 2025-2026 | C33: 0
A34: =A33+1 -> 9 | B34: Kinh phí thực hiện chế độ, chính sách theo Nghị định số 154/2025/NĐ-CP ngày 15/6/2025 của Chính phủ | C34: 0
A35: =A34+1 -> 10 | B35: Kinh phí sữa chữa , bảo dưỡng nhà xe, sân trường Trường THPT Gia Nghĩa (trước sáp nhập) | C35: 0
A36: =A35+1 -> 11 | B36: Kinh phí khen thưởng năm 2026 theo nghị định 161/NĐ-CP ngày 15/05/2026 | C36: 0
A37: =A36+1 -> 12 | B37: Gia hạn phần mềm misa | C37: 0
A38: =A37+1 -> 13 | B38: Kinh phí Cấp bù học phí | C38: 0
... A45: =A44+1 -> 20 | B45: Dự toán giữ lại | C45: 0
A46: C | B46: Mã số đơn vị sử dụng ngân sách | C46: ='TONG HOP'!AG42 -> 1083298

Sheet NCThanh
A1: DỰ TOÁN THU, CHI NGÂN SÁCH NHÀ NƯỚC NĂM 2026
A2: ='TONG HOP'!B43 -> Trường THPT Nguyễn Chí Thanh
A3: ='TONG HOP'!A2:AH2 -> (Kèm theo Quyết định số /QĐ-SGDĐT ngày tháng 10 năm 2026 của Sở Giáo dục và Đào tạo tỉnh Lâm Đồng)
A4: Chương: 422 ; Loại: 070 ; Khoản: 074
C5: Đơn vị: đồng
A6: Nội dung | C6: Tổng số
A7: A | B7: Tổng số thu, chi, nộp ngân sách
B8: 1. Số thu | C8: =SUM(C9:C10) -> 0
B9: - Học phí | C9: 0
B10: - Thu khác | C10: 0
B11: 2. Chi từ nguồn thu được để lại | C11: =SUM(C12:C13) -> 0
B12: - Học phí | C12: 0
B13: - Thu khác | C13: 0
B14: 3. Số nộp NSNN | C14: 0
A15: B | B15: Dự toán chi ngân sách nhà nước | C15: =C17+C25 -> 0
B16: Giáo dục, đào tạo, dạy nghề
A17: I | B17: Kinh phí thực hiện tự chủ | C17: =SUM(C18:C24) -> 0
A18: 1 | B18: {=TRANSPOSE('TONG HOP'!E5:K5)} -> NSNN hỗ trợ chi thường xuyên cho đơn vị sự nghiệp công lập | C18: {=TRANSPOSE('TONG HOP'!E43:K43)} -> 0
A19: =A18+1 -> 2 | B19: Kinh phí cho hợp đồng hỗ trợ phục vụ | C19: 0
A20: =A19+1 -> 3 | B20: Chi hoạt động thường xuyên | C20: 0
A21: =A20+1 -> 4 | B21: Dự toán giữ lại | C21: 0
A22: =A21+1 -> 5 | B22: nội dung 5 | C22: 0
A23: =A22+1 -> 6 | B23: nội dung 6 | C23: 0
A24: =A23+1 -> 7 | B24: nội dung 7 | C24: 0
A25: II | B25: Kinh phí không thực hiện tự chủ | C25: =SUM(C26:C45) -> 0
A26: 1 | B26: {=TRANSPOSE('TONG HOP'!M5:AF5)} -> Kinh phí hỗ trợ chi phí học tập theo Nghị định số 238/2025/NĐ-CP | C26: {=TRANSPOSE('TONG HOP'!M43:AF43)} -> 0
A27: =A26+1 -> 2 | B27: Kinh phí hỗ trợ học bổng theo Thông tư số 42/2013/TTLT-BGDĐT-BLĐTBXH | C27: 0
A28: =A27+1 -> 3 | B28: Kinh phí hỗ trợ tiền ăn ở theo Nghị định số 66/2025/NĐ-CP | C28: 0
A29: =A28+1 -> 4 | B29: Kinh phí hỗ trợ học bổng theo Nghị định số 57/2017/NĐ-CP | C29: 0
A30: =A29+1 -> 5 | B30: Chế độ, chính sách cho hợp đồng chuyên môn, nghiệp vụ trong các đơn vị sự nghiệp công lập do ngân sách nhà nước bảo đảm chi thường xuyên thuộc lĩnh vực giáo dục theo Nghị quyết của HĐND tỉnh | C30: 0
A31: =A30+1 -> 6 | B31: Chính sách hợp đồng thực hiện công việc hỗ trợ, phục vụ hoạt động thường xuyên của cơ quan đơn vị do lãnh đạo cơ quan quyết định | C31: 0
A32: =A31+1 -> 7 | B32: Mua sắm trang thiết bị, sữa chữa trường học | C32: 0
A33: =A32+1 -> 8 | B33: Kinh phí thực hiện dạy học 2 buổi/ngày năm học 2025-2026 | C33: 0
A34: =A33+1 -> 9 | B34: Kinh phí thực hiện chế độ, chính sách theo Nghị định số 154/2025/NĐ-CP ngày 15/6/2025 của Chính phủ | C34: 0
A35: =A34+1 -> 10 | B35: Kinh phí sữa chữa , bảo dưỡng nhà xe, sân trường Trường THPT Gia Nghĩa (trước sáp nhập) | C35: 0
A36: =A35+1 -> 11 | B36: Kinh phí khen thưởng năm 2026 theo nghị định 161/NĐ-CP ngày 15/05/2026 | C36: 0
A37: =A36+1 -> 12 | B37: Gia hạn phần mềm misa | C37: 0
A38: =A37+1 -> 13 | B38: Kinh phí Cấp bù học phí | C38: 0
... A45: =A44+1 -> 20 | B45: Dự toán giữ lại | C45: 0
A46: C | B46: Mã số đơn vị sử dụng ngân sách | C46: ='TONG HOP'!AG43 -> 1084214

Sheet ĐTong
A1: DỰ TOÁN THU, CHI NGÂN SÁCH NHÀ NƯỚC NĂM 2026
A2: ='TONG HOP'!B44 -> Trường THPT Đạ Tông
A3: ='TONG HOP'!A2:AH2 -> (Kèm theo Quyết định số /QĐ-SGDĐT ngày tháng 10 năm 2026 của Sở Giáo dục và Đào tạo tỉnh Lâm Đồng)
A4: Chương: 422 ; Loại: 070 ; Khoản: 074
C5: Đơn vị: đồng
A6: Nội dung | C6: Tổng số
A7: A | B7: Tổng số thu, chi, nộp ngân sách
B8: 1. Số thu | C8: =SUM(C9:C10) -> 0
B9: - Học phí | C9: 0
B10: - Thu khác | C10: 0
B11: 2. Chi từ nguồn thu được để lại | C11: =SUM(C12:C13) -> 0
B12: - Học phí | C12: 0
B13: - Thu khác | C13: 0
B14: 3. Số nộp NSNN | C14: 0
A15: B | B15: Dự toán chi ngân sách nhà nước | C15: =C17+C25 -> 0
B16: Giáo dục, đào tạo, dạy nghề
A17: I | B17: Kinh phí thực hiện tự chủ | C17: =SUM(C18:C24) -> 0
A18: 1 | B18: {=TRANSPOSE('TONG HOP'!E5:K5)} -> NSNN hỗ trợ chi thường xuyên cho đơn vị sự nghiệp công lập | C18: {=TRANSPOSE('TONG HOP'!E44:K44)} -> 0
A19: =A18+1 -> 2 | B19: Kinh phí cho hợp đồng hỗ trợ phục vụ | C19: 0
A20: =A19+1 -> 3 | B20: Chi hoạt động thường xuyên | C20: 0
A21: =A20+1 -> 4 | B21: Dự toán giữ lại | C21: 0
A22: =A21+1 -> 5 | B22: nội dung 5 | C22: 0
A23: =A22+1 -> 6 | B23: nội dung 6 | C23: 0
A24: =A23+1 -> 7 | B24: nội dung 7 | C24: 0
A25: II | B25: Kinh phí không thực hiện tự chủ | C25: =SUM(C26:C45) -> 0
A26: 1 | B26: {=TRANSPOSE('TONG HOP'!M5:AF5)} -> Kinh phí hỗ trợ chi phí học tập theo Nghị định số 238/2025/NĐ-CP | C26: {=TRANSPOSE('TONG HOP'!M44:AF44)} -> 0
A27: =A26+1 -> 2 | B27: Kinh phí hỗ trợ học bổng theo Thông tư số 42/2013/TTLT-BGDĐT-BLĐTBXH | C27: 0
A28: =A27+1 -> 3 | B28: Kinh phí hỗ trợ tiền ăn ở theo Nghị định số 66/2025/NĐ-CP | C28: 0
A29: =A28+1 -> 4 | B29: Kinh phí hỗ trợ học bổng theo Nghị định số 57/2017/NĐ-CP | C29: 0
A30: =A29+1 -> 5 | B30: Chế độ, chính sách cho hợp đồng chuyên môn, nghiệp vụ trong các đơn vị sự nghiệp công lập do ngân sách nhà nước bảo đảm chi thường xuyên thuộc lĩnh vực giáo dục theo Nghị quyết của HĐND tỉnh | C30: 0
A31: =A30+1 -> 6 | B31: Chính sách hợp đồng thực hiện công việc hỗ trợ, phục vụ hoạt động thường xuyên của cơ quan đơn vị do lãnh đạo cơ quan quyết định | C31: 0
A32: =A31+1 -> 7 | B32: Mua sắm trang thiết bị, sữa chữa trường học | C32: 0
A33: =A32+1 -> 8 | B33: Kinh phí thực hiện dạy học 2 buổi/ngày năm học 2025-2026 | C33: 0
A34: =A33+1 -> 9 | B34: Kinh phí thực hiện chế độ, chính sách theo Nghị định số 154/2025/NĐ-CP ngày 15/6/2025 của Chính phủ | C34: 0
A35: =A34+1 -> 10 | B35: Kinh phí sữa chữa , bảo dưỡng nhà xe, sân trường Trường THPT Gia Nghĩa (trước sáp nhập) | C35: 0
A36: =A35+1 -> 11 | B36: Kinh phí khen thưởng năm 2026 theo nghị định 161/NĐ-CP ngày 15/05/2026 | C36: 0
A37: =A36+1 -> 12 | B37: Gia hạn phần mềm misa | C37: 0
A38: =A37+1 -> 13 | B38: Kinh phí Cấp bù học phí | C38: 0
... A45: =A44+1 -> 20 | B45: Dự toán giữ lại | C45: 0
A46: C | B46: Mã số đơn vị sử dụng ngân sách | C46: ='TONG HOP'!AG44 -> 1009269

Sheet PĐP-ĐRong
A1: DỰ TOÁN CHI NGÂN SÁCH NHÀ NƯỚC NĂM 2026 SAU SÁP NHẬP (ĐỢT 2)
A2: ='TONG HOP'!B45 -> Trường THCS & THPT Phan Đình Phùng
A3: ='TONG HOP'!A2:AH2 -> (Kèm theo Quyết định số /QĐ-SGDĐT ngày tháng 10 năm 2026 của Sở Giáo dục và Đào tạo tỉnh Lâm Đồng)
A4: Chương: 422 ; Loại: 070 ; Khoản: 074
C5: Đơn vị: đồng
A6: Nội dung | C6: Tổng số
A7: A | B7: Tổng số thu, chi, nộp ngân sách
B8: 1. Số thu | C8: =SUM(C9:C10) -> 0
B9: - Học phí | C9: 0
B10: - Thu khác | C10: 0
B11: 2. Chi từ nguồn thu được để lại | C11: =SUM(C12:C13) -> 0
B12: - Học phí | C12: 0
B13: - Thu khác | C13: 0
B14: 3. Số nộp NSNN | C14: 0
A15: B | B15: Dự toán chi ngân sách nhà nước | C15: =C17+C25 -> 0
B16: Giáo dục, đào tạo, dạy nghề
A17: I | B17: Kinh phí thực hiện tự chủ | C17: =SUM(C18:C24) -> 0
A18: 1 | B18: {=TRANSPOSE('TONG HOP'!E5:K5)} -> NSNN hỗ trợ chi thường xuyên cho đơn vị sự nghiệp công lập | C18: {=TRANSPOSE('TONG HOP'!E45:K45)} -> 0
A19: =A18+1 -> 2 | B19: Kinh phí cho hợp đồng hỗ trợ phục vụ | C19: 0
A20: =A19+1 -> 3 | B20: Chi hoạt động thường xuyên | C20: 0
A21: =A20+1 -> 4 | B21: Dự toán giữ lại | C21: 0
A22: =A21+1 -> 5 | B22: nội dung 5 | C22: 0
A23: =A22+1 -> 6 | B23: nội dung 6 | C23: 0
A24: =A23+1 -> 7 | B24: nội dung 7 | C24: 0
A25: II | B25: Kinh phí không thực hiện tự chủ | C25: =SUM(C26:C45) -> 0
A26: 1 | B26: {=TRANSPOSE('TONG HOP'!M5:AF5)} -> Kinh phí hỗ trợ chi phí học tập theo Nghị định số 238/2025/NĐ-CP | C26: {=TRANSPOSE('TONG HOP'!M45:AF45)} -> 0
A27: =A26+1 -> 2 | B27: Kinh phí hỗ trợ học bổng theo Thông tư số 42/2013/TTLT-BGDĐT-BLĐTBXH | C27: 0
A28: =A27+1 -> 3 | B28: Kinh phí hỗ trợ tiền ăn ở theo Nghị định số 66/2025/NĐ-CP | C28: 0
A29: =A28+1 -> 4 | B29: Kinh phí hỗ trợ học bổng theo Nghị định số 57/2017/NĐ-CP | C29: 0
A30: =A29+1 -> 5 | B30: Chế độ, chính sách cho hợp đồng chuyên môn, nghiệp vụ trong các đơn vị sự nghiệp công lập do ngân sách nhà nước bảo đảm chi thường xuyên thuộc lĩnh vực giáo dục theo Nghị quyết của HĐND tỉnh | C30: 0
A31: =A30+1 -> 6 | B31: Chính sách hợp đồng thực hiện công việc hỗ trợ, phục vụ hoạt động thường xuyên của cơ quan đơn vị do lãnh đạo cơ quan quyết định | C31: 0
A32: =A31+1 -> 7 | B32: Mua sắm trang thiết bị, sữa chữa trường học | C32: 0
A33: =A32+1 -> 8 | B33: Kinh phí thực hiện dạy học 2 buổi/ngày năm học 2025-2026 | C33: 0
A34: =A33+1 -> 9 | B34: Kinh phí thực hiện chế độ, chính sách theo Nghị định số 154/2025/NĐ-CP ngày 15/6/2025 của Chính phủ | C34: 0
A35: =A34+1 -> 10 | B35: Kinh phí sữa chữa , bảo dưỡng nhà xe, sân trường Trường THPT Gia Nghĩa (trước sáp nhập) | C35: 0
A36: =A35+1 -> 11 | B36: Kinh phí khen thưởng năm 2026 theo nghị định 161/NĐ-CP ngày 15/05/2026 | C36: 0
A37: =A36+1 -> 12 | B37: Gia hạn phần mềm misa | C37: 0
A38: =A37+1 -> 13 | B38: Kinh phí Cấp bù học phí | C38: 0
... A45: =A44+1 -> 20 | B45: Dự toán giữ lại | C45: 0
A46: C | B46: Mã số đơn vị sử dụng ngân sách | C46: ='TONG HOP'!AG45 -> 1115134

Sheet VNGiap
A1: DỰ TOÁN CHI NGÂN SÁCH NHÀ NƯỚC NĂM 2026 SAU SÁP NHẬP (ĐỢT 2)
A2: ='TONG HOP'!B46 -> Trường THCS&THPT Võ Nguyên Giáp
A3: ='TONG HOP'!A2:AH2 -> (Kèm theo Quyết định số /QĐ-SGDĐT ngày tháng 10 năm 2026 của Sở Giáo dục và Đào tạo tỉnh Lâm Đồng)
A4: Chương: 422 ; Loại: 070 ; Khoản: 074
C5: Đơn vị: đồng
A6: Nội dung | C6: Tổng số
A7: A | B7: Tổng số thu, chi, nộp ngân sách
B8: 1. Số thu | C8: =SUM(C9:C10) -> 0
B9: - Học phí | C9: 0
B10: - Thu khác | C10: 0
B11: 2. Chi từ nguồn thu được để lại | C11: =SUM(C12:C13) -> 0
B12: - Học phí | C12: 0
B13: - Thu khác | C13: 0
B14: 3. Số nộp NSNN | C14: 0
B15: Dự toán chi ngân sách nhà nước | C15: =C17+C25 -> 12628527928
B16: Giáo dục, đào tạo, dạy nghề
A17: I | B17: Kinh phí thực hiện tự chủ | C17: =SUM(C18:C24) -> 10138871000
A18: 1 | B18: {=TRANSPOSE('TONG HOP'!E5:K5)} -> NSNN hỗ trợ chi thường xuyên cho đơn vị sự nghiệp công lập | C18: {=TRANSPOSE('TONG HOP'!E46:K46)} -> 8932926000
A19: =A18+1 -> 2 | B19: Kinh phí cho hợp đồng hỗ trợ phục vụ | C19: 0
A20: 2 | B20: Chi hoạt động thường xuyên | C20: 1058236352
A21: 3 | B21: Dự toán giữ lại | C21: 147708648
A22: =A21+1 -> 4 | B22: nội dung 5 | C22: 0
A23: =A22+1 -> 5 | B23: nội dung 6 | C23: 0
A24: =A23+1 -> 6 | B24: nội dung 7 | C24: 0
A25: II | B25: Kinh phí không thực hiện tự chủ | C25: =SUM(C26:C45) -> 2489656928
A26: 1 | B26: {=TRANSPOSE('TONG HOP'!M5:AF5)} -> Kinh phí hỗ trợ chi phí học tập theo Nghị định số 238/2025/NĐ-CP | C26: {=TRANSPOSE('TONG HOP'!M46:AF46)} -> 738666000
A27: =A26+1 -> 2 | B27: Kinh phí hỗ trợ học bổng theo Thông tư số 42/2013/TTLT-BGDĐT-BLĐTBXH | C27: 0
A28: 2 | B28: Kinh phí hỗ trợ tiền ăn ở theo Nghị định số 66/2025/NĐ-CP | C28: 116640000
A29: =A28+1 -> 3 | B29: Kinh phí hỗ trợ học bổng theo Nghị định số 57/2017/NĐ-CP | C29: 0
A30: 3 | B30: Chế độ, chính sách cho hợp đồng chuyên môn, nghiệp vụ trong các đơn vị sự nghiệp công lập do ngân sách nhà nước bảo đảm chi thường xuyên thuộc lĩnh vực giáo dục theo Nghị quyết của HĐND tỉnh | C30: 774350928
A31: 4 | B31: Chính sách hợp đồng thực hiện công việc hỗ trợ, phục vụ hoạt động thường xuyên của cơ quan đơn vị do lãnh đạo cơ quan quyết định | C31: 144000000
A32: 5 | B32: Mua sắm trang thiết bị, sữa chữa trường học | C32: 450000000
A33: 6 | B33: Kinh phí thực hiện dạy học 2 buổi/ngày năm học 2025-2026 | C33: 266000000
A34: =A33+1 -> 7 | B34: Kinh phí thực hiện chế độ, chính sách theo Nghị định số 154/2025/NĐ-CP ngày 15/6/2025 của Chính phủ | C34: 0
A35: =A34+1 -> 8 | B35: Kinh phí sữa chữa , bảo dưỡng nhà xe, sân trường Trường THPT Gia Nghĩa (trước sáp nhập) | C35: 0
A36: =A35+1 -> 9 | B36: Kinh phí khen thưởng năm 2026 theo nghị định 161/NĐ-CP ngày 15/05/2026 | C36: 0
A37: =A36+1 -> 10 | B37: Gia hạn phần mềm misa | C37: 0
A38: =A37+1 -> 11 | B38: Kinh phí Cấp bù học phí | C38: 0
A39: 7 | B39: Kinh phí Đảng | C39: 0
A40: 8 | B40: Chế độ bồi dưỡng và chế độ trang phục đối với giáo viên thể dục | C40: 0
A41: =A40+1 -> 9 | B41: Kinh phí thực hiện cho giáo viên dạy cho học sinh khuyết tật theo Nghị định 28/2012/NĐ-CP | C41: 0
A42: =A41+1 -> 10 | B42: Kinh phí thực hiện CCTL | C42: 0
A43: =A42+1 -> 11 | B43: Kinh phí bổ sung dự toán chi NSNN năm 2026 để thực hiện truy lĩnh kinh phí phụ cấp độc hại, nguy hiểm đối với nhân viên thiết bị, thí nghiệm | C43: 0
A44: =A43+1 -> 12 | B44: Dự toán giữ lại | C44: 0
A45: =A44+1 -> 13 | B45: Dự toán giữ lại | C45: 0
A46: C | B46: Mã số đơn vị sử dụng ngân sách | C46: ='TONG HOP'!AG46 -> 1084299

Sheet DiLinh
A1: DỰ TOÁN CHI NGÂN SÁCH NHÀ NƯỚC NĂM 2026 SAU SÁP NHẬP (ĐỢT 2)
A2: ='TONG HOP'!B47 -> Trường THPT Di Linh
A3: ='TONG HOP'!A2:AH2 -> (Kèm theo Quyết định số /QĐ-SGDĐT ngày tháng 10 năm 2026 của Sở Giáo dục và Đào tạo tỉnh Lâm Đồng)
A4: Chương: 422 ; Loại: 070 ; Khoản: 074
C5: Đơn vị: đồng
A6: Nội dung | C6: Tổng số
A7: A | B7: Tổng số thu, chi, nộp ngân sách
B8: 1. Số thu | C8: =SUM(C9:C10) -> 0
B9: - Học phí | C9: 0
B10: - Thu khác | C10: 0
B11: 2. Chi từ nguồn thu được để lại | C11: =SUM(C12:C13) -> 0
B12: - Học phí | C12: 0
B13: - Thu khác | C13: 0
B14: 3. Số nộp NSNN | C14: 0
B15: Dự toán chi ngân sách nhà nước | C15: =C17+C25 -> 0
B16: Giáo dục, đào tạo, dạy nghề
A17: I | B17: Kinh phí thực hiện tự chủ | C17: =SUM(C18:C24) -> 0
A18: 1 | B18: {=TRANSPOSE('TONG HOP'!E5:K5)} -> NSNN hỗ trợ chi thường xuyên cho đơn vị sự nghiệp công lập | C18: {=TRANSPOSE('TONG HOP'!E47:K47)} -> 0
A19: =A18+1 -> 2 | B19: Kinh phí cho hợp đồng hỗ trợ phục vụ | C19: 0
A20: =A19+1 -> 3 | B20: Chi hoạt động thường xuyên | C20: 0
A21: =A20+1 -> 4 | B21: Dự toán giữ lại | C21: 0
A22: =A21+1 -> 5 | B22: nội dung 5 | C22: 0
A23: =A22+1 -> 6 | B23: nội dung 6 | C23: 0
A24: =A23+1 -> 7 | B24: nội dung 7 | C24: 0
A25: II | B25: Kinh phí không thực hiện tự chủ | C25: =SUM(C26:C45) -> 0
A26: 1 | B26: {=TRANSPOSE('TONG HOP'!M5:AF5)} -> Kinh phí hỗ trợ chi phí học tập theo Nghị định số 238/2025/NĐ-CP | C26: {=TRANSPOSE('TONG HOP'!M47:AF47)} -> 0
A27: =A26+1 -> 2 | B27: Kinh phí hỗ trợ học bổng theo Thông tư số 42/2013/TTLT-BGDĐT-BLĐTBXH | C27: 0
A28: =A27+1 -> 3 | B28: Kinh phí hỗ trợ tiền ăn ở theo Nghị định số 66/2025/NĐ-CP | C28: 0
A29: =A28+1 -> 4 | B29: Kinh phí hỗ trợ học bổng theo Nghị định số 57/2017/NĐ-CP | C29: 0
A30: =A29+1 -> 5 | B30: Chế độ, chính sách cho hợp đồng chuyên môn, nghiệp vụ trong các đơn vị sự nghiệp công lập do ngân sách nhà nước bảo đảm chi thường xuyên thuộc lĩnh vực giáo dục theo Nghị quyết của HĐND tỉnh | C30: 0
A31: =A30+1 -> 6 | B31: Chính sách hợp đồng thực hiện công việc hỗ trợ, phục vụ hoạt động thường xuyên của cơ quan đơn vị do lãnh đạo cơ quan quyết định | C31: 0
A32: =A31+1 -> 7 | B32: Mua sắm trang thiết bị, sữa chữa trường học | C32: 0
A33: =A32+1 -> 8 | B33: Kinh phí thực hiện dạy học 2 buổi/ngày năm học 2025-2026 | C33: 0
A34: =A33+1 -> 9 | B34: Kinh phí thực hiện chế độ, chính sách theo Nghị định số 154/2025/NĐ-CP ngày 15/6/2025 của Chính phủ | C34: 0
A35: =A34+1 -> 10 | B35: Kinh phí sữa chữa , bảo dưỡng nhà xe, sân trường Trường THPT Gia Nghĩa (trước sáp nhập) | C35: 0
A36: =A35+1 -> 11 | B36: Kinh phí khen thưởng năm 2026 theo nghị định 161/NĐ-CP ngày 15/05/2026 | C36: 0
A37: =A36+1 -> 12 | B37: Gia hạn phần mềm misa | C37: 0
A38: =A37+1 -> 13 | B38: Kinh phí Cấp bù học phí | C38: 0
... A45: =A44+1 -> 20 | B45: Dự toán giữ lại | C45: 0
A46: C | B46: Mã số đơn vị sử dụng ngân sách | C46: ='TONG HOP'!AG47 -> 1011662

Sheet TChinh-HNinh
A1: DỰ TOÁN THU, CHI NGÂN SÁCH NHÀ NƯỚC NĂM 2026
A2: ='TONG HOP'!B48 -> Trường THPT Trường Chinh - Hòa Ninh
A3: ='TONG HOP'!A2:AH2 -> (Kèm theo Quyết định số /QĐ-SGDĐT ngày tháng 10 năm 2026 của Sở Giáo dục và Đào tạo tỉnh Lâm Đồng)
A4: Chương: 422 ; Loại: 070 ; Khoản: 074
C5: Đơn vị: đồng
A6: Nội dung | C6: Tổng số
A7: A | B7: Tổng số thu, chi, nộp ngân sách
B8: 1. Số thu | C8: =SUM(C9:C10) -> 0
B9: - Học phí | C9: 0
B10: - Thu khác | C10: 0
B11: 2. Chi từ nguồn thu được để lại | C11: =SUM(C12:C13) -> 0
B12: - Học phí | C12: 0
B13: - Thu khác | C13: 0
B14: 3. Số nộp NSNN | C14: 0
A15: B | B15: Dự toán chi ngân sách nhà nước | C15: =C17+C25 -> 0
B16: Giáo dục, đào tạo, dạy nghề
A17: I | B17: Kinh phí thực hiện tự chủ | C17: =SUM(C18:C24) -> 0
A18: 1 | B18: {=TRANSPOSE('TONG HOP'!E5:K5)} -> NSNN hỗ trợ chi thường xuyên cho đơn vị sự nghiệp công lập | C18: {=TRANSPOSE('TONG HOP'!E48:K48)} -> 0
A19: =A18+1 -> 2 | B19: Kinh phí cho hợp đồng hỗ trợ phục vụ | C19: 0
A20: =A19+1 -> 3 | B20: Chi hoạt động thường xuyên | C20: 0
A21: =A20+1 -> 4 | B21: Dự toán giữ lại | C21: 0
A22: =A21+1 -> 5 | B22: nội dung 5 | C22: 0
A23: =A22+1 -> 6 | B23: nội dung 6 | C23: 0
A24: =A23+1 -> 7 | B24: nội dung 7 | C24: 0
A25: II | B25: Kinh phí không thực hiện tự chủ | C25: =SUM(C26:C45) -> 0
A26: 1 | B26: {=TRANSPOSE('TONG HOP'!M5:AF5)} -> Kinh phí hỗ trợ chi phí học tập theo Nghị định số 238/2025/NĐ-CP | C26: {=TRANSPOSE('TONG HOP'!M48:AF48)} -> 0
A27: =A26+1 -> 2 | B27: Kinh phí hỗ trợ học bổng theo Thông tư số 42/2013/TTLT-BGDĐT-BLĐTBXH | C27: 0
A28: =A27+1 -> 3 | B28: Kinh phí hỗ trợ tiền ăn ở theo Nghị định số 66/2025/NĐ-CP | C28: 0
A29: =A28+1 -> 4 | B29: Kinh phí hỗ trợ học bổng theo Nghị định số 57/2017/NĐ-CP | C29: 0
A30: =A29+1 -> 5 | B30: Chế độ, chính sách cho hợp đồng chuyên môn, nghiệp vụ trong các đơn vị sự nghiệp công lập do ngân sách nhà nước bảo đảm chi thường xuyên thuộc lĩnh vực giáo dục theo Nghị quyết của HĐND tỉnh | C30: 0
A31: =A30+1 -> 6 | B31: Chính sách hợp đồng thực hiện công việc hỗ trợ, phục vụ hoạt động thường xuyên của cơ quan đơn vị do lãnh đạo cơ quan quyết định | C31: 0
A32: =A31+1 -> 7 | B32: Mua sắm trang thiết bị, sữa chữa trường học | C32: 0
A33: =A32+1 -> 8 | B33: Kinh phí thực hiện dạy học 2 buổi/ngày năm học 2025-2026 | C33: 0
A34: =A33+1 -> 9 | B34: Kinh phí thực hiện chế độ, chính sách theo Nghị định số 154/2025/NĐ-CP ngày 15/6/2025 của Chính phủ | C34: 0
A35: =A34+1 -> 10 | B35: Kinh phí sữa chữa , bảo dưỡng nhà xe, sân trường Trường THPT Gia Nghĩa (trước sáp nhập) | C35: 0
A36: =A35+1 -> 11 | B36: Kinh phí khen thưởng năm 2026 theo nghị định 161/NĐ-CP ngày 15/05/2026 | C36: 0
A37: =A36+1 -> 12 | B37: Gia hạn phần mềm misa | C37: 0
A38: =A37+1 -> 13 | B38: Kinh phí Cấp bù học phí | C38: 0
... A45: =A44+1 -> 20 | B45: Dự toán giữ lại | C45: 0
A46: C | B46: Mã số đơn vị sử dụng ngân sách | C46: ='TONG HOP'!AG48 -> 1083485

Sheet LHPhong
A1: DỰ TOÁN CHI NGÂN SÁCH NHÀ NƯỚC NĂM 2026 SAU SÁP NHẬP (ĐỢT 2)
A2: ='TONG HOP'!B49 -> Trường THPT Lê Hồng Phong
A3: ='TONG HOP'!A2:AH2 -> (Kèm theo Quyết định số /QĐ-SGDĐT ngày tháng 10 năm 2026 của Sở Giáo dục và Đào tạo tỉnh Lâm Đồng)
A4: Chương: 422 ; Loại: 070 ; Khoản: 074
C5: Đơn vị: đồng
A6: Nội dung | C6: Tổng số
A7: A | B7: Tổng số thu, chi, nộp ngân sách
B8: 1. Số thu | C8: =SUM(C9:C10) -> 0
B9: - Học phí | C9: 0
B10: - Thu khác | C10: 0
B11: 2. Chi từ nguồn thu được để lại | C11: =SUM(C12:C13) -> 0
B12: - Học phí | C12: 0
B13: - Thu khác | C13: 0
B14: 3. Số nộp NSNN | C14: 0
B15: Dự toán chi ngân sách nhà nước | C15: =C17+C25 -> 0
B16: Giáo dục, đào tạo, dạy nghề
A17: I | B17: Kinh phí thực hiện tự chủ | C17: =SUM(C18:C24) -> 0
A18: 1 | B18: {=TRANSPOSE('TONG HOP'!E5:K5)} -> NSNN hỗ trợ chi thường xuyên cho đơn vị sự nghiệp công lập | C18: {=TRANSPOSE('TONG HOP'!E49:K49)} -> 0
A19: =A18+1 -> 2 | B19: Kinh phí cho hợp đồng hỗ trợ phục vụ | C19: 0
A20: =A19+1 -> 3 | B20: Chi hoạt động thường xuyên | C20: 0
A21: =A20+1 -> 4 | B21: Dự toán giữ lại | C21: 0
A22: =A21+1 -> 5 | B22: nội dung 5 | C22: 0
A23: =A22+1 -> 6 | B23: nội dung 6 | C23: 0
A24: =A23+1 -> 7 | B24: nội dung 7 | C24: 0
A25: II | B25: Kinh phí không thực hiện tự chủ | C25: =SUM(C26:C45) -> 0
A26: 1 | B26: {=TRANSPOSE('TONG HOP'!M5:AF5)} -> Kinh phí hỗ trợ chi phí học tập theo Nghị định số 238/2025/NĐ-CP | C26: {=TRANSPOSE('TONG HOP'!M49:AF49)} -> 0
A27: =A26+1 -> 2 | B27: Kinh phí hỗ trợ học bổng theo Thông tư số 42/2013/TTLT-BGDĐT-BLĐTBXH | C27: 0
A28: =A27+1 -> 3 | B28: Kinh phí hỗ trợ tiền ăn ở theo Nghị định số 66/2025/NĐ-CP | C28: 0
A29: =A28+1 -> 4 | B29: Kinh phí hỗ trợ học bổng theo Nghị định số 57/2017/NĐ-CP | C29: 0
A30: =A29+1 -> 5 | B30: Chế độ, chính sách cho hợp đồng chuyên môn, nghiệp vụ trong các đơn vị sự nghiệp công lập do ngân sách nhà nước bảo đảm chi thường xuyên thuộc lĩnh vực giáo dục theo Nghị quyết của HĐND tỉnh | C30: 0
A31: =A30+1 -> 6 | B31: Chính sách hợp đồng thực hiện công việc hỗ trợ, phục vụ hoạt động thường xuyên của cơ quan đơn vị do lãnh đạo cơ quan quyết định | C31: 0
A32: =A31+1 -> 7 | B32: Mua sắm trang thiết bị, sữa chữa trường học | C32: 0
A33: =A32+1 -> 8 | B33: Kinh phí thực hiện dạy học 2 buổi/ngày năm học 2025-2026 | C33: 0
A34: =A33+1 -> 9 | B34: Kinh phí thực hiện chế độ, chính sách theo Nghị định số 154/2025/NĐ-CP ngày 15/6/2025 của Chính phủ | C34: 0
A35: =A34+1 -> 10 | B35: Kinh phí sữa chữa , bảo dưỡng nhà xe, sân trường Trường THPT Gia Nghĩa (trước sáp nhập) | C35: 0
A36: =A35+1 -> 11 | B36: Kinh phí khen thưởng năm 2026 theo nghị định 161/NĐ-CP ngày 15/05/2026 | C36: 0
A37: =A36+1 -> 12 | B37: Gia hạn phần mềm misa | C37: 0
A38: =A37+1 -> 13 | B38: Kinh phí Cấp bù học phí | C38: 0
... A45: =A44+1 -> 20 | B45: Dự toán giữ lại | C45: 0
A46: C | B46: Mã số đơn vị sử dụng ngân sách | C46: ='TONG HOP'!AG49 -> 1009653

Sheet NVXuan
A1: DỰ TOÁN CHI NGÂN SÁCH NHÀ NƯỚC NĂM 2026 SAU SÁP NHẬP (ĐỢT 2)
A2: ='TONG HOP'!B50 -> Trường THCS&THPT Nguyễn Viết Xuân
A3: ='TONG HOP'!A2:AH2 -> (Kèm theo Quyết định số /QĐ-SGDĐT ngày tháng 10 năm 2026 của Sở Giáo dục và Đào tạo tỉnh Lâm Đồng)
A4: Chương: 422 ; Loại: 070 ; Khoản: 074
C5: Đơn vị: đồng
A6: Nội dung | C6: Tổng số
A7: A | B7: Tổng số thu, chi, nộp ngân sách
B8: 1. Số thu | C8: =SUM(C9:C10) -> 0
B9: - Học phí | C9: 0
B10: - Thu khác | C10: 0
B11: 2. Chi từ nguồn thu được để lại | C11: =SUM(C12:C13) -> 0
B12: - Học phí | C12: 0
B13: - Thu khác | C13: 0
B14: 3. Số nộp NSNN | C14: 0
B15: Dự toán chi ngân sách nhà nước | C15: =C17+C25 -> 14371603440
B16: Giáo dục, đào tạo, dạy nghề
A17: I | B17: Kinh phí thực hiện tự chủ | C17: =SUM(C18:C24) -> 12661617000
A18: 1 | B18: {=TRANSPOSE('TONG HOP'!E5:K5)} -> NSNN hỗ trợ chi thường xuyên cho đơn vị sự nghiệp công lập | C18: {=TRANSPOSE('TONG HOP'!E50:K50)} -> 11152636000
A19: =A18+1 -> 2 | B19: Kinh phí cho hợp đồng hỗ trợ phục vụ | C19: 0
A20: 2 | B20: Chi hoạt động thường xuyên | C20: 1328995959
A21: 3 | B21: Dự toán giữ lại | C21: 179985041
A22: =A21+1 -> 4 | B22: nội dung 5 | C22: 0
A23: =A22+1 -> 5 | B23: nội dung 6 | C23: 0
A24: =A23+1 -> 6 | B24: nội dung 7 | C24: 0
A25: II | B25: Kinh phí không thực hiện tự chủ | C25: =SUM(C26:C45) -> 1709986440
A26: 1 | B26: {=TRANSPOSE('TONG HOP'!M5:AF5)} -> Kinh phí hỗ trợ chi phí học tập theo Nghị định số 238/2025/NĐ-CP | C26: {=TRANSPOSE('TONG HOP'!M50:AF50)} -> 58518000
A27: =A26+1 -> 2 | B27: Kinh phí hỗ trợ học bổng theo Thông tư số 42/2013/TTLT-BGDĐT-BLĐTBXH | C27: 0
A28: =A27+1 -> 3 | B28: Kinh phí hỗ trợ tiền ăn ở theo Nghị định số 66/2025/NĐ-CP | C28: 163296000
A29: =A28+1 -> 4 | B29: Kinh phí hỗ trợ học bổng theo Nghị định số 57/2017/NĐ-CP | C29: 0
A30: 4 | B30: Chế độ, chính sách cho hợp đồng chuyên môn, nghiệp vụ trong các đơn vị sự nghiệp công lập do ngân sách nhà nước bảo đảm chi thường xuyên thuộc lĩnh vực giáo dục theo Nghị quyết của HĐND tỉnh | C30: 603172440
A31: 5 | B31: Chính sách hợp đồng thực hiện công việc hỗ trợ, phục vụ hoạt động thường xuyên của cơ quan đơn vị do lãnh đạo cơ quan quyết định | C31: 144000000
A32: 6 | B32: Mua sắm trang thiết bị, sữa chữa trường học | C32: 0
A33: 6 | B33: Kinh phí thực hiện dạy học 2 buổi/ngày năm học 2025-2026 | C33: 741000000
A34: =A33+1 -> 7 | B34: Kinh phí thực hiện chế độ, chính sách theo Nghị định số 154/2025/NĐ-CP ngày 15/6/2025 của Chính phủ | C34: 0
A35: =A34+1 -> 8 | B35: Kinh phí sữa chữa , bảo dưỡng nhà xe, sân trường Trường THPT Gia Nghĩa (trước sáp nhập) | C35: 0
A36: 8 | B36: Kinh phí khen thưởng năm 2026 theo nghị định 161/NĐ-CP ngày 15/05/2026 | C36: 0
A37: 9 | B37: Gia hạn phần mềm misa | C37: 0
A38: 10 | B38: Kinh phí Cấp bù học phí | C38: 0
A39: =A38+1 -> 11 | B39: Kinh phí Đảng | C39: 0
A40: =A39+1 -> 12 | B40: Chế độ bồi dưỡng và chế độ trang phục đối với giáo viên thể dục | C40: 0
A41: =A40+1 -> 13 | B41: Kinh phí thực hiện cho giáo viên dạy cho học sinh khuyết tật theo Nghị định 28/2012/NĐ-CP | C41: 0
A42: 11 | B42: Kinh phí thực hiện CCTL | C42: 0
A43: =A42+1 -> 12 | B43: Kinh phí bổ sung dự toán chi NSNN năm 2026 để thực hiện truy lĩnh kinh phí phụ cấp độc hại, nguy hiểm đối với nhân viên thiết bị, thí nghiệm | C43: 0
A44: =A43+1 -> 13 | B44: Dự toán giữ lại | C44: 0
A45: =A44+1 -> 14 | B45: Dự toán giữ lại | C45: 0
A46: C | B46: Mã số đơn vị sử dụng ngân sách | C46: ='TONG HOP'!AG50 -> 1178359

Sheet NH-ĐTThuong
A1: DỰ TOÁN CHI NGÂN SÁCH NHÀ NƯỚC NĂM 2026 SAU SÁP NHẬP (ĐỢT 2)
A2: ='TONG HOP'!B51 -> Trường THCS&THPT Nguyễn Huệ
A3: ='TONG HOP'!A2:AH2 -> (Kèm theo Quyết định số /QĐ-SGDĐT ngày tháng 10 năm 2026 của Sở Giáo dục và Đào tạo tỉnh Lâm Đồng)
A4: Chương: 422 ; Loại: 070 ; Khoản: 074
C5: Đơn vị: đồng
A6: Nội dung | C6: Tổng số
A7: A | B7: Tổng số thu, chi, nộp ngân sách
B8: 1. Số thu | C8: =SUM(C9:C10) -> 0
B9: - Học phí | C9: 0
B10: - Thu khác | C10: 0
B11: 2. Chi từ nguồn thu được để lại | C11: =SUM(C12:C13) -> 0
B12: - Học phí | C12: 0
B13: - Thu khác | C13: 0
B14: 3. Số nộp NSNN | C14: 0
B15: Dự toán chi ngân sách nhà nước | C15: =C17+C25 -> 10489351728
B16: Giáo dục, đào tạo, dạy nghề
A17: I | B17: Kinh phí thực hiện tự chủ | C17: =SUM(C18:C24) -> 8147958000
A18: 1 | B18: {=TRANSPOSE('TONG HOP'!E5:K5)} -> NSNN hỗ trợ chi thường xuyên cho đơn vị sự nghiệp công lập | C18: {=TRANSPOSE('TONG HOP'!E51:K51)} -> 7178342000
A19: =A18+1 -> 2 | B19: Kinh phí cho hợp đồng hỗ trợ phục vụ | C19: 0
A20: 2 | B20: Chi hoạt động thường xuyên | C20: 863745111
A21: 3 | B21: Dự toán giữ lại | C21: 105870889
A22: =A21+1 -> 4 | B22: nội dung 5 | C22: 0
A23: =A22+1 -> 5 | B23: nội dung 6 | C23: 0
A24: =A23+1 -> 6 | B24: nội dung 7 | C24: 0
A25: II | B25: Kinh phí không thực hiện tự chủ | C25: =SUM(C26:C45) -> 2341393728
A26: 1 | B26: {=TRANSPOSE('TONG HOP'!M5:AF5)} -> Kinh phí hỗ trợ chi phí học tập theo Nghị định số 238/2025/NĐ-CP | C26: {=TRANSPOSE('TONG HOP'!M51:AF51)} -> 75196800
A27: =A26+1 -> 2 | B27: Kinh phí hỗ trợ học bổng theo Thông tư số 42/2013/TTLT-BGDĐT-BLĐTBXH | C27: 0
A28: 2 | B28: Kinh phí hỗ trợ tiền ăn ở theo Nghị định số 66/2025/NĐ-CP | C28: 452790000
A29: =A28+1 -> 3 | B29: Kinh phí hỗ trợ học bổng theo Nghị định số 57/2017/NĐ-CP | C29: 0
A30: 3 | B30: Chế độ, chính sách cho hợp đồng chuyên môn, nghiệp vụ trong các đơn vị sự nghiệp công lập do ngân sách nhà nước bảo đảm chi thường xuyên thuộc lĩnh vực giáo dục theo Nghị quyết của HĐND tỉnh | C30: 723806928
A31: 4 | B31: Chính sách hợp đồng thực hiện công việc hỗ trợ, phục vụ hoạt động thường xuyên của cơ quan đơn vị do lãnh đạo cơ quan quyết định | C31: 144000000
A32: 5 | B32: Mua sắm trang thiết bị, sữa chữa trường học | C32: 345600000
A33: 6 | B33: Kinh phí thực hiện dạy học 2 buổi/ngày năm học 2025-2026 | C33: 600000000
A34: =A33+1 -> 7 | B34: Kinh phí thực hiện chế độ, chính sách theo Nghị định số 154/2025/NĐ-CP ngày 15/6/2025 của Chính phủ | C34: 0
A35: =A34+1 -> 8 | B35: Kinh phí sữa chữa , bảo dưỡng nhà xe, sân trường Trường THPT Gia Nghĩa (trước sáp nhập) | C35: 0
A36: =A35+1 -> 9 | B36: Kinh phí khen thưởng năm 2026 theo nghị định 161/NĐ-CP ngày 15/05/2026 | C36: 0
A37: 8 | B37: Gia hạn phần mềm misa | C37: 0
A38: 9 | B38: Kinh phí Cấp bù học phí | C38: 0
A39: =A38+1 -> 10 | B39: Kinh phí Đảng | C39: 0
A40: =A39+1 -> 11 | B40: Chế độ bồi dưỡng và chế độ trang phục đối với giáo viên thể dục | C40: 0
A41: =A40+1 -> 12 | B41: Kinh phí thực hiện cho giáo viên dạy cho học sinh khuyết tật theo Nghị định 28/2012/NĐ-CP | C41: 0
A42: =A41+1 -> 13 | B42: Kinh phí thực hiện CCTL | C42: 0
A43: 10 | B43: Kinh phí bổ sung dự toán chi NSNN năm 2026 để thực hiện truy lĩnh kinh phí phụ cấp độc hại, nguy hiểm đối với nhân viên thiết bị, thí nghiệm | C43: 0
A44: =A43+1 -> 11 | B44: Dự toán giữ lại | C44: 0
A45: =A44+1 -> 12 | B45: Dự toán giữ lại | C45: 0
A46: C | B46: Mã số đơn vị sử dụng ngân sách | C46: ='TONG HOP'!AG51 -> 1178003

Sheet PBC-DLinh
A1: DỰ TOÁN THU, CHI NGÂN SÁCH NHÀ NƯỚC NĂM 2026
A2: ='TONG HOP'!B52 -> Trường THPT Phan Bội Châu - Di Linh
A3: ='TONG HOP'!A2:AH2 -> (Kèm theo Quyết định số /QĐ-SGDĐT ngày tháng 10 năm 2026 của Sở Giáo dục và Đào tạo tỉnh Lâm Đồng)
A4: Chương: 422 ; Loại: 070 ; Khoản: 074
C5: Đơn vị: đồng
A6: Nội dung | C6: Tổng số
A7: A | B7: Tổng số thu, chi, nộp ngân sách
B8: 1. Số thu | C8: =SUM(C9:C10) -> 0
B9: - Học phí | C9: 0
B10: - Thu khác | C10: 0
B11: 2. Chi từ nguồn thu được để lại | C11: =SUM(C12:C13) -> 0
B12: - Học phí | C12: 0
B13: - Thu khác | C13: 0
B14: 3. Số nộp NSNN | C14: 0
A15: B | B15: Dự toán chi ngân sách nhà nước | C15: =C17+C25 -> 0
B16: Giáo dục, đào tạo, dạy nghề
A17: I | B17: Kinh phí thực hiện tự chủ | C17: =SUM(C18:C24) -> 0
A18: 1 | B18: {=TRANSPOSE('TONG HOP'!E5:K5)} -> NSNN hỗ trợ chi thường xuyên cho đơn vị sự nghiệp công lập | C18: {=TRANSPOSE('TONG HOP'!E52:K52)} -> 0
A19: =A18+1 -> 2 | B19: Kinh phí cho hợp đồng hỗ trợ phục vụ | C19: 0
A20: =A19+1 -> 3 | B20: Chi hoạt động thường xuyên | C20: 0
A21: =A20+1 -> 4 | B21: Dự toán giữ lại | C21: 0
A22: =A21+1 -> 5 | B22: nội dung 5 | C22: 0
A23: =A22+1 -> 6 | B23: nội dung 6 | C23: 0
A24: =A23+1 -> 7 | B24: nội dung 7 | C24: 0
A25: II | B25: Kinh phí không thực hiện tự chủ | C25: =SUM(C26:C45) -> 0
A26: 1 | B26: {=TRANSPOSE('TONG HOP'!M5:AF5)} -> Kinh phí hỗ trợ chi phí học tập theo Nghị định số 238/2025/NĐ-CP | C26: {=TRANSPOSE('TONG HOP'!M52:AF52)} -> 0
A27: =A26+1 -> 2 | B27: Kinh phí hỗ trợ học bổng theo Thông tư số 42/2013/TTLT-BGDĐT-BLĐTBXH | C27: 0
A28: =A27+1 -> 3 | B28: Kinh phí hỗ trợ tiền ăn ở theo Nghị định số 66/2025/NĐ-CP | C28: 0
A29: =A28+1 -> 4 | B29: Kinh phí hỗ trợ học bổng theo Nghị định số 57/2017/NĐ-CP | C29: 0
A30: =A29+1 -> 5 | B30: Chế độ, chính sách cho hợp đồng chuyên môn, nghiệp vụ trong các đơn vị sự nghiệp công lập do ngân sách nhà nước bảo đảm chi thường xuyên thuộc lĩnh vực giáo dục theo Nghị quyết của HĐND tỉnh | C30: 0
A31: =A30+1 -> 6 | B31: Chính sách hợp đồng thực hiện công việc hỗ trợ, phục vụ hoạt động thường xuyên của cơ quan đơn vị do lãnh đạo cơ quan quyết định | C31: 0
A32: =A31+1 -> 7 | B32: Mua sắm trang thiết bị, sữa chữa trường học | C32: 0
A33: =A32+1 -> 8 | B33: Kinh phí thực hiện dạy học 2 buổi/ngày năm học 2025-2026 | C33: 0
A34: =A33+1 -> 9 | B34: Kinh phí thực hiện chế độ, chính sách theo Nghị định số 154/2025/NĐ-CP ngày 15/6/2025 của Chính phủ | C34: 0
A35: =A34+1 -> 10 | B35: Kinh phí sữa chữa , bảo dưỡng nhà xe, sân trường Trường THPT Gia Nghĩa (trước sáp nhập) | C35: 0
A36: =A35+1 -> 11 | B36: Kinh phí khen thưởng năm 2026 theo nghị định 161/NĐ-CP ngày 15/05/2026 | C36: 0
A37: =A36+1 -> 12 | B37: Gia hạn phần mềm misa | C37: 0
A38: =A37+1 -> 13 | B38: Kinh phí Cấp bù học phí | C38: 0
... A45: =A44+1 -> 20 | B45: Dự toán giữ lại | C45: 0
A46: C | B46: Mã số đơn vị sử dụng ngân sách | C46: ='TONG HOP'!AG52 -> 1011664

Sheet BLam
A1: DỰ TOÁN THU, CHI NGÂN SÁCH NHÀ NƯỚC NĂM 2026
A2: ='TONG HOP'!B53 -> Trường THPT Bảo Lâm
A3: ='TONG HOP'!A2:AH2 -> (Kèm theo Quyết định số /QĐ-SGDĐT ngày tháng 10 năm 2026 của Sở Giáo dục và Đào tạo tỉnh Lâm Đồng)
A4: Chương: 422 ; Loại: 070 ; Khoản: 074
C5: Đơn vị: đồng
A6: Nội dung | C6: Tổng số
A7: A | B7: Tổng số thu, chi, nộp ngân sách
B8: 1. Số thu | C8: =SUM(C9:C10) -> 0
B9: - Học phí | C9: 0
B10: - Thu khác | C10: 0
B11: 2. Chi từ nguồn thu được để lại | C11: =SUM(C12:C13) -> 0
B12: - Học phí | C12: 0
B13: - Thu khác | C13: 0
B14: 3. Số nộp NSNN | C14: 0
A15: B | B15: Dự toán chi ngân sách nhà nước | C15: =C17+C25 -> 0
B16: Giáo dục, đào tạo, dạy nghề
A17: I | B17: Kinh phí thực hiện tự chủ | C17: =SUM(C18:C24) -> 0
A18: 1 | B18: {=TRANSPOSE('TONG HOP'!E5:K5)} -> NSNN hỗ trợ chi thường xuyên cho đơn vị sự nghiệp công lập | C18: {=TRANSPOSE('TONG HOP'!E53:K53)} -> 0
A19: =A18+1 -> 2 | B19: Kinh phí cho hợp đồng hỗ trợ phục vụ | C19: 0
A20: =A19+1 -> 3 | B20: Chi hoạt động thường xuyên | C20: 0
A21: =A20+1 -> 4 | B21: Dự toán giữ lại | C21: 0
A22: =A21+1 -> 5 | B22: nội dung 5 | C22: 0
A23: =A22+1 -> 6 | B23: nội dung 6 | C23: 0
A24: =A23+1 -> 7 | B24: nội dung 7 | C24: 0
A25: II | B25: Kinh phí không thực hiện tự chủ | C25: =SUM(C26:C45) -> 0
A26: 1 | B26: {=TRANSPOSE('TONG HOP'!M5:AF5)} -> Kinh phí hỗ trợ chi phí học tập theo Nghị định số 238/2025/NĐ-CP | C26: {=TRANSPOSE('TONG HOP'!M53:AF53)} -> 0
A27: =A26+1 -> 2 | B27: Kinh phí hỗ trợ học bổng theo Thông tư số 42/2013/TTLT-BGDĐT-BLĐTBXH | C27: 0
A28: =A27+1 -> 3 | B28: Kinh phí hỗ trợ tiền ăn ở theo Nghị định số 66/2025/NĐ-CP | C28: 0
A29: =A28+1 -> 4 | B29: Kinh phí hỗ trợ học bổng theo Nghị định số 57/2017/NĐ-CP | C29: 0
A30: =A29+1 -> 5 | B30: Chế độ, chính sách cho hợp đồng chuyên môn, nghiệp vụ trong các đơn vị sự nghiệp công lập do ngân sách nhà nước bảo đảm chi thường xuyên thuộc lĩnh vực giáo dục theo Nghị quyết của HĐND tỉnh | C30: 0
A31: =A30+1 -> 6 | B31: Chính sách hợp đồng thực hiện công việc hỗ trợ, phục vụ hoạt động thường xuyên của cơ quan đơn vị do lãnh đạo cơ quan quyết định | C31: 0
A32: =A31+1 -> 7 | B32: Mua sắm trang thiết bị, sữa chữa trường học | C32: 0
A33: =A32+1 -> 8 | B33: Kinh phí thực hiện dạy học 2 buổi/ngày năm học 2025-2026 | C33: 0
A34: =A33+1 -> 9 | B34: Kinh phí thực hiện chế độ, chính sách theo Nghị định số 154/2025/NĐ-CP ngày 15/6/2025 của Chính phủ | C34: 0
A35: =A34+1 -> 10 | B35: Kinh phí sữa chữa , bảo dưỡng nhà xe, sân trường Trường THPT Gia Nghĩa (trước sáp nhập) | C35: 0
A36: =A35+1 -> 11 | B36: Kinh phí khen thưởng năm 2026 theo nghị định 161/NĐ-CP ngày 15/05/2026 | C36: 0
A37: =A36+1 -> 12 | B37: Gia hạn phần mềm misa | C37: 0
A38: =A37+1 -> 13 | B38: Kinh phí Cấp bù học phí | C38: 0
... A45: =A44+1 -> 20 | B45: Dự toán giữ lại | C45: 0
A46: C | B46: Mã số đơn vị sử dụng ngân sách | C46: ='TONG HOP'!AG53 -> 1072815

Sheet LAn
A1: DỰ TOÁN THU, CHI NGÂN SÁCH NHÀ NƯỚC NĂM 2026
A2: ='TONG HOP'!B54 -> Trường THPT Lộc An
A3: ='TONG HOP'!A2:AH2 -> (Kèm theo Quyết định số /QĐ-SGDĐT ngày tháng 10 năm 2026 của Sở Giáo dục và Đào tạo tỉnh Lâm Đồng)
A4: Chương: 422 ; Loại: 070 ; Khoản: 074
C5: Đơn vị: đồng
A6: Nội dung | C6: Tổng số
A7: A | B7: Tổng số thu, chi, nộp ngân sách
B8: 1. Số thu | C8: =SUM(C9:C10) -> 0
B9: - Học phí | C9: 0
B10: - Thu khác | C10: 0
B11: 2. Chi từ nguồn thu được để lại | C11: =SUM(C12:C13) -> 0
B12: - Học phí | C12: 0
B13: - Thu khác | C13: 0
B14: 3. Số nộp NSNN | C14: 0
A15: B | B15: Dự toán chi ngân sách nhà nước | C15: =C17+C25 -> 0
B16: Giáo dục, đào tạo, dạy nghề
A17: I | B17: Kinh phí thực hiện tự chủ | C17: =SUM(C18:C24) -> 0
A18: 1 | B18: {=TRANSPOSE('TONG HOP'!E5:K5)} -> NSNN hỗ trợ chi thường xuyên cho đơn vị sự nghiệp công lập | C18: {=TRANSPOSE('TONG HOP'!E54:K54)} -> 0
A19: =A18+1 -> 2 | B19: Kinh phí cho hợp đồng hỗ trợ phục vụ | C19: 0
A20: =A19+1 -> 3 | B20: Chi hoạt động thường xuyên | C20: 0
A21: =A20+1 -> 4 | B21: Dự toán giữ lại | C21: 0
A22: =A21+1 -> 5 | B22: nội dung 5 | C22: 0
A23: =A22+1 -> 6 | B23: nội dung 6 | C23: 0
A24: =A23+1 -> 7 | B24: nội dung 7 | C24: 0
A25: II | B25: Kinh phí không thực hiện tự chủ | C25: =SUM(C26:C45) -> 0
A26: 1 | B26: {=TRANSPOSE('TONG HOP'!M5:AF5)} -> Kinh phí hỗ trợ chi phí học tập theo Nghị định số 238/2025/NĐ-CP | C26: {=TRANSPOSE('TONG HOP'!M54:AF54)} -> 0
A27: =A26+1 -> 2 | B27: Kinh phí hỗ trợ học bổng theo Thông tư số 42/2013/TTLT-BGDĐT-BLĐTBXH | C27: 0
A28: =A27+1 -> 3 | B28: Kinh phí hỗ trợ tiền ăn ở theo Nghị định số 66/2025/NĐ-CP | C28: 0
A29: =A28+1 -> 4 | B29: Kinh phí hỗ trợ học bổng theo Nghị định số 57/2017/NĐ-CP | C29: 0
A30: =A29+1 -> 5 | B30: Chế độ, chính sách cho hợp đồng chuyên môn, nghiệp vụ trong các đơn vị sự nghiệp công lập do ngân sách nhà nước bảo đảm chi thường xuyên thuộc lĩnh vực giáo dục theo Nghị quyết của HĐND tỉnh | C30: 0
A31: =A30+1 -> 6 | B31: Chính sách hợp đồng thực hiện công việc hỗ trợ, phục vụ hoạt động thường xuyên của cơ quan đơn vị do lãnh đạo cơ quan quyết định | C31: 0
A32: =A31+1 -> 7 | B32: Mua sắm trang thiết bị, sữa chữa trường học | C32: 0
A33: =A32+1 -> 8 | B33: Kinh phí thực hiện dạy học 2 buổi/ngày năm học 2025-2026 | C33: 0
A34: =A33+1 -> 9 | B34: Kinh phí thực hiện chế độ, chính sách theo Nghị định số 154/2025/NĐ-CP ngày 15/6/2025 của Chính phủ | C34: 0
A35: =A34+1 -> 10 | B35: Kinh phí sữa chữa , bảo dưỡng nhà xe, sân trường Trường THPT Gia Nghĩa (trước sáp nhập) | C35: 0
A36: =A35+1 -> 11 | B36: Kinh phí khen thưởng năm 2026 theo nghị định 161/NĐ-CP ngày 15/05/2026 | C36: 0
A37: =A36+1 -> 12 | B37: Gia hạn phần mềm misa | C37: 0
A38: =A37+1 -> 13 | B38: Kinh phí Cấp bù học phí | C38: 0
... A45: =A44+1 -> 20 | B45: Dự toán giữ lại | C45: 0
A46: C | B46: Mã số đơn vị sử dụng ngân sách | C46: ='TONG HOP'!AG54 -> 1071852

Sheet LThành
A1: DỰ TOÁN THU, CHI NGÂN SÁCH NHÀ NƯỚC NĂM 2026
A2: ='TONG HOP'!B55 -> Trường THPT Lộc Thành
A3: ='TONG HOP'!A2:AH2 -> (Kèm theo Quyết định số /QĐ-SGDĐT ngày tháng 10 năm 2026 của Sở Giáo dục và Đào tạo tỉnh Lâm Đồng)
A4: Chương: 422 ; Loại: 070 ; Khoản: 074
C5: Đơn vị: đồng
A6: Nội dung | C6: Tổng số
A7: A | B7: Tổng số thu, chi, nộp ngân sách
B8: 1. Số thu | C8: =SUM(C9:C10) -> 0
B9: - Học phí | C9: 0
B10: - Thu khác | C10: 0
B11: 2. Chi từ nguồn thu được để lại | C11: =SUM(C12:C13) -> 0
B12: - Học phí | C12: 0
B13: - Thu khác | C13: 0
B14: 3. Số nộp NSNN | C14: 0
A15: B | B15: Dự toán chi ngân sách nhà nước | C15: =C17+C25 -> 0
B16: Giáo dục, đào tạo, dạy nghề
A17: I | B17: Kinh phí thực hiện tự chủ | C17: =SUM(C18:C24) -> 0
A18: 1 | B18: {=TRANSPOSE('TONG HOP'!E5:K5)} -> NSNN hỗ trợ chi thường xuyên cho đơn vị sự nghiệp công lập | C18: {=TRANSPOSE('TONG HOP'!E55:K55)} -> 0
A19: =A18+1 -> 2 | B19: Kinh phí cho hợp đồng hỗ trợ phục vụ | C19: 0
A20: =A19+1 -> 3 | B20: Chi hoạt động thường xuyên | C20: 0
A21: =A20+1 -> 4 | B21: Dự toán giữ lại | C21: 0
A22: =A21+1 -> 5 | B22: nội dung 5 | C22: 0
A23: =A22+1 -> 6 | B23: nội dung 6 | C23: 0
A24: =A23+1 -> 7 | B24: nội dung 7 | C24: 0
A25: II | B25: Kinh phí không thực hiện tự chủ | C25: =SUM(C26:C45) -> 0
A26: 1 | B26: {=TRANSPOSE('TONG HOP'!M5:AF5)} -> Kinh phí hỗ trợ chi phí học tập theo Nghị định số 238/2025/NĐ-CP | C26: {=TRANSPOSE('TONG HOP'!M55:AF55)} -> 0
A27: =A26+1 -> 2 | B27: Kinh phí hỗ trợ học bổng theo Thông tư số 42/2013/TTLT-BGDĐT-BLĐTBXH | C27: 0
A28: =A27+1 -> 3 | B28: Kinh phí hỗ trợ tiền ăn ở theo Nghị định số 66/2025/NĐ-CP | C28: 0
A29: =A28+1 -> 4 | B29: Kinh phí hỗ trợ học bổng theo Nghị định số 57/2017/NĐ-CP | C29: 0
A30: =A29+1 -> 5 | B30: Chế độ, chính sách cho hợp đồng chuyên môn, nghiệp vụ trong các đơn vị sự nghiệp công lập do ngân sách nhà nước bảo đảm chi thường xuyên thuộc lĩnh vực giáo dục theo Nghị quyết của HĐND tỉnh | C30: 0
A31: =A30+1 -> 6 | B31: Chính sách hợp đồng thực hiện công việc hỗ trợ, phục vụ hoạt động thường xuyên của cơ quan đơn vị do lãnh đạo cơ quan quyết định | C31: 0
A32: =A31+1 -> 7 | B32: Mua sắm trang thiết bị, sữa chữa trường học | C32: 0
A33: =A32+1 -> 8 | B33: Kinh phí thực hiện dạy học 2 buổi/ngày năm học 2025-2026 | C33: 0
A34: =A33+1 -> 9 | B34: Kinh phí thực hiện chế độ, chính sách theo Nghị định số 154/2025/NĐ-CP ngày 15/6/2025 của Chính phủ | C34: 0
A35: =A34+1 -> 10 | B35: Kinh phí sữa chữa , bảo dưỡng nhà xe, sân trường Trường THPT Gia Nghĩa (trước sáp nhập) | C35: 0
A36: =A35+1 -> 11 | B36: Kinh phí khen thưởng năm 2026 theo nghị định 161/NĐ-CP ngày 15/05/2026 | C36: 0
A37: =A36+1 -> 12 | B37: Gia hạn phần mềm misa | C37: 0
A38: =A37+1 -> 13 | B38: Kinh phí Cấp bù học phí | C38: 0
... A45: =A44+1 -> 20 | B45: Dự toán giữ lại | C45: 0
A46: C | B46: Mã số đơn vị sử dụng ngân sách | C46: ='TONG HOP'!AG55 -> 1009801

Sheet LBac
A1: DỰ TOÁN THU, CHI NGÂN SÁCH NHÀ NƯỚC NĂM 2026
A2: ='TONG HOP'!B56 -> Trường THCS&THPT Lộc Bắc
A3: ='TONG HOP'!A2:AH2 -> (Kèm theo Quyết định số /QĐ-SGDĐT ngày tháng 10 năm 2026 của Sở Giáo dục và Đào tạo tỉnh Lâm Đồng)
A4: Chương: 422 ; Loại: 070 ; Khoản: 074
C5: Đơn vị: đồng
A6: Nội dung | C6: Tổng số
A7: A | B7: Tổng số thu, chi, nộp ngân sách
B8: 1. Số thu | C8: =SUM(C9:C10) -> 0
B9: - Học phí | C9: 0
B10: - Thu khác | C10: 0
B11: 2. Chi từ nguồn thu được để lại | C11: =SUM(C12:C13) -> 0
B12: - Học phí | C12: 0
B13: - Thu khác | C13: 0
B14: 3. Số nộp NSNN | C14: 0
A15: B | B15: Dự toán chi ngân sách nhà nước | C15: =C17+C25 -> 0
B16: Giáo dục, đào tạo, dạy nghề
A17: I | B17: Kinh phí thực hiện tự chủ | C17: =SUM(C18:C24) -> 0
A18: 1 | B18: {=TRANSPOSE('TONG HOP'!E5:K5)} -> NSNN hỗ trợ chi thường xuyên cho đơn vị sự nghiệp công lập | C18: {=TRANSPOSE('TONG HOP'!E56:K56)} -> 0
A19: =A18+1 -> 2 | B19: Kinh phí cho hợp đồng hỗ trợ phục vụ | C19: 0
A20: =A19+1 -> 3 | B20: Chi hoạt động thường xuyên | C20: 0
A21: =A20+1 -> 4 | B21: Dự toán giữ lại | C21: 0
A22: =A21+1 -> 5 | B22: nội dung 5 | C22: 0
A23: =A22+1 -> 6 | B23: nội dung 6 | C23: 0
A24: =A23+1 -> 7 | B24: nội dung 7 | C24: 0
A25: II | B25: Kinh phí không thực hiện tự chủ | C25: =SUM(C26:C45) -> 0
A26: 1 | B26: {=TRANSPOSE('TONG HOP'!M5:AF5)} -> Kinh phí hỗ trợ chi phí học tập theo Nghị định số 238/2025/NĐ-CP | C26: {=TRANSPOSE('TONG HOP'!M56:AF56)} -> 0
A27: =A26+1 -> 2 | B27: Kinh phí hỗ trợ học bổng theo Thông tư số 42/2013/TTLT-BGDĐT-BLĐTBXH | C27: 0
A28: =A27+1 -> 3 | B28: Kinh phí hỗ trợ tiền ăn ở theo Nghị định số 66/2025/NĐ-CP | C28: 0
A29: =A28+1 -> 4 | B29: Kinh phí hỗ trợ học bổng theo Nghị định số 57/2017/NĐ-CP | C29: 0
A30: =A29+1 -> 5 | B30: Chế độ, chính sách cho hợp đồng chuyên môn, nghiệp vụ trong các đơn vị sự nghiệp công lập do ngân sách nhà nước bảo đảm chi thường xuyên thuộc lĩnh vực giáo dục theo Nghị quyết của HĐND tỉnh | C30: 0
A31: =A30+1 -> 6 | B31: Chính sách hợp đồng thực hiện công việc hỗ trợ, phục vụ hoạt động thường xuyên của cơ quan đơn vị do lãnh đạo cơ quan quyết định | C31: 0
A32: =A31+1 -> 7 | B32: Mua sắm trang thiết bị, sữa chữa trường học | C32: 0
A33: =A32+1 -> 8 | B33: Kinh phí thực hiện dạy học 2 buổi/ngày năm học 2025-2026 | C33: 0
A34: =A33+1 -> 9 | B34: Kinh phí thực hiện chế độ, chính sách theo Nghị định số 154/2025/NĐ-CP ngày 15/6/2025 của Chính phủ | C34: 0
A35: =A34+1 -> 10 | B35: Kinh phí sữa chữa , bảo dưỡng nhà xe, sân trường Trường THPT Gia Nghĩa (trước sáp nhập) | C35: 0
A36: =A35+1 -> 11 | B36: Kinh phí khen thưởng năm 2026 theo nghị định 161/NĐ-CP ngày 15/05/2026 | C36: 0
A37: =A36+1 -> 12 | B37: Gia hạn phần mềm misa | C37: 0
A38: =A37+1 -> 13 | B38: Kinh phí Cấp bù học phí | C38: 0
... A45: =A44+1 -> 20 | B45: Dự toán giữ lại | C45: 0
A46: C | B46: Mã số đơn vị sử dụng ngân sách | C46: ='TONG HOP'!AG56 -> 1083483

Sheet Chuyen BLoc
A1: DỰ TOÁN THU, CHI NGÂN SÁCH NHÀ NƯỚC NĂM 2026
A2: ='TONG HOP'!B57 -> Trường THPT Chuyên Bảo Lộc
A3: ='TONG HOP'!A2:AH2 -> (Kèm theo Quyết định số /QĐ-SGDĐT ngày tháng 10 năm 2026 của Sở Giáo dục và Đào tạo tỉnh Lâm Đồng)
A4: Chương: 422 ; Loại: 070 ; Khoản: 074
C5: Đơn vị: đồng
A6: Nội dung | C6: Tổng số
A7: A | B7: Tổng số thu, chi, nộp ngân sách
B8: 1. Số thu | C8: =SUM(C9:C10) -> 0
B9: - Học phí | C9: 0
B10: - Thu khác | C10: 0
B11: 2. Chi từ nguồn thu được để lại | C11: =SUM(C12:C13) -> 0
B12: - Học phí | C12: 0
B13: - Thu khác | C13: 0
B14: 3. Số nộp NSNN | C14: 0
A15: B | B15: Dự toán chi ngân sách nhà nước | C15: =C17+C25 -> 0
B16: Giáo dục, đào tạo, dạy nghề
A17: I | B17: Kinh phí thực hiện tự chủ | C17: =SUM(C18:C24) -> 0
A18: 1 | B18: {=TRANSPOSE('TONG HOP'!E5:K5)} -> NSNN hỗ trợ chi thường xuyên cho đơn vị sự nghiệp công lập | C18: {=TRANSPOSE('TONG HOP'!E57:K57)} -> 0
A19: =A18+1 -> 2 | B19: Kinh phí cho hợp đồng hỗ trợ phục vụ | C19: 0
A20: =A19+1 -> 3 | B20: Chi hoạt động thường xuyên | C20: 0
A21: =A20+1 -> 4 | B21: Dự toán giữ lại | C21: 0
A22: =A21+1 -> 5 | B22: nội dung 5 | C22: 0
A23: =A22+1 -> 6 | B23: nội dung 6 | C23: 0
A24: =A23+1 -> 7 | B24: nội dung 7 | C24: 0
A25: II | B25: Kinh phí không thực hiện tự chủ | C25: =SUM(C26:C45) -> 0
A26: 1 | B26: {=TRANSPOSE('TONG HOP'!M5:AF5)} -> Kinh phí hỗ trợ chi phí học tập theo Nghị định số 238/2025/NĐ-CP | C26: {=TRANSPOSE('TONG HOP'!M57:AF57)} -> 0
A27: =A26+1 -> 2 | B27: Kinh phí hỗ trợ học bổng theo Thông tư số 42/2013/TTLT-BGDĐT-BLĐTBXH | C27: 0
A28: =A27+1 -> 3 | B28: Kinh phí hỗ trợ tiền ăn ở theo Nghị định số 66/2025/NĐ-CP | C28: 0
A29: =A28+1 -> 4 | B29: Kinh phí hỗ trợ học bổng theo Nghị định số 57/2017/NĐ-CP | C29: 0
A30: =A29+1 -> 5 | B30: Chế độ, chính sách cho hợp đồng chuyên môn, nghiệp vụ trong các đơn vị sự nghiệp công lập do ngân sách nhà nước bảo đảm chi thường xuyên thuộc lĩnh vực giáo dục theo Nghị quyết của HĐND tỉnh | C30: 0
A31: =A30+1 -> 6 | B31: Chính sách hợp đồng thực hiện công việc hỗ trợ, phục vụ hoạt động thường xuyên của cơ quan đơn vị do lãnh đạo cơ quan quyết định | C31: 0
A32: =A31+1 -> 7 | B32: Mua sắm trang thiết bị, sữa chữa trường học | C32: 0
A33: =A32+1 -> 8 | B33: Kinh phí thực hiện dạy học 2 buổi/ngày năm học 2025-2026 | C33: 0
A34: =A33+1 -> 9 | B34: Kinh phí thực hiện chế độ, chính sách theo Nghị định số 154/2025/NĐ-CP ngày 15/6/2025 của Chính phủ | C34: 0
A35: =A34+1 -> 10 | B35: Kinh phí sữa chữa , bảo dưỡng nhà xe, sân trường Trường THPT Gia Nghĩa (trước sáp nhập) | C35: 0
A36: =A35+1 -> 11 | B36: Kinh phí khen thưởng năm 2026 theo nghị định 161/NĐ-CP ngày 15/05/2026 | C36: 0
A37: =A36+1 -> 12 | B37: Gia hạn phần mềm misa | C37: 0
A38: =A37+1 -> 13 | B38: Kinh phí Cấp bù học phí | C38: 0
... A45: =A44+1 -> 20 | B45: Dự toán giữ lại | C45: 0
A46: C | B46: Mã số đơn vị sử dụng ngân sách | C46: ='TONG HOP'!AG57 -> 1115132

Sheet BLoc
A1: DỰ TOÁN CHI NGÂN SÁCH NHÀ NƯỚC NĂM 2026 SAU SÁP NHẬP (ĐỢT 2)
A2: ='TONG HOP'!B58 -> Trường THPT Bảo Lộc
A3: ='TONG HOP'!A2:AH2 -> (Kèm theo Quyết định số /QĐ-SGDĐT ngày tháng 10 năm 2026 của Sở Giáo dục và Đào tạo tỉnh Lâm Đồng)
A4: Chương: 422 ; Loại: 070 ; Khoản: 074
C5: Đơn vị: đồng
A6: Nội dung | C6: Tổng số
A7: A | B7: Tổng số thu, chi, nộp ngân sách
B8: 1. Số thu | C8: =SUM(C9:C10) -> 0
B9: - Học phí | C9: 0
B10: - Thu khác | C10: 0
B11: 2. Chi từ nguồn thu được để lại | C11: =SUM(C12:C13) -> 0
B12: - Học phí | C12: 0
B13: - Thu khác | C13: 0
B14: 3. Số nộp NSNN | C14: 0
B15: Dự toán chi ngân sách nhà nước | C15: =C17+C25 -> 0
B16: Giáo dục, đào tạo, dạy nghề
A17: I | B17: Kinh phí thực hiện tự chủ | C17: =SUM(C18:C24) -> 0
A18: 1 | B18: {=TRANSPOSE('TONG HOP'!E5:K5)} -> NSNN hỗ trợ chi thường xuyên cho đơn vị sự nghiệp công lập | C18: {=TRANSPOSE('TONG HOP'!E58:K58)} -> 0
A19: =A18+1 -> 2 | B19: Kinh phí cho hợp đồng hỗ trợ phục vụ | C19: 0
A20: =A19+1 -> 3 | B20: Chi hoạt động thường xuyên | C20: 0
A21: =A20+1 -> 4 | B21: Dự toán giữ lại | C21: 0
A22: =A21+1 -> 5 | B22: nội dung 5 | C22: 0
A23: =A22+1 -> 6 | B23: nội dung 6 | C23: 0
A24: =A23+1 -> 7 | B24: nội dung 7 | C24: 0
A25: II | B25: Kinh phí không thực hiện tự chủ | C25: =SUM(C26:C45) -> 0
A26: 1 | B26: {=TRANSPOSE('TONG HOP'!M5:AF5)} -> Kinh phí hỗ trợ chi phí học tập theo Nghị định số 238/2025/NĐ-CP | C26: {=TRANSPOSE('TONG HOP'!M58:AF58)} -> 0
A27: =A26+1 -> 2 | B27: Kinh phí hỗ trợ học bổng theo Thông tư số 42/2013/TTLT-BGDĐT-BLĐTBXH | C27: 0
A28: =A27+1 -> 3 | B28: Kinh phí hỗ trợ tiền ăn ở theo Nghị định số 66/2025/NĐ-CP | C28: 0
A29: =A28+1 -> 4 | B29: Kinh phí hỗ trợ học bổng theo Nghị định số 57/2017/NĐ-CP | C29: 0
A30: =A29+1 -> 5 | B30: Chế độ, chính sách cho hợp đồng chuyên môn, nghiệp vụ trong các đơn vị sự nghiệp công lập do ngân sách nhà nước bảo đảm chi thường xuyên thuộc lĩnh vực giáo dục theo Nghị quyết của HĐND tỉnh | C30: 0
A31: =A30+1 -> 6 | B31: Chính sách hợp đồng thực hiện công việc hỗ trợ, phục vụ hoạt động thường xuyên của cơ quan đơn vị do lãnh đạo cơ quan quyết định | C31: 0
A32: =A31+1 -> 7 | B32: Mua sắm trang thiết bị, sữa chữa trường học | C32: 0
A33: =A32+1 -> 8 | B33: Kinh phí thực hiện dạy học 2 buổi/ngày năm học 2025-2026 | C33: 0
A34: =A33+1 -> 9 | B34: Kinh phí thực hiện chế độ, chính sách theo Nghị định số 154/2025/NĐ-CP ngày 15/6/2025 của Chính phủ | C34: 0
A35: =A34+1 -> 10 | B35: Kinh phí sữa chữa , bảo dưỡng nhà xe, sân trường Trường THPT Gia Nghĩa (trước sáp nhập) | C35: 0
A36: =A35+1 -> 11 | B36: Kinh phí khen thưởng năm 2026 theo nghị định 161/NĐ-CP ngày 15/05/2026 | C36: 0
A37: =A36+1 -> 12 | B37: Gia hạn phần mềm misa | C37: 0
A38: =A37+1 -> 13 | B38: Kinh phí Cấp bù học phí | C38: 0
... A45: =A44+1 -> 20 | B45: Dự toán giữ lại | C45: 0
A46: C | B46: Mã số đơn vị sử dụng ngân sách | C46: ='TONG HOP'!AG58 -> 1009803

Sheet LTPha
A1: DỰ TOÁN CHI NGÂN SÁCH NHÀ NƯỚC NĂM 2026 SAU SÁP NHẬP (ĐỢT 2)
A2: ='TONG HOP'!B59 -> Trường THPT Lê Thị Pha
A3: ='TONG HOP'!A2:AH2 -> (Kèm theo Quyết định số /QĐ-SGDĐT ngày tháng 10 năm 2026 của Sở Giáo dục và Đào tạo tỉnh Lâm Đồng)
A4: Chương: 422 ; Loại: 070 ; Khoản: 074
C5: Đơn vị: đồng
A6: Nội dung | C6: Tổng số
A7: A | B7: Tổng số thu, chi, nộp ngân sách
B8: 1. Số thu | C8: =SUM(C9:C10) -> 0
B9: - Học phí | C9: 0
B10: - Thu khác | C10: 0
B11: 2. Chi từ nguồn thu được để lại | C11: =SUM(C12:C13) -> 0
B12: - Học phí | C12: 0
B13: - Thu khác | C13: 0
B14: 3. Số nộp NSNN | C14: 0
B15: Dự toán chi ngân sách nhà nước | C15: =C17+C25 -> 0
B16: Giáo dục, đào tạo, dạy nghề
A17: I | B17: Kinh phí thực hiện tự chủ | C17: =SUM(C18:C24) -> 0
A18: 1 | B18: {=TRANSPOSE('TONG HOP'!E5:K5)} -> NSNN hỗ trợ chi thường xuyên cho đơn vị sự nghiệp công lập | C18: {=TRANSPOSE('TONG HOP'!E59:K59)} -> 0
A19: =A18+1 -> 2 | B19: Kinh phí cho hợp đồng hỗ trợ phục vụ | C19: 0
A20: =A19+1 -> 3 | B20: Chi hoạt động thường xuyên | C20: 0
A21: =A20+1 -> 4 | B21: Dự toán giữ lại | C21: 0
A22: =A21+1 -> 5 | B22: nội dung 5 | C22: 0
A23: =A22+1 -> 6 | B23: nội dung 6 | C23: 0
A24: =A23+1 -> 7 | B24: nội dung 7 | C24: 0
A25: II | B25: Kinh phí không thực hiện tự chủ | C25: =SUM(C26:C45) -> 0
A26: 1 | B26: {=TRANSPOSE('TONG HOP'!M5:AF5)} -> Kinh phí hỗ trợ chi phí học tập theo Nghị định số 238/2025/NĐ-CP | C26: {=TRANSPOSE('TONG HOP'!M59:AF59)} -> 0
A27: =A26+1 -> 2 | B27: Kinh phí hỗ trợ học bổng theo Thông tư số 42/2013/TTLT-BGDĐT-BLĐTBXH | C27: 0
A28: =A27+1 -> 3 | B28: Kinh phí hỗ trợ tiền ăn ở theo Nghị định số 66/2025/NĐ-CP | C28: 0
A29: =A28+1 -> 4 | B29: Kinh phí hỗ trợ học bổng theo Nghị định số 57/2017/NĐ-CP | C29: 0
A30: =A29+1 -> 5 | B30: Chế độ, chính sách cho hợp đồng chuyên môn, nghiệp vụ trong các đơn vị sự nghiệp công lập do ngân sách nhà nước bảo đảm chi thường xuyên thuộc lĩnh vực giáo dục theo Nghị quyết của HĐND tỉnh | C30: 0
A31: =A30+1 -> 6 | B31: Chính sách hợp đồng thực hiện công việc hỗ trợ, phục vụ hoạt động thường xuyên của cơ quan đơn vị do lãnh đạo cơ quan quyết định | C31: 0
A32: =A31+1 -> 7 | B32: Mua sắm trang thiết bị, sữa chữa trường học | C32: 0
A33: =A32+1 -> 8 | B33: Kinh phí thực hiện dạy học 2 buổi/ngày năm học 2025-2026 | C33: 0
A34: =A33+1 -> 9 | B34: Kinh phí thực hiện chế độ, chính sách theo Nghị định số 154/2025/NĐ-CP ngày 15/6/2025 của Chính phủ | C34: 0
A35: =A34+1 -> 10 | B35: Kinh phí sữa chữa , bảo dưỡng nhà xe, sân trường Trường THPT Gia Nghĩa (trước sáp nhập) | C35: 0
A36: =A35+1 -> 11 | B36: Kinh phí khen thưởng năm 2026 theo nghị định 161/NĐ-CP ngày 15/05/2026 | C36: 0
A37: =A36+1 -> 12 | B37: Gia hạn phần mềm misa | C37: 0
A38: =A37+1 -> 13 | B38: Kinh phí Cấp bù học phí | C38: 0
... A45: =A44+1 -> 20 | B45: Dự toán giữ lại | C45: 0
A46: C | B46: Mã số đơn vị sử dụng ngân sách | C46: ='TONG HOP'!AG59 -> 1071845

Sheet LThanh
A1: DỰ TOÁN CHI NGÂN SÁCH NHÀ NƯỚC NĂM 2026 SAU SÁP NHẬP (ĐỢT 2)
A2: ='TONG HOP'!B60 -> Trường THPT Lộc Thanh
A3: ='TONG HOP'!A2:AH2 -> (Kèm theo Quyết định số /QĐ-SGDĐT ngày tháng 10 năm 2026 của Sở Giáo dục và Đào tạo tỉnh Lâm Đồng)
A4: Chương: 422 ; Loại: 070 ; Khoản: 074
C5: Đơn vị: đồng
A6: Nội dung | C6: Tổng số
A7: A | B7: Tổng số thu, chi, nộp ngân sách
B8: 1. Số thu | C8: =SUM(C9:C10) -> 0
B9: - Học phí | C9: 0
B10: - Thu khác | C10: 0
B11: 2. Chi từ nguồn thu được để lại | C11: =SUM(C12:C13) -> 0
B12: - Học phí | C12: 0
B13: - Thu khác | C13: 0
B14: 3. Số nộp NSNN | C14: 0
B15: Dự toán chi ngân sách nhà nước | C15: =C17+C25 -> 0
B16: Giáo dục, đào tạo, dạy nghề
A17: I | B17: Kinh phí thực hiện tự chủ | C17: =SUM(C18:C24) -> 0
A18: 1 | B18: {=TRANSPOSE('TONG HOP'!E5:K5)} -> NSNN hỗ trợ chi thường xuyên cho đơn vị sự nghiệp công lập | C18: {=TRANSPOSE('TONG HOP'!E60:K60)} -> 0
A19: =A18+1 -> 2 | B19: Kinh phí cho hợp đồng hỗ trợ phục vụ | C19: 0
A20: =A19+1 -> 3 | B20: Chi hoạt động thường xuyên | C20: 0
A21: =A20+1 -> 4 | B21: Dự toán giữ lại | C21: 0
A22: =A21+1 -> 5 | B22: nội dung 5 | C22: 0
A23: =A22+1 -> 6 | B23: nội dung 6 | C23: 0
A24: =A23+1 -> 7 | B24: nội dung 7 | C24: 0
A25: II | B25: Kinh phí không thực hiện tự chủ | C25: =SUM(C26:C45) -> 0
A26: 1 | B26: {=TRANSPOSE('TONG HOP'!M5:AF5)} -> Kinh phí hỗ trợ chi phí học tập theo Nghị định số 238/2025/NĐ-CP | C26: {=TRANSPOSE('TONG HOP'!M60:AF60)} -> 0
A27: =A26+1 -> 2 | B27: Kinh phí hỗ trợ học bổng theo Thông tư số 42/2013/TTLT-BGDĐT-BLĐTBXH | C27: 0
A28: =A27+1 -> 3 | B28: Kinh phí hỗ trợ tiền ăn ở theo Nghị định số 66/2025/NĐ-CP | C28: 0
A29: =A28+1 -> 4 | B29: Kinh phí hỗ trợ học bổng theo Nghị định số 57/2017/NĐ-CP | C29: 0
A30: =A29+1 -> 5 | B30: Chế độ, chính sách cho hợp đồng chuyên môn, nghiệp vụ trong các đơn vị sự nghiệp công lập do ngân sách nhà nước bảo đảm chi thường xuyên thuộc lĩnh vực giáo dục theo Nghị quyết của HĐND tỉnh | C30: 0
A31: =A30+1 -> 6 | B31: Chính sách hợp đồng thực hiện công việc hỗ trợ, phục vụ hoạt động thường xuyên của cơ quan đơn vị do lãnh đạo cơ quan quyết định | C31: 0
A32: =A31+1 -> 7 | B32: Mua sắm trang thiết bị, sữa chữa trường học | C32: 0
A33: =A32+1 -> 8 | B33: Kinh phí thực hiện dạy học 2 buổi/ngày năm học 2025-2026 | C33: 0
A34: =A33+1 -> 9 | B34: Kinh phí thực hiện chế độ, chính sách theo Nghị định số 154/2025/NĐ-CP ngày 15/6/2025 của Chính phủ | C34: 0
A35: =A34+1 -> 10 | B35: Kinh phí sữa chữa , bảo dưỡng nhà xe, sân trường Trường THPT Gia Nghĩa (trước sáp nhập) | C35: 0
A36: =A35+1 -> 11 | B36: Kinh phí khen thưởng năm 2026 theo nghị định 161/NĐ-CP ngày 15/05/2026 | C36: 0
A37: =A36+1 -> 12 | B37: Gia hạn phần mềm misa | C37: 0
A38: =A37+1 -> 13 | B38: Kinh phí Cấp bù học phí | C38: 0
... A45: =A44+1 -> 20 | B45: Dự toán giữ lại | C45: 0
A46: C | B46: Mã số đơn vị sử dụng ngân sách | C46: ='TONG HOP'!AG60 -> 1011668

Sheet LPhat
A1: DỰ TOÁN THU, CHI NGÂN SÁCH NHÀ NƯỚC NĂM 2026
A2: ='TONG HOP'!B61 -> Trường THPT Lộc Phát
A3: ='TONG HOP'!A2:AH2 -> (Kèm theo Quyết định số /QĐ-SGDĐT ngày tháng 10 năm 2026 của Sở Giáo dục và Đào tạo tỉnh Lâm Đồng)
A4: Chương: 422 ; Loại: 070 ; Khoản: 074
C5: Đơn vị: đồng
A6: Nội dung | C6: Tổng số
A7: A | B7: Tổng số thu, chi, nộp ngân sách
B8: 1. Số thu | C8: =SUM(C9:C10) -> 0
B9: - Học phí | C9: 0
B10: - Thu khác | C10: 0
B11: 2. Chi từ nguồn thu được để lại | C11: =SUM(C12:C13) -> 0
B12: - Học phí | C12: 0
B13: - Thu khác | C13: 0
B14: 3. Số nộp NSNN | C14: 0
A15: B | B15: Dự toán chi ngân sách nhà nước | C15: =C17+C25 -> 0
B16: Giáo dục, đào tạo, dạy nghề
A17: I | B17: Kinh phí thực hiện tự chủ | C17: =SUM(C18:C24) -> 0
A18: 1 | B18: {=TRANSPOSE('TONG HOP'!E5:K5)} -> NSNN hỗ trợ chi thường xuyên cho đơn vị sự nghiệp công lập | C18: {=TRANSPOSE('TONG HOP'!E61:K61)} -> 0
A19: =A18+1 -> 2 | B19: Kinh phí cho hợp đồng hỗ trợ phục vụ | C19: 0
A20: =A19+1 -> 3 | B20: Chi hoạt động thường xuyên | C20: 0
A21: =A20+1 -> 4 | B21: Dự toán giữ lại | C21: 0
A22: =A21+1 -> 5 | B22: nội dung 5 | C22: 0
A23: =A22+1 -> 6 | B23: nội dung 6 | C23: 0
A24: =A23+1 -> 7 | B24: nội dung 7 | C24: 0
A25: II | B25: Kinh phí không thực hiện tự chủ | C25: =SUM(C26:C45) -> 0
A26: 1 | B26: {=TRANSPOSE('TONG HOP'!M5:AF5)} -> Kinh phí hỗ trợ chi phí học tập theo Nghị định số 238/2025/NĐ-CP | C26: {=TRANSPOSE('TONG HOP'!M61:AF61)} -> 0
A27: =A26+1 -> 2 | B27: Kinh phí hỗ trợ học bổng theo Thông tư số 42/2013/TTLT-BGDĐT-BLĐTBXH | C27: 0
A28: =A27+1 -> 3 | B28: Kinh phí hỗ trợ tiền ăn ở theo Nghị định số 66/2025/NĐ-CP | C28: 0
A29: =A28+1 -> 4 | B29: Kinh phí hỗ trợ học bổng theo Nghị định số 57/2017/NĐ-CP | C29: 0
A30: =A29+1 -> 5 | B30: Chế độ, chính sách cho hợp đồng chuyên môn, nghiệp vụ trong các đơn vị sự nghiệp công lập do ngân sách nhà nước bảo đảm chi thường xuyên thuộc lĩnh vực giáo dục theo Nghị quyết của HĐND tỉnh | C30: 0
A31: =A30+1 -> 6 | B31: Chính sách hợp đồng thực hiện công việc hỗ trợ, phục vụ hoạt động thường xuyên của cơ quan đơn vị do lãnh đạo cơ quan quyết định | C31: 0
A32: =A31+1 -> 7 | B32: Mua sắm trang thiết bị, sữa chữa trường học | C32: 0
A33: =A32+1 -> 8 | B33: Kinh phí thực hiện dạy học 2 buổi/ngày năm học 2025-2026 | C33: 0
A34: =A33+1 -> 9 | B34: Kinh phí thực hiện chế độ, chính sách theo Nghị định số 154/2025/NĐ-CP ngày 15/6/2025 của Chính phủ | C34: 0
A35: =A34+1 -> 10 | B35: Kinh phí sữa chữa , bảo dưỡng nhà xe, sân trường Trường THPT Gia Nghĩa (trước sáp nhập) | C35: 0
A36: =A35+1 -> 11 | B36: Kinh phí khen thưởng năm 2026 theo nghị định 161/NĐ-CP ngày 15/05/2026 | C36: 0
A37: =A36+1 -> 12 | B37: Gia hạn phần mềm misa | C37: 0
A38: =A37+1 -> 13 | B38: Kinh phí Cấp bù học phí | C38: 0
... A45: =A44+1 -> 20 | B45: Dự toán giữ lại | C45: 0
A46: C | B46: Mã số đơn vị sử dụng ngân sách | C46: ='TONG HOP'!AG61 -> 1083719

Sheet ND-BLoc
A1: DỰ TOÁN THU, CHI NGÂN SÁCH NHÀ NƯỚC NĂM 2026
A2: ='TONG HOP'!B62 -> Trường THPT Nguyễn Du - Bảo Lộc
A3: ='TONG HOP'!A2:AH2 -> (Kèm theo Quyết định số /QĐ-SGDĐT ngày tháng 10 năm 2026 của Sở Giáo dục và Đào tạo tỉnh Lâm Đồng)
A4: Chương: 422 ; Loại: 070 ; Khoản: 074
C5: Đơn vị: đồng
A6: Nội dung | C6: Tổng số
A7: A | B7: Tổng số thu, chi, nộp ngân sách
B8: 1. Số thu | C8: =SUM(C9:C10) -> 0
B9: - Học phí | C9: 0
B10: - Thu khác | C10: 0
B11: 2. Chi từ nguồn thu được để lại | C11: =SUM(C12:C13) -> 0
B12: - Học phí | C12: 0
B13: - Thu khác | C13: 0
B14: 3. Số nộp NSNN | C14: 0
A15: B | B15: Dự toán chi ngân sách nhà nước | C15: =C17+C25 -> 0
B16: Giáo dục, đào tạo, dạy nghề
A17: I | B17: Kinh phí thực hiện tự chủ | C17: =SUM(C18:C24) -> 0
A18: 1 | B18: {=TRANSPOSE('TONG HOP'!E5:K5)} -> NSNN hỗ trợ chi thường xuyên cho đơn vị sự nghiệp công lập | C18: {=TRANSPOSE('TONG HOP'!E62:K62)} -> 0
A19: =A18+1 -> 2 | B19: Kinh phí cho hợp đồng hỗ trợ phục vụ | C19: 0
A20: =A19+1 -> 3 | B20: Chi hoạt động thường xuyên | C20: 0
A21: =A20+1 -> 4 | B21: Dự toán giữ lại | C21: 0
A22: =A21+1 -> 5 | B22: nội dung 5 | C22: 0
A23: =A22+1 -> 6 | B23: nội dung 6 | C23: 0
A24: =A23+1 -> 7 | B24: nội dung 7 | C24: 0
A25: II | B25: Kinh phí không thực hiện tự chủ | C25: =SUM(C26:C45) -> 0
A26: 1 | B26: {=TRANSPOSE('TONG HOP'!M5:AF5)} -> Kinh phí hỗ trợ chi phí học tập theo Nghị định số 238/2025/NĐ-CP | C26: {=TRANSPOSE('TONG HOP'!M62:AF62)} -> 0
A27: =A26+1 -> 2 | B27: Kinh phí hỗ trợ học bổng theo Thông tư số 42/2013/TTLT-BGDĐT-BLĐTBXH | C27: 0
A28: =A27+1 -> 3 | B28: Kinh phí hỗ trợ tiền ăn ở theo Nghị định số 66/2025/NĐ-CP | C28: 0
A29: =A28+1 -> 4 | B29: Kinh phí hỗ trợ học bổng theo Nghị định số 57/2017/NĐ-CP | C29: 0
A30: =A29+1 -> 5 | B30: Chế độ, chính sách cho hợp đồng chuyên môn, nghiệp vụ trong các đơn vị sự nghiệp công lập do ngân sách nhà nước bảo đảm chi thường xuyên thuộc lĩnh vực giáo dục theo Nghị quyết của HĐND tỉnh | C30: 0
A31: =A30+1 -> 6 | B31: Chính sách hợp đồng thực hiện công việc hỗ trợ, phục vụ hoạt động thường xuyên của cơ quan đơn vị do lãnh đạo cơ quan quyết định | C31: 0
A32: =A31+1 -> 7 | B32: Mua sắm trang thiết bị, sữa chữa trường học | C32: 0
A33: =A32+1 -> 8 | B33: Kinh phí thực hiện dạy học 2 buổi/ngày năm học 2025-2026 | C33: 0
A34: =A33+1 -> 9 | B34: Kinh phí thực hiện chế độ, chính sách theo Nghị định số 154/2025/NĐ-CP ngày 15/6/2025 của Chính phủ | C34: 0
A35: =A34+1 -> 10 | B35: Kinh phí sữa chữa , bảo dưỡng nhà xe, sân trường Trường THPT Gia Nghĩa (trước sáp nhập) | C35: 0
A36: =A35+1 -> 11 | B36: Kinh phí khen thưởng năm 2026 theo nghị định 161/NĐ-CP ngày 15/05/2026 | C36: 0
A37: =A36+1 -> 12 | B37: Gia hạn phần mềm misa | C37: 0
A38: =A37+1 -> 13 | B38: Kinh phí Cấp bù học phí | C38: 0
... A45: =A44+1 -> 20 | B45: Dự toán giữ lại | C45: 0
A46: C | B46: Mã số đơn vị sử dụng ngân sách | C46: ='TONG HOP'!AG62 -> 1011666

Sheet NTPhuong
A1: DỰ TOÁN THU, CHI NGÂN SÁCH NHÀ NƯỚC NĂM 2026
A2: ='TONG HOP'!B63 -> Trường THPT Nguyễn Tri Phương
A3: ='TONG HOP'!A2:AH2 -> (Kèm theo Quyết định số /QĐ-SGDĐT ngày tháng 10 năm 2026 của Sở Giáo dục và Đào tạo tỉnh Lâm Đồng)
A4: Chương: 422 ; Loại: 070 ; Khoản: 074
C5: Đơn vị: đồng
A6: Nội dung | C6: Tổng số
A7: A | B7: Tổng số thu, chi, nộp ngân sách
B8: 1. Số thu | C8: =SUM(C9:C10) -> 0
B9: - Học phí | C9: 0
B10: - Thu khác | C10: 0
B11: 2. Chi từ nguồn thu được để lại | C11: =SUM(C12:C13) -> 0
B12: - Học phí | C12: 0
B13: - Thu khác | C13: 0
B14: 3. Số nộp NSNN | C14: 0
A15: B | B15: Dự toán chi ngân sách nhà nước | C15: =C17+C25 -> 0
B16: Giáo dục, đào tạo, dạy nghề
A17: I | B17: Kinh phí thực hiện tự chủ | C17: =SUM(C18:C24) -> 0
A18: 1 | B18: {=TRANSPOSE('TONG HOP'!E5:K5)} -> NSNN hỗ trợ chi thường xuyên cho đơn vị sự nghiệp công lập | C18: {=TRANSPOSE('TONG HOP'!E63:K63)} -> 0
A19: =A18+1 -> 2 | B19: Kinh phí cho hợp đồng hỗ trợ phục vụ | C19: 0
A20: =A19+1 -> 3 | B20: Chi hoạt động thường xuyên | C20: 0
A21: =A20+1 -> 4 | B21: Dự toán giữ lại | C21: 0
A22: =A21+1 -> 5 | B22: nội dung 5 | C22: 0
A23: =A22+1 -> 6 | B23: nội dung 6 | C23: 0
A24: =A23+1 -> 7 | B24: nội dung 7 | C24: 0
A25: II | B25: Kinh phí không thực hiện tự chủ | C25: =SUM(C26:C45) -> 0
A26: 1 | B26: {=TRANSPOSE('TONG HOP'!M5:AF5)} -> Kinh phí hỗ trợ chi phí học tập theo Nghị định số 238/2025/NĐ-CP | C26: {=TRANSPOSE('TONG HOP'!M63:AF63)} -> 0
A27: =A26+1 -> 2 | B27: Kinh phí hỗ trợ học bổng theo Thông tư số 42/2013/TTLT-BGDĐT-BLĐTBXH | C27: 0
A28: =A27+1 -> 3 | B28: Kinh phí hỗ trợ tiền ăn ở theo Nghị định số 66/2025/NĐ-CP | C28: 0
A29: =A28+1 -> 4 | B29: Kinh phí hỗ trợ học bổng theo Nghị định số 57/2017/NĐ-CP | C29: 0
A30: =A29+1 -> 5 | B30: Chế độ, chính sách cho hợp đồng chuyên môn, nghiệp vụ trong các đơn vị sự nghiệp công lập do ngân sách nhà nước bảo đảm chi thường xuyên thuộc lĩnh vực giáo dục theo Nghị quyết của HĐND tỉnh | C30: 0
A31: =A30+1 -> 6 | B31: Chính sách hợp đồng thực hiện công việc hỗ trợ, phục vụ hoạt động thường xuyên của cơ quan đơn vị do lãnh đạo cơ quan quyết định | C31: 0
A32: =A31+1 -> 7 | B32: Mua sắm trang thiết bị, sữa chữa trường học | C32: 0
A33: =A32+1 -> 8 | B33: Kinh phí thực hiện dạy học 2 buổi/ngày năm học 2025-2026 | C33: 0
A34: =A33+1 -> 9 | B34: Kinh phí thực hiện chế độ, chính sách theo Nghị định số 154/2025/NĐ-CP ngày 15/6/2025 của Chính phủ | C34: 0
A35: =A34+1 -> 10 | B35: Kinh phí sữa chữa , bảo dưỡng nhà xe, sân trường Trường THPT Gia Nghĩa (trước sáp nhập) | C35: 0
A36: =A35+1 -> 11 | B36: Kinh phí khen thưởng năm 2026 theo nghị định 161/NĐ-CP ngày 15/05/2026 | C36: 0
A37: =A36+1 -> 12 | B37: Gia hạn phần mềm misa | C37: 0
A38: =A37+1 -> 13 | B38: Kinh phí Cấp bù học phí | C38: 0
... A45: =A44+1 -> 20 | B45: Dự toán giữ lại | C45: 0
A46: C | B46: Mã số đơn vị sử dụng ngân sách | C46: ='TONG HOP'!AG63 -> 1071846

Sheet ĐHuoai
A1: DỰ TOÁN THU, CHI NGÂN SÁCH NHÀ NƯỚC NĂM 2026
A2: ='TONG HOP'!B64 -> Trường THPT Đạ Huoai
A3: ='TONG HOP'!A2:AH2 -> (Kèm theo Quyết định số /QĐ-SGDĐT ngày tháng 10 năm 2026 của Sở Giáo dục và Đào tạo tỉnh Lâm Đồng)
A4: Chương: 422 ; Loại: 070 ; Khoản: 074
C5: Đơn vị: đồng
A6: Nội dung | C6: Tổng số
A7: A | B7: Tổng số thu, chi, nộp ngân sách
B8: 1. Số thu | C8: =SUM(C9:C10) -> 0
B9: - Học phí | C9: 0
B10: - Thu khác | C10: 0
B11: 2. Chi từ nguồn thu được để lại | C11: =SUM(C12:C13) -> 0
B12: - Học phí | C12: 0
B13: - Thu khác | C13: 0
B14: 3. Số nộp NSNN | C14: 0
A15: B | B15: Dự toán chi ngân sách nhà nước | C15: =C17+C25 -> 0
B16: Giáo dục, đào tạo, dạy nghề
A17: I | B17: Kinh phí thực hiện tự chủ | C17: =SUM(C18:C24) -> 0
A18: 1 | B18: {=TRANSPOSE('TONG HOP'!E5:K5)} -> NSNN hỗ trợ chi thường xuyên cho đơn vị sự nghiệp công lập | C18: {=TRANSPOSE('TONG HOP'!E64:K64)} -> 0
A19: =A18+1 -> 2 | B19: Kinh phí cho hợp đồng hỗ trợ phục vụ | C19: 0
A20: =A19+1 -> 3 | B20: Chi hoạt động thường xuyên | C20: 0
A21: =A20+1 -> 4 | B21: Dự toán giữ lại | C21: 0
A22: =A21+1 -> 5 | B22: nội dung 5 | C22: 0
A23: =A22+1 -> 6 | B23: nội dung 6 | C23: 0
A24: =A23+1 -> 7 | B24: nội dung 7 | C24: 0
A25: II | B25: Kinh phí không thực hiện tự chủ | C25: =SUM(C26:C45) -> 0
A26: 1 | B26: {=TRANSPOSE('TONG HOP'!M5:AF5)} -> Kinh phí hỗ trợ chi phí học tập theo Nghị định số 238/2025/NĐ-CP | C26: {=TRANSPOSE('TONG HOP'!M64:AF64)} -> 0
A27: =A26+1 -> 2 | B27: Kinh phí hỗ trợ học bổng theo Thông tư số 42/2013/TTLT-BGDĐT-BLĐTBXH | C27: 0
A28: =A27+1 -> 3 | B28: Kinh phí hỗ trợ tiền ăn ở theo Nghị định số 66/2025/NĐ-CP | C28: 0
A29: =A28+1 -> 4 | B29: Kinh phí hỗ trợ học bổng theo Nghị định số 57/2017/NĐ-CP | C29: 0
A30: =A29+1 -> 5 | B30: Chế độ, chính sách cho hợp đồng chuyên môn, nghiệp vụ trong các đơn vị sự nghiệp công lập do ngân sách nhà nước bảo đảm chi thường xuyên thuộc lĩnh vực giáo dục theo Nghị quyết của HĐND tỉnh | C30: 0
A31: =A30+1 -> 6 | B31: Chính sách hợp đồng thực hiện công việc hỗ trợ, phục vụ hoạt động thường xuyên của cơ quan đơn vị do lãnh đạo cơ quan quyết định | C31: 0
A32: =A31+1 -> 7 | B32: Mua sắm trang thiết bị, sữa chữa trường học | C32: 0
A33: =A32+1 -> 8 | B33: Kinh phí thực hiện dạy học 2 buổi/ngày năm học 2025-2026 | C33: 0
A34: =A33+1 -> 9 | B34: Kinh phí thực hiện chế độ, chính sách theo Nghị định số 154/2025/NĐ-CP ngày 15/6/2025 của Chính phủ | C34: 0
A35: =A34+1 -> 10 | B35: Kinh phí sữa chữa , bảo dưỡng nhà xe, sân trường Trường THPT Gia Nghĩa (trước sáp nhập) | C35: 0
A36: =A35+1 -> 11 | B36: Kinh phí khen thưởng năm 2026 theo nghị định 161/NĐ-CP ngày 15/05/2026 | C36: 0
A37: =A36+1 -> 12 | B37: Gia hạn phần mềm misa | C37: 0
A38: =A37+1 -> 13 | B38: Kinh phí Cấp bù học phí | C38: 0
... A45: =A44+1 -> 20 | B45: Dự toán giữ lại | C45: 0
A46: C | B46: Mã số đơn vị sử dụng ngân sách | C46: ='TONG HOP'!AG64 -> 1072814

Sheet ĐRi
A1: DỰ TOÁN THU, CHI NGÂN SÁCH NHÀ NƯỚC NĂM 2026
A2: ='TONG HOP'!B65 -> Trường THPT Đạm Ri
A3: ='TONG HOP'!A2:AH2 -> (Kèm theo Quyết định số /QĐ-SGDĐT ngày tháng 10 năm 2026 của Sở Giáo dục và Đào tạo tỉnh Lâm Đồng)
A4: Chương: 422 ; Loại: 070 ; Khoản: 074
C5: Đơn vị: đồng
A6: Nội dung | C6: Tổng số
A7: A | B7: Tổng số thu, chi, nộp ngân sách
B8: 1. Số thu | C8: =SUM(C9:C10) -> 0
B9: - Học phí | C9: 0
B10: - Thu khác | C10: 0
B11: 2. Chi từ nguồn thu được để lại | C11: =SUM(C12:C13) -> 0
B12: - Học phí | C12: 0
B13: - Thu khác | C13: 0
B14: 3. Số nộp NSNN | C14: 0
A15: B | B15: Dự toán chi ngân sách nhà nước | C15: =C17+C25 -> 0
B16: Giáo dục, đào tạo, dạy nghề
A17: I | B17: Kinh phí thực hiện tự chủ | C17: =SUM(C18:C24) -> 0
A18: 1 | B18: {=TRANSPOSE('TONG HOP'!E5:K5)} -> NSNN hỗ trợ chi thường xuyên cho đơn vị sự nghiệp công lập | C18: {=TRANSPOSE('TONG HOP'!E65:K65)} -> 0
A19: =A18+1 -> 2 | B19: Kinh phí cho hợp đồng hỗ trợ phục vụ | C19: 0
A20: =A19+1 -> 3 | B20: Chi hoạt động thường xuyên | C20: 0
A21: =A20+1 -> 4 | B21: Dự toán giữ lại | C21: 0
A22: =A21+1 -> 5 | B22: nội dung 5 | C22: 0
A23: =A22+1 -> 6 | B23: nội dung 6 | C23: 0
A24: =A23+1 -> 7 | B24: nội dung 7 | C24: 0
A25: II | B25: Kinh phí không thực hiện tự chủ | C25: =SUM(C26:C45) -> 0
A26: 1 | B26: {=TRANSPOSE('TONG HOP'!M5:AF5)} -> Kinh phí hỗ trợ chi phí học tập theo Nghị định số 238/2025/NĐ-CP | C26: {=TRANSPOSE('TONG HOP'!M65:AF65)} -> 0
A27: =A26+1 -> 2 | B27: Kinh phí hỗ trợ học bổng theo Thông tư số 42/2013/TTLT-BGDĐT-BLĐTBXH | C27: 0
A28: =A27+1 -> 3 | B28: Kinh phí hỗ trợ tiền ăn ở theo Nghị định số 66/2025/NĐ-CP | C28: 0
A29: =A28+1 -> 4 | B29: Kinh phí hỗ trợ học bổng theo Nghị định số 57/2017/NĐ-CP | C29: 0
A30: =A29+1 -> 5 | B30: Chế độ, chính sách cho hợp đồng chuyên môn, nghiệp vụ trong các đơn vị sự nghiệp công lập do ngân sách nhà nước bảo đảm chi thường xuyên thuộc lĩnh vực giáo dục theo Nghị quyết của HĐND tỉnh | C30: 0
A31: =A30+1 -> 6 | B31: Chính sách hợp đồng thực hiện công việc hỗ trợ, phục vụ hoạt động thường xuyên của cơ quan đơn vị do lãnh đạo cơ quan quyết định | C31: 0
A32: =A31+1 -> 7 | B32: Mua sắm trang thiết bị, sữa chữa trường học | C32: 0
A33: =A32+1 -> 8 | B33: Kinh phí thực hiện dạy học 2 buổi/ngày năm học 2025-2026 | C33: 0
A34: =A33+1 -> 9 | B34: Kinh phí thực hiện chế độ, chính sách theo Nghị định số 154/2025/NĐ-CP ngày 15/6/2025 của Chính phủ | C34: 0
A35: =A34+1 -> 10 | B35: Kinh phí sữa chữa , bảo dưỡng nhà xe, sân trường Trường THPT Gia Nghĩa (trước sáp nhập) | C35: 0
A36: =A35+1 -> 11 | B36: Kinh phí khen thưởng năm 2026 theo nghị định 161/NĐ-CP ngày 15/05/2026 | C36: 0
A37: =A36+1 -> 12 | B37: Gia hạn phần mềm misa | C37: 0
A38: =A37+1 -> 13 | B38: Kinh phí Cấp bù học phí | C38: 0
... A45: =A44+1 -> 20 | B45: Dự toán giữ lại | C45: 0
A46: C | B46: Mã số đơn vị sử dụng ngân sách | C46: ='TONG HOP'!AG65 -> 1072812

Sheet ĐTeh
A1: DỰ TOÁN THU, CHI NGÂN SÁCH NHÀ NƯỚC NĂM 2026
A2: ='TONG HOP'!B66 -> Trường THPT Đạ Tẻh
A3: ='TONG HOP'!A2:AH2 -> (Kèm theo Quyết định số /QĐ-SGDĐT ngày tháng 10 năm 2026 của Sở Giáo dục và Đào tạo tỉnh Lâm Đồng)
A4: Chương: 422 ; Loại: 070 ; Khoản: 074
C5: Đơn vị: đồng
A6: Nội dung | C6: Tổng số
A7: A | B7: Tổng số thu, chi, nộp ngân sách
B8: 1. Số thu | C8: =SUM(C9:C10) -> 0
B9: - Học phí | C9: 0
B10: - Thu khác | C10: 0
B11: 2. Chi từ nguồn thu được để lại | C11: =SUM(C12:C13) -> 0
B12: - Học phí | C12: 0
B13: - Thu khác | C13: 0
B14: 3. Số nộp NSNN | C14: 0
A15: B | B15: Dự toán chi ngân sách nhà nước | C15: =C17+C25 -> 0
B16: Giáo dục, đào tạo, dạy nghề
A17: I | B17: Kinh phí thực hiện tự chủ | C17: =SUM(C18:C24) -> 0
A18: 1 | B18: {=TRANSPOSE('TONG HOP'!E5:K5)} -> NSNN hỗ trợ chi thường xuyên cho đơn vị sự nghiệp công lập | C18: {=TRANSPOSE('TONG HOP'!E66:K66)} -> 0
A19: =A18+1 -> 2 | B19: Kinh phí cho hợp đồng hỗ trợ phục vụ | C19: 0
A20: =A19+1 -> 3 | B20: Chi hoạt động thường xuyên | C20: 0
A21: =A20+1 -> 4 | B21: Dự toán giữ lại | C21: 0
A22: =A21+1 -> 5 | B22: nội dung 5 | C22: 0
A23: =A22+1 -> 6 | B23: nội dung 6 | C23: 0
A24: =A23+1 -> 7 | B24: nội dung 7 | C24: 0
A25: II | B25: Kinh phí không thực hiện tự chủ | C25: =SUM(C26:C45) -> 0
A26: 1 | B26: {=TRANSPOSE('TONG HOP'!M5:AF5)} -> Kinh phí hỗ trợ chi phí học tập theo Nghị định số 238/2025/NĐ-CP | C26: {=TRANSPOSE('TONG HOP'!M66:AF66)} -> 0
A27: =A26+1 -> 2 | B27: Kinh phí hỗ trợ học bổng theo Thông tư số 42/2013/TTLT-BGDĐT-BLĐTBXH | C27: 0
A28: =A27+1 -> 3 | B28: Kinh phí hỗ trợ tiền ăn ở theo Nghị định số 66/2025/NĐ-CP | C28: 0
A29: =A28+1 -> 4 | B29: Kinh phí hỗ trợ học bổng theo Nghị định số 57/2017/NĐ-CP | C29: 0
A30: =A29+1 -> 5 | B30: Chế độ, chính sách cho hợp đồng chuyên môn, nghiệp vụ trong các đơn vị sự nghiệp công lập do ngân sách nhà nước bảo đảm chi thường xuyên thuộc lĩnh vực giáo dục theo Nghị quyết của HĐND tỉnh | C30: 0
A31: =A30+1 -> 6 | B31: Chính sách hợp đồng thực hiện công việc hỗ trợ, phục vụ hoạt động thường xuyên của cơ quan đơn vị do lãnh đạo cơ quan quyết định | C31: 0
A32: =A31+1 -> 7 | B32: Mua sắm trang thiết bị, sữa chữa trường học | C32: 0
A33: =A32+1 -> 8 | B33: Kinh phí thực hiện dạy học 2 buổi/ngày năm học 2025-2026 | C33: 0
A34: =A33+1 -> 9 | B34: Kinh phí thực hiện chế độ, chính sách theo Nghị định số 154/2025/NĐ-CP ngày 15/6/2025 của Chính phủ | C34: 0
A35: =A34+1 -> 10 | B35: Kinh phí sữa chữa , bảo dưỡng nhà xe, sân trường Trường THPT Gia Nghĩa (trước sáp nhập) | C35: 0
A36: =A35+1 -> 11 | B36: Kinh phí khen thưởng năm 2026 theo nghị định 161/NĐ-CP ngày 15/05/2026 | C36: 0
A37: =A36+1 -> 12 | B37: Gia hạn phần mềm misa | C37: 0
A38: =A37+1 -> 13 | B38: Kinh phí Cấp bù học phí | C38: 0
... A45: =A44+1 -> 20 | B45: Dự toán giữ lại | C45: 0
A46: C | B46: Mã số đơn vị sử dụng ngân sách | C46: ='TONG HOP'!AG66 -> 1072464

Sheet LQĐ-ĐTeh
A1: DỰ TOÁN THU, CHI NGÂN SÁCH NHÀ NƯỚC NĂM 2026
A2: ='TONG HOP'!B67 -> Trường THCS&THPT Lê Quý Đôn - Đạ Tẻh
A3: ='TONG HOP'!A2:AH2 -> (Kèm theo Quyết định số /QĐ-SGDĐT ngày tháng 10 năm 2026 của Sở Giáo dục và Đào tạo tỉnh Lâm Đồng)
A4: Chương: 422 ; Loại: 070 ; Khoản: 074
C5: Đơn vị: đồng
A6: Nội dung | C6: Tổng số
A7: A | B7: Tổng số thu, chi, nộp ngân sách
B8: 1. Số thu | C8: =SUM(C9:C10) -> 0
B9: - Học phí | C9: 0
B10: - Thu khác | C10: 0
B11: 2. Chi từ nguồn thu được để lại | C11: =SUM(C12:C13) -> 0
B12: - Học phí | C12: 0
B13: - Thu khác | C13: 0
B14: 3. Số nộp NSNN | C14: 0
A15: B | B15: Dự toán chi ngân sách nhà nước | C15: =C17+C25 -> 0
B16: Giáo dục, đào tạo, dạy nghề
A17: I | B17: Kinh phí thực hiện tự chủ | C17: =SUM(C18:C24) -> 0
A18: 1 | B18: {=TRANSPOSE('TONG HOP'!E5:K5)} -> NSNN hỗ trợ chi thường xuyên cho đơn vị sự nghiệp công lập | C18: {=TRANSPOSE('TONG HOP'!E67:K67)} -> 0
A19: =A18+1 -> 2 | B19: Kinh phí cho hợp đồng hỗ trợ phục vụ | C19: 0
A20: =A19+1 -> 3 | B20: Chi hoạt động thường xuyên | C20: 0
A21: =A20+1 -> 4 | B21: Dự toán giữ lại | C21: 0
A22: =A21+1 -> 5 | B22: nội dung 5 | C22: 0
A23: =A22+1 -> 6 | B23: nội dung 6 | C23: 0
A24: =A23+1 -> 7 | B24: nội dung 7 | C24: 0
A25: II | B25: Kinh phí không thực hiện tự chủ | C25: =SUM(C26:C45) -> 0
A26: 1 | B26: {=TRANSPOSE('TONG HOP'!M5:AF5)} -> Kinh phí hỗ trợ chi phí học tập theo Nghị định số 238/2025/NĐ-CP | C26: {=TRANSPOSE('TONG HOP'!M67:AF67)} -> 0
A27: =A26+1 -> 2 | B27: Kinh phí hỗ trợ học bổng theo Thông tư số 42/2013/TTLT-BGDĐT-BLĐTBXH | C27: 0
A28: =A27+1 -> 3 | B28: Kinh phí hỗ trợ tiền ăn ở theo Nghị định số 66/2025/NĐ-CP | C28: 0
A29: =A28+1 -> 4 | B29: Kinh phí hỗ trợ học bổng theo Nghị định số 57/2017/NĐ-CP | C29: 0
A30: =A29+1 -> 5 | B30: Chế độ, chính sách cho hợp đồng chuyên môn, nghiệp vụ trong các đơn vị sự nghiệp công lập do ngân sách nhà nước bảo đảm chi thường xuyên thuộc lĩnh vực giáo dục theo Nghị quyết của HĐND tỉnh | C30: 0
A31: =A30+1 -> 6 | B31: Chính sách hợp đồng thực hiện công việc hỗ trợ, phục vụ hoạt động thường xuyên của cơ quan đơn vị do lãnh đạo cơ quan quyết định | C31: 0
A32: =A31+1 -> 7 | B32: Mua sắm trang thiết bị, sữa chữa trường học | C32: 0
A33: =A32+1 -> 8 | B33: Kinh phí thực hiện dạy học 2 buổi/ngày năm học 2025-2026 | C33: 0
A34: =A33+1 -> 9 | B34: Kinh phí thực hiện chế độ, chính sách theo Nghị định số 154/2025/NĐ-CP ngày 15/6/2025 của Chính phủ | C34: 0
A35: =A34+1 -> 10 | B35: Kinh phí sữa chữa , bảo dưỡng nhà xe, sân trường Trường THPT Gia Nghĩa (trước sáp nhập) | C35: 0
A36: =A35+1 -> 11 | B36: Kinh phí khen thưởng năm 2026 theo nghị định 161/NĐ-CP ngày 15/05/2026 | C36: 0
A37: =A36+1 -> 12 | B37: Gia hạn phần mềm misa | C37: 0
A38: =A37+1 -> 13 | B38: Kinh phí Cấp bù học phí | C38: 0
... A45: =A44+1 -> 20 | B45: Dự toán giữ lại | C45: 0
A46: C | B46: Mã số đơn vị sử dụng ngân sách | C46: ='TONG HOP'!AG67 -> 1083452

Sheet CTien
A1: DỰ TOÁN CHI NGÂN SÁCH NHÀ NƯỚC NĂM 2026 SAU SÁP NHẬP (ĐỢT 2)
A2: ='TONG HOP'!B68 -> Trường THPT Cát Tiên
A3: ='TONG HOP'!A2:AH2 -> (Kèm theo Quyết định số /QĐ-SGDĐT ngày tháng 10 năm 2026 của Sở Giáo dục và Đào tạo tỉnh Lâm Đồng)
A4: Chương: 422 ; Loại: 070 ; Khoản: 074
C5: Đơn vị: đồng
A6: Nội dung | C6: Tổng số
A7: A | B7: Tổng số thu, chi, nộp ngân sách
B8: 1. Số thu | C8: =SUM(C9:C10) -> 0
B9: - Học phí | C9: 0
B10: - Thu khác | C10: 0
B11: 2. Chi từ nguồn thu được để lại | C11: =SUM(C12:C13) -> 0
B12: - Học phí | C12: 0
B13: - Thu khác | C13: 0
B14: 3. Số nộp NSNN | C14: 0
B15: Dự toán chi ngân sách nhà nước | C15: =C17+C25 -> 0
B16: Giáo dục, đào tạo, dạy nghề
A17: I | B17: Kinh phí thực hiện tự chủ | C17: =SUM(C18:C24) -> 0
A18: 1 | B18: {=TRANSPOSE('TONG HOP'!E5:K5)} -> NSNN hỗ trợ chi thường xuyên cho đơn vị sự nghiệp công lập | C18: {=TRANSPOSE('TONG HOP'!E68:K68)} -> 0
A19: =A18+1 -> 2 | B19: Kinh phí cho hợp đồng hỗ trợ phục vụ | C19: 0
A20: =A19+1 -> 3 | B20: Chi hoạt động thường xuyên | C20: 0
A21: =A20+1 -> 4 | B21: Dự toán giữ lại | C21: 0
A22: =A21+1 -> 5 | B22: nội dung 5 | C22: 0
A23: =A22+1 -> 6 | B23: nội dung 6 | C23: 0
A24: =A23+1 -> 7 | B24: nội dung 7 | C24: 0
A25: II | B25: Kinh phí không thực hiện tự chủ | C25: =SUM(C26:C45) -> 0
A26: 1 | B26: {=TRANSPOSE('TONG HOP'!M5:AF5)} -> Kinh phí hỗ trợ chi phí học tập theo Nghị định số 238/2025/NĐ-CP | C26: {=TRANSPOSE('TONG HOP'!M68:AF68)} -> 0
A27: =A26+1 -> 2 | B27: Kinh phí hỗ trợ học bổng theo Thông tư số 42/2013/TTLT-BGDĐT-BLĐTBXH | C27: 0
A28: =A27+1 -> 3 | B28: Kinh phí hỗ trợ tiền ăn ở theo Nghị định số 66/2025/NĐ-CP | C28: 0
A29: =A28+1 -> 4 | B29: Kinh phí hỗ trợ học bổng theo Nghị định số 57/2017/NĐ-CP | C29: 0
A30: =A29+1 -> 5 | B30: Chế độ, chính sách cho hợp đồng chuyên môn, nghiệp vụ trong các đơn vị sự nghiệp công lập do ngân sách nhà nước bảo đảm chi thường xuyên thuộc lĩnh vực giáo dục theo Nghị quyết của HĐND tỉnh | C30: 0
A31: =A30+1 -> 6 | B31: Chính sách hợp đồng thực hiện công việc hỗ trợ, phục vụ hoạt động thường xuyên của cơ quan đơn vị do lãnh đạo cơ quan quyết định | C31: 0
A32: =A31+1 -> 7 | B32: Mua sắm trang thiết bị, sữa chữa trường học | C32: 0
A33: =A32+1 -> 8 | B33: Kinh phí thực hiện dạy học 2 buổi/ngày năm học 2025-2026 | C33: 0
A34: =A33+1 -> 9 | B34: Kinh phí thực hiện chế độ, chính sách theo Nghị định số 154/2025/NĐ-CP ngày 15/6/2025 của Chính phủ | C34: 0
A35: =A34+1 -> 10 | B35: Kinh phí sữa chữa , bảo dưỡng nhà xe, sân trường Trường THPT Gia Nghĩa (trước sáp nhập) | C35: 0
A36: =A35+1 -> 11 | B36: Kinh phí khen thưởng năm 2026 theo nghị định 161/NĐ-CP ngày 15/05/2026 | C36: 0
A37: =A36+1 -> 12 | B37: Gia hạn phần mềm misa | C37: 0
A38: =A37+1 -> 13 | B38: Kinh phí Cấp bù học phí | C38: 0
... A45: =A44+1 -> 20 | B45: Dự toán giữ lại | C45: 0
A46: C | B46: Mã số đơn vị sử dụng ngân sách | C46: ='TONG HOP'!AG68 -> 1072471

Sheet GVien
A1: DỰ TOÁN THU, CHI NGÂN SÁCH NHÀ NƯỚC NĂM 2026
A2: ='TONG HOP'!B69 -> Trường THPT Gia Viễn
A3: ='TONG HOP'!A2:AH2 -> (Kèm theo Quyết định số /QĐ-SGDĐT ngày tháng 10 năm 2026 của Sở Giáo dục và Đào tạo tỉnh Lâm Đồng)
A4: Chương: 422 ; Loại: 070 ; Khoản: 074
C5: Đơn vị: đồng
A6: Nội dung | C6: Tổng số
A7: A | B7: Tổng số thu, chi, nộp ngân sách
B8: 1. Số thu | C8: =SUM(C9:C10) -> 0
B9: - Học phí | C9: 0
B10: - Thu khác | C10: 0
B11: 2. Chi từ nguồn thu được để lại | C11: =SUM(C12:C13) -> 0
B12: - Học phí | C12: 0
B13: - Thu khác | C13: 0
B14: 3. Số nộp NSNN | C14: 0
A15: B | B15: Dự toán chi ngân sách nhà nước | C15: =C17+C25 -> 0
B16: Giáo dục, đào tạo, dạy nghề
A17: I | B17: Kinh phí thực hiện tự chủ | C17: =SUM(C18:C24) -> 0
A18: 1 | B18: {=TRANSPOSE('TONG HOP'!E5:K5)} -> NSNN hỗ trợ chi thường xuyên cho đơn vị sự nghiệp công lập | C18: {=TRANSPOSE('TONG HOP'!E69:K69)} -> 0
A19: =A18+1 -> 2 | B19: Kinh phí cho hợp đồng hỗ trợ phục vụ | C19: 0
A20: =A19+1 -> 3 | B20: Chi hoạt động thường xuyên | C20: 0
A21: =A20+1 -> 4 | B21: Dự toán giữ lại | C21: 0
A22: =A21+1 -> 5 | B22: nội dung 5 | C22: 0
A23: =A22+1 -> 6 | B23: nội dung 6 | C23: 0
A24: =A23+1 -> 7 | B24: nội dung 7 | C24: 0
A25: II | B25: Kinh phí không thực hiện tự chủ | C25: =SUM(C26:C45) -> 0
A26: 1 | B26: {=TRANSPOSE('TONG HOP'!M5:AF5)} -> Kinh phí hỗ trợ chi phí học tập theo Nghị định số 238/2025/NĐ-CP | C26: {=TRANSPOSE('TONG HOP'!M69:AF69)} -> 0
A27: =A26+1 -> 2 | B27: Kinh phí hỗ trợ học bổng theo Thông tư số 42/2013/TTLT-BGDĐT-BLĐTBXH | C27: 0
A28: =A27+1 -> 3 | B28: Kinh phí hỗ trợ tiền ăn ở theo Nghị định số 66/2025/NĐ-CP | C28: 0
A29: =A28+1 -> 4 | B29: Kinh phí hỗ trợ học bổng theo Nghị định số 57/2017/NĐ-CP | C29: 0
A30: =A29+1 -> 5 | B30: Chế độ, chính sách cho hợp đồng chuyên môn, nghiệp vụ trong các đơn vị sự nghiệp công lập do ngân sách nhà nước bảo đảm chi thường xuyên thuộc lĩnh vực giáo dục theo Nghị quyết của HĐND tỉnh | C30: 0
A31: =A30+1 -> 6 | B31: Chính sách hợp đồng thực hiện công việc hỗ trợ, phục vụ hoạt động thường xuyên của cơ quan đơn vị do lãnh đạo cơ quan quyết định | C31: 0
A32: =A31+1 -> 7 | B32: Mua sắm trang thiết bị, sữa chữa trường học | C32: 0
A33: =A32+1 -> 8 | B33: Kinh phí thực hiện dạy học 2 buổi/ngày năm học 2025-2026 | C33: 0
A34: =A33+1 -> 9 | B34: Kinh phí thực hiện chế độ, chính sách theo Nghị định số 154/2025/NĐ-CP ngày 15/6/2025 của Chính phủ | C34: 0
A35: =A34+1 -> 10 | B35: Kinh phí sữa chữa , bảo dưỡng nhà xe, sân trường Trường THPT Gia Nghĩa (trước sáp nhập) | C35: 0
A36: =A35+1 -> 11 | B36: Kinh phí khen thưởng năm 2026 theo nghị định 161/NĐ-CP ngày 15/05/2026 | C36: 0
A37: =A36+1 -> 12 | B37: Gia hạn phần mềm misa | C37: 0
A38: =A37+1 -> 13 | B38: Kinh phí Cấp bù học phí | C38: 0
... A45: =A44+1 -> 20 | B45: Dự toán giữ lại | C45: 0
A46: C | B46: Mã số đơn vị sử dụng ngân sách | C46: ='TONG HOP'!AG69 -> 1009503

Sheet QT-CTien
A1: DỰ TOÁN THU, CHI NGÂN SÁCH NHÀ NƯỚC NĂM 2026
A2: ='TONG HOP'!B70 -> Trường THPT Quang Trung - Cát Tiên
A3: ='TONG HOP'!A2:AH2 -> (Kèm theo Quyết định số /QĐ-SGDĐT ngày tháng 10 năm 2026 của Sở Giáo dục và Đào tạo tỉnh Lâm Đồng)
A4: Chương: 422 ; Loại: 070 ; Khoản: 074
C5: Đơn vị: đồng
A6: Nội dung | C6: Tổng số
A7: A | B7: Tổng số thu, chi, nộp ngân sách
B8: 1. Số thu | C8: =SUM(C9:C10) -> 0
B9: - Học phí | C9: 0
B10: - Thu khác | C10: 0
B11: 2. Chi từ nguồn thu được để lại | C11: =SUM(C12:C13) -> 0
B12: - Học phí | C12: 0
B13: - Thu khác | C13: 0
B14: 3. Số nộp NSNN | C14: 0
A15: B | B15: Dự toán chi ngân sách nhà nước | C15: =C17+C25 -> 0
B16: Giáo dục, đào tạo, dạy nghề
A17: I | B17: Kinh phí thực hiện tự chủ | C17: =SUM(C18:C24) -> 0
A18: 1 | B18: {=TRANSPOSE('TONG HOP'!E5:K5)} -> NSNN hỗ trợ chi thường xuyên cho đơn vị sự nghiệp công lập | C18: {=TRANSPOSE('TONG HOP'!E70:K70)} -> 0
A19: =A18+1 -> 2 | B19: Kinh phí cho hợp đồng hỗ trợ phục vụ | C19: 0
A20: =A19+1 -> 3 | B20: Chi hoạt động thường xuyên | C20: 0
A21: =A20+1 -> 4 | B21: Dự toán giữ lại | C21: 0
A22: =A21+1 -> 5 | B22: nội dung 5 | C22: 0
A23: =A22+1 -> 6 | B23: nội dung 6 | C23: 0
A24: =A23+1 -> 7 | B24: nội dung 7 | C24: 0
A25: II | B25: Kinh phí không thực hiện tự chủ | C25: =SUM(C26:C45) -> 0
A26: 1 | B26: {=TRANSPOSE('TONG HOP'!M5:AF5)} -> Kinh phí hỗ trợ chi phí học tập theo Nghị định số 238/2025/NĐ-CP | C26: {=TRANSPOSE('TONG HOP'!M70:AF70)} -> 0
A27: =A26+1 -> 2 | B27: Kinh phí hỗ trợ học bổng theo Thông tư số 42/2013/TTLT-BGDĐT-BLĐTBXH | C27: 0
A28: =A27+1 -> 3 | B28: Kinh phí hỗ trợ tiền ăn ở theo Nghị định số 66/2025/NĐ-CP | C28: 0
A29: =A28+1 -> 4 | B29: Kinh phí hỗ trợ học bổng theo Nghị định số 57/2017/NĐ-CP | C29: 0
A30: =A29+1 -> 5 | B30: Chế độ, chính sách cho hợp đồng chuyên môn, nghiệp vụ trong các đơn vị sự nghiệp công lập do ngân sách nhà nước bảo đảm chi thường xuyên thuộc lĩnh vực giáo dục theo Nghị quyết của HĐND tỉnh | C30: 0
A31: =A30+1 -> 6 | B31: Chính sách hợp đồng thực hiện công việc hỗ trợ, phục vụ hoạt động thường xuyên của cơ quan đơn vị do lãnh đạo cơ quan quyết định | C31: 0
A32: =A31+1 -> 7 | B32: Mua sắm trang thiết bị, sữa chữa trường học | C32: 0
A33: =A32+1 -> 8 | B33: Kinh phí thực hiện dạy học 2 buổi/ngày năm học 2025-2026 | C33: 0
A34: =A33+1 -> 9 | B34: Kinh phí thực hiện chế độ, chính sách theo Nghị định số 154/2025/NĐ-CP ngày 15/6/2025 của Chính phủ | C34: 0
A35: =A34+1 -> 10 | B35: Kinh phí sữa chữa , bảo dưỡng nhà xe, sân trường Trường THPT Gia Nghĩa (trước sáp nhập) | C35: 0
A36: =A35+1 -> 11 | B36: Kinh phí khen thưởng năm 2026 theo nghị định 161/NĐ-CP ngày 15/05/2026 | C36: 0
A37: =A36+1 -> 12 | B37: Gia hạn phần mềm misa | C37: 0
A38: =A37+1 -> 13 | B38: Kinh phí Cấp bù học phí | C38: 0
... A45: =A44+1 -> 20 | B45: Dự toán giữ lại | C45: 0
A46: C | B46: Mã số đơn vị sử dụng ngân sách | C46: ='TONG HOP'!AG70 -> 1083450

Sheet DTNT-KRno
A1: DỰ TOÁN THU, CHI NGÂN SÁCH NHÀ NƯỚC NĂM 2026
A2: ='TONG HOP'!B71 -> Trường PT DTNT THCS & THPT Krông Nô
A3: ='TONG HOP'!A2:AH2 -> (Kèm theo Quyết định số /QĐ-SGDĐT ngày tháng 10 năm 2026 của Sở Giáo dục và Đào tạo tỉnh Lâm Đồng)
A4: Chương: 422 ; Loại: 070 ; Khoản: 074
C5: Đơn vị: đồng
A6: Nội dung | C6: Tổng số
A7: A | B7: Tổng số thu, chi, nộp ngân sách
B8: 1. Số thu | C8: =SUM(C9:C10) -> 0
B9: - Học phí | C9: 0
B10: - Thu khác | C10: 0
B11: 2. Chi từ nguồn thu được để lại | C11: =SUM(C12:C13) -> 0
B12: - Học phí | C12: 0
B13: - Thu khác | C13: 0
B14: 3. Số nộp NSNN | C14: 0
A15: B | B15: Dự toán chi ngân sách nhà nước | C15: =C17+C25 -> 0
B16: Giáo dục, đào tạo, dạy nghề
A17: I | B17: Kinh phí thực hiện tự chủ | C17: =SUM(C18:C24) -> 0
A18: 1 | B18: {=TRANSPOSE('TONG HOP'!E5:K5)} -> NSNN hỗ trợ chi thường xuyên cho đơn vị sự nghiệp công lập | C18: {=TRANSPOSE('TONG HOP'!E71:K71)} -> 0
A19: =A18+1 -> 2 | B19: Kinh phí cho hợp đồng hỗ trợ phục vụ | C19: 0
A20: =A19+1 -> 3 | B20: Chi hoạt động thường xuyên | C20: 0
A21: =A20+1 -> 4 | B21: Dự toán giữ lại | C21: 0
A22: =A21+1 -> 5 | B22: nội dung 5 | C22: 0
A23: =A22+1 -> 6 | B23: nội dung 6 | C23: 0
A24: =A23+1 -> 7 | B24: nội dung 7 | C24: 0
A25: II | B25: Kinh phí không thực hiện tự chủ | C25: =SUM(C26:C45) -> 0
A26: 1 | B26: {=TRANSPOSE('TONG HOP'!M5:AF5)} -> Kinh phí hỗ trợ chi phí học tập theo Nghị định số 238/2025/NĐ-CP | C26: {=TRANSPOSE('TONG HOP'!M71:AF71)} -> 0
A27: =A26+1 -> 2 | B27: Kinh phí hỗ trợ học bổng theo Thông tư số 42/2013/TTLT-BGDĐT-BLĐTBXH | C27: 0
A28: =A27+1 -> 3 | B28: Kinh phí hỗ trợ tiền ăn ở theo Nghị định số 66/2025/NĐ-CP | C28: 0
A29: =A28+1 -> 4 | B29: Kinh phí hỗ trợ học bổng theo Nghị định số 57/2017/NĐ-CP | C29: 0
A30: =A29+1 -> 5 | B30: Chế độ, chính sách cho hợp đồng chuyên môn, nghiệp vụ trong các đơn vị sự nghiệp công lập do ngân sách nhà nước bảo đảm chi thường xuyên thuộc lĩnh vực giáo dục theo Nghị quyết của HĐND tỉnh | C30: 0
A31: =A30+1 -> 6 | B31: Chính sách hợp đồng thực hiện công việc hỗ trợ, phục vụ hoạt động thường xuyên của cơ quan đơn vị do lãnh đạo cơ quan quyết định | C31: 0
A32: =A31+1 -> 7 | B32: Mua sắm trang thiết bị, sữa chữa trường học | C32: 0
A33: =A32+1 -> 8 | B33: Kinh phí thực hiện dạy học 2 buổi/ngày năm học 2025-2026 | C33: 0
A34: =A33+1 -> 9 | B34: Kinh phí thực hiện chế độ, chính sách theo Nghị định số 154/2025/NĐ-CP ngày 15/6/2025 của Chính phủ | C34: 0
A35: =A34+1 -> 10 | B35: Kinh phí sữa chữa , bảo dưỡng nhà xe, sân trường Trường THPT Gia Nghĩa (trước sáp nhập) | C35: 0
A36: =A35+1 -> 11 | B36: Kinh phí khen thưởng năm 2026 theo nghị định 161/NĐ-CP ngày 15/05/2026 | C36: 0
A37: =A36+1 -> 12 | B37: Gia hạn phần mềm misa | C37: 0
A38: =A37+1 -> 13 | B38: Kinh phí Cấp bù học phí | C38: 0
... A45: =A44+1 -> 20 | B45: Dự toán giữ lại | C45: 0
A46: C | B46: Mã số đơn vị sử dụng ngân sách | C46: ='TONG HOP'!AG71 -> 1073626

Sheet DTNT-ĐGlong
A1: DỰ TOÁN THU, CHI NGÂN SÁCH NHÀ NƯỚC NĂM 2026
A2: ='TONG HOP'!B72 -> Trường PT DTNT THCS & THPT Đắk Glong
A3: ='TONG HOP'!A2:AH2 -> (Kèm theo Quyết định số /QĐ-SGDĐT ngày tháng 10 năm 2026 của Sở Giáo dục và Đào tạo tỉnh Lâm Đồng)
A4: Chương: 422 ; Loại: 070 ; Khoản: 074
C5: Đơn vị: đồng
A6: Nội dung | C6: Tổng số
A7: A | B7: Tổng số thu, chi, nộp ngân sách
B8: 1. Số thu | C8: =SUM(C9:C10) -> 0
B9: - Học phí | C9: 0
B10: - Thu khác | C10: 0
B11: 2. Chi từ nguồn thu được để lại | C11: =SUM(C12:C13) -> 0
B12: - Học phí | C12: 0
B13: - Thu khác | C13: 0
B14: 3. Số nộp NSNN | C14: 0
A15: B | B15: Dự toán chi ngân sách nhà nước | C15: =C17+C25 -> 0
B16: Giáo dục, đào tạo, dạy nghề
A17: I | B17: Kinh phí thực hiện tự chủ | C17: =SUM(C18:C24) -> 0
A18: 1 | B18: {=TRANSPOSE('TONG HOP'!E5:K5)} -> NSNN hỗ trợ chi thường xuyên cho đơn vị sự nghiệp công lập | C18: {=TRANSPOSE('TONG HOP'!E72:K72)} -> 0
A19: =A18+1 -> 2 | B19: Kinh phí cho hợp đồng hỗ trợ phục vụ | C19: 0
A20: =A19+1 -> 3 | B20: Chi hoạt động thường xuyên | C20: 0
A21: =A20+1 -> 4 | B21: Dự toán giữ lại | C21: 0
A22: =A21+1 -> 5 | B22: nội dung 5 | C22: 0
A23: =A22+1 -> 6 | B23: nội dung 6 | C23: 0
A24: =A23+1 -> 7 | B24: nội dung 7 | C24: 0
A25: II | B25: Kinh phí không thực hiện tự chủ | C25: =SUM(C26:C45) -> 0
A26: 1 | B26: {=TRANSPOSE('TONG HOP'!M5:AF5)} -> Kinh phí hỗ trợ chi phí học tập theo Nghị định số 238/2025/NĐ-CP | C26: {=TRANSPOSE('TONG HOP'!M72:AF72)} -> 0
A27: =A26+1 -> 2 | B27: Kinh phí hỗ trợ học bổng theo Thông tư số 42/2013/TTLT-BGDĐT-BLĐTBXH | C27: 0
A28: =A27+1 -> 3 | B28: Kinh phí hỗ trợ tiền ăn ở theo Nghị định số 66/2025/NĐ-CP | C28: 0
A29: =A28+1 -> 4 | B29: Kinh phí hỗ trợ học bổng theo Nghị định số 57/2017/NĐ-CP | C29: 0
A30: =A29+1 -> 5 | B30: Chế độ, chính sách cho hợp đồng chuyên môn, nghiệp vụ trong các đơn vị sự nghiệp công lập do ngân sách nhà nước bảo đảm chi thường xuyên thuộc lĩnh vực giáo dục theo Nghị quyết của HĐND tỉnh | C30: 0
A31: =A30+1 -> 6 | B31: Chính sách hợp đồng thực hiện công việc hỗ trợ, phục vụ hoạt động thường xuyên của cơ quan đơn vị do lãnh đạo cơ quan quyết định | C31: 0
A32: =A31+1 -> 7 | B32: Mua sắm trang thiết bị, sữa chữa trường học | C32: 0
A33: =A32+1 -> 8 | B33: Kinh phí thực hiện dạy học 2 buổi/ngày năm học 2025-2026 | C33: 0
A34: =A33+1 -> 9 | B34: Kinh phí thực hiện chế độ, chính sách theo Nghị định số 154/2025/NĐ-CP ngày 15/6/2025 của Chính phủ | C34: 0
A35: =A34+1 -> 10 | B35: Kinh phí sữa chữa , bảo dưỡng nhà xe, sân trường Trường THPT Gia Nghĩa (trước sáp nhập) | C35: 0
A36: =A35+1 -> 11 | B36: Kinh phí khen thưởng năm 2026 theo nghị định 161/NĐ-CP ngày 15/05/2026 | C36: 0
A37: =A36+1 -> 12 | B37: Gia hạn phần mềm misa | C37: 0
A38: =A37+1 -> 13 | B38: Kinh phí Cấp bù học phí | C38: 0
... A45: =A44+1 -> 20 | B45: Dự toán giữ lại | C45: 0
