Workbook
Name _1: #REF!
Name _1: #REF!

Sheet TONG HOP
A1: GIAO DỰ TOÁN CHI NGÂN SÁCH NHÀ NƯỚC NĂM 2026 SAU SÁP NHẬP (ĐỢT 2)
A2: (Kèm theo Quyết định số /QĐ-SGDĐT ngày tháng 10 năm 2026 của Sở Giáo dục và Đào tạo tỉnh Lâm Đồng)
AH3: Đơn vị tính: đồng
A4: STT | B4: Tên đơn vị | C4: Tổng cộng | D4: Kinh phí chi thường xuyên | L4: Kinh phí chi không thường xuyên | AG4: Mã số đơn vị sử dụng ngân sách | AH4: Địa điểm KBNN nơi đơn vị sử dụng NSNN giao dịch
D5: Cộng | E5: NSNN hỗ trợ chi thường xuyên cho đơn vị sự nghiệp công lập | F5: Kinh phí cho hợp đồng hỗ trợ phục vụ | G5: Chi hoạt động thường xuyên | H5: Dự toán giữ lại | I5: nội dung 5 | J5: nội dung 6 | K5: nội dung 7 | L5: Cộng | M5: Kinh phí hỗ trợ chi phí học tập theo Nghị định số 238/2025/NĐ-CP | N5: Kinh phí hỗ trợ học bổng theo Thông tư số 42/2013/TTLT-BGDĐT-BLĐTBXH | O5: Kinh phí hỗ trợ tiền ăn ở theo Nghị định số 66/2025/NĐ-CP | P5: Kinh phí hỗ trợ học bổng theo Nghị định số 57/2017/NĐ-CP | Q5: Chế độ, chính sách cho hợp đồng chuyên môn, nghiệp vụ trong các đơn vị sự nghiệp công lập do ngân sách nhà nước bảo đảm chi thường xuyên thuộc lĩnh vực giáo dục theo Nghị quyết của HĐND tỉnh | R5: Chính sách hợp đồng thực hiện công việc hỗ trợ, phục vụ hoạt động thường xuyên của cơ quan đơn vị do lãnh đạo cơ quan quyết định | S5: Mua sắm trang thiết bị, sữa chữa trường học | T5: Kinh phí thực hiện dạy học 2 buổi/ngày năm học 2025-2026 | U5: Kinh phí thực hiện chế độ, chính sách theo Nghị định số 154/2025/NĐ-CP ngày 15/6/2025 của Chính phủ | V5: Kinh phí sữa chữa , bảo dưỡng nhà xe, sân trường Trường THPT Gia Nghĩa (trước sáp nhập) | W5: Kinh phí khen thưởng năm 2026 theo nghị định 161/NĐ-CP ngày 15/05/2026 | X5: Gia hạn phần mềm misa | Y5: Kinh phí Cấp bù học phí | Z5: Kinh phí Đảng | AA5: Chế độ bồi dưỡng và chế độ trang phục đối với giáo viên thể dục | AB5: Kinh phí thực hiện cho giáo viên dạy cho học sinh khuyết tật theo Nghị định 28/2012/NĐ-CP | AC5: Kinh phí thực hiện CCTL | AD5: Kinh phí bổ sung dự toán chi NSNN năm 2026 để thực hiện truy lĩnh kinh phí phụ cấp độc hại, nguy hiểm đối với nhân viên thiết bị, thí nghiệm | AE5: Dự toán giữ lại | AF5: Dự toán giữ lại
A6: A | B6: B | C6: 1=2+10 | D6: 2=3+…+9 | E6: 3 | F6: 4 | G6: 5 | H6: 6 | I6: 7 | J6: 8 | K6: 9 | L6: 10=11+...+30 | M6: 11 | N6: 12 | O6: 13 | P6: 14 | Q6: 15 | R6: 16 | S6: 17 | T6: 18 | U6: 19 | V6: 20 | W6: 21 | X6: 22 | Y6: 23 | Z6: 24 | AA6: 25 | AB6: 26 | AC6: 27 | AD6: 28 | AE6: 29 | AF6: 30 | AG6: 31 | AH6: 32
B7: Dự toán chi NSNN - Kinh phí đã phân bổ | C7: =C8+C11 -> 127157636224 | D7: =D8+D11 -> 112239531000 | E7: =E8+E11 -> 99693881000 | F7: =F8+F11 -> 0 | G7: =G8+G11 -> 10997690250 | H7: =H8+H11 -> 1547959750 | I7: =I8+I11 -> 0 | J7: =J8+J11 -> 0 | ... AF7: =AF8+AF11 -> 0
A8: A | B8: Quản lý hành chính | C8: =C9 -> 0 | D8: =D9 -> 0 | E8: =E9 -> 0 | F8: =F9 -> 0 | G8: =G9 -> 0 | H8: =H9 -> 0 | I8: =I9 -> 0 | J8: =J9 -> 0 | ... AF8: =AF9 -> 0
A9: I | B9: Chương: 422 - Mã nội dung kinh tế: 341, 098, 398 | C9: =C10 -> 0 | D9: =D10 -> 0 | E9: =E10 -> 0 | F9: =F10 -> 0 | G9: =G10 -> 0 | H9: =H10 -> 0 | I9: =I10 -> 0 | J9: =J10 -> 0 | ... AF9: =AF10 -> 0
A10: 1 | B10: Cơ quan Sở Giáo dục và Đào tạo tỉnh Lâm Đồng | C10: =D10+L10 -> 0 | D10: =SUM(E10:K10) -> 0 | L10: =SUM(M10:AF10) -> 0 | AG10: 1072470 | AH10: Kho bạc Nhà nước Khu vực XVI
B11: Giáo dục, đào tạo, dạy nghề | C11: =C12+C15+C130+C144 -> 127157636224 | D11: =D12+D15+D130+D144 -> 112239531000 | E11: =E12+E15+E130+E144 -> 99693881000 | F11: =F12+F15+F130+F144 -> 0 | G11: =G12+G15+G130+G144 -> 10997690250 | H11: =H12+H15+H130+H144 -> 1547959750 | I11: =I12+I15+I130+I144 -> 0 | J11: =J12+J15+J130+J144 -> 0 | ... AF11: =AF12+AF15+AF130+AF144 -> 0
A12: II | B12: Chương: 422 - Mã nội dung kinh tế: 072 | C12: =SUM(C13:C14) -> 0 | D12: =SUM(D13:D14) -> 0 | E12: =SUM(E13:E14) -> 0 | F12: =SUM(F13:F14) -> 0 | G12: =SUM(G13:G14) -> 0 | H12: =SUM(H13:H14) -> 0 | I12: =SUM(I13:I14) -> 0 | J12: =SUM(J13:J14) -> 0 | ... AF12: =SUM(AF13:AF14) -> 0
A13: =A10+1 -> 2 | B13: Trung tâm Hỗ trợ phát triển giáo dục hòa nhập - Cam Ly | C13: =D13+L13 -> 0 | D13: =SUM(E13:K13) -> 0 | L13: =SUM(M13:AF13) -> 0 | AG13: 1133448 | AH13: Phòng Giao dịch số 10 - Kho bạc Nhà nước Khu vực XVI
A14: =A13+1 -> 3 | B14: Trung tâm Hỗ trợ phát triển giáo dục hòa nhập - Gia Nghĩa | C14: =D14+L14 -> 0 | D14: =SUM(E14:K14) -> 0 | L14: =SUM(M14:AF14) -> 0 | AG14: 1123589 | AH14: Phòng Giao dịch số 5 - Kho bạc Nhà nước Khu vực XVI
A15: I | B15: Chương: 422 - Mã nội dung kinh tế: 074 | C15: =SUM(C16:C129) -> 127157636224 | D15: =SUM(D16:D129) -> 112239531000 | E15: =SUM(E16:E129) -> 99693881000 | F15: =SUM(F16:F129) -> 0 | G15: =SUM(G16:G129) -> 10997690250 | H15: =SUM(H16:H129) -> 1547959750 | I15: =SUM(I16:I129) -> 0 | J15: =SUM(J16:J129) -> 0 | ... AF15: =SUM(AF16:AF129) -> 0
A16: =A14+1 -> 4 | B16: Trường PT DTNT THCS&THPT tỉnh Lâm Đồng | C16: =D16+L16 -> 0 | D16: =SUM(E16:K16) -> 0 | L16: =SUM(M16:AF16) -> 0 | AG16: 1078714 | AH16: Kho bạc Nhà nước Khu vực XVI
A17: =A16+1 -> 5 | B17: Trường PT DTNT THCS&THPT Đạ Tẻh | C17: =D17+L17 -> 0 | D17: =SUM(E17:K17) -> 0 | L17: =SUM(M17:AF17) -> 0 | AG17: 1072818 | AH17: Kho bạc Nhà nước Khu vực XVI
A18: =A17+1 -> 6 | B18: Trường THPT Chuyên Thăng Long | C18: =D18+L18 -> 0 | D18: =SUM(E18:K18) -> 0 | L18: =SUM(M18:AF18) -> 0 | AG18: 1078464 | AH18: Kho bạc Nhà nước Khu vực XVI
A19: =A18+1 -> 7 | B19: Trường THPT Bùi Thị Xuân - Đà Lạt | C19: =D19+L19 -> 0 | D19: =SUM(E19:K19) -> 0 | L19: =SUM(M19:AF19) -> 0 | AG19: 1078465 | AH19: Kho bạc Nhà nước Khu vực XVI
A20: =A19+1 -> 8 | B20: Trường THPT Trần Phú - Đà Lạt | C20: =D20+L20 -> 0 | D20: =SUM(E20:K20) -> 0 | L20: =SUM(M20:AF20) -> 0 | AG20: 1078468 | AH20: Kho bạc Nhà nước Khu vực XVI
A21: =A20+1 -> 9 | B21: Trường THCS&THPT Đống Đa | C21: =D21+L21 -> 0 | D21: =SUM(E21:K21) -> 0 | L21: =SUM(M21:AF21) -> 0 | AG21: 1075358 | AH21: Kho bạc Nhà nước Khu vực XVI
A22: =A21+1 -> 10 | B22: Trường THCS&THPT Tây Sơn | C22: =D22+L22 -> 0 | D22: =SUM(E22:K22) -> 0 | L22: =SUM(M22:AF22) -> 0 | AG22: 1075357 | AH22: Kho bạc Nhà nước Khu vực XVI
A23: =A22+1 -> 11 | B23: Trường THCS&THPT Chi Lăng | C23: =D23+L23 -> 0 | D23: =SUM(E23:K23) -> 0 | L23: =SUM(M23:AF23) -> 0 | AG23: 1078467 | AH23: Kho bạc Nhà nước Khu vực XVI
A24: =A23+1 -> 12 | B24: Trường THCS&THPT Tà Nung | C24: =D24+L24 -> 0 | D24: =SUM(E24:K24) -> 0 | L24: =SUM(M24:AF24) -> 0 | AG24: 1083484 | AH24: Kho bạc Nhà nước Khu vực XVI
A25: =A24+1 -> 13 | B25: Trường THCS&THPT Xuân Trường | C25: =D25+L25 -> 0 | D25: =SUM(E25:K25) -> 0 | L25: =SUM(M25:AF25) -> 0 | AG25: 1078716 | AH25: Kho bạc Nhà nước Khu vực XVI
A26: 1 | B26: Trường THCS&THPT Lang Biang | C26: =D26+L26 -> 0 | D26: =SUM(E26:K26) -> 0 | L26: =SUM(M26:AF26) -> 0
A27: 2 | B27: Trường THCS&THPT Đạ Sar | C27: =D27+L27 -> 0 | D27: =SUM(E27:K27) -> 0 | L27: =SUM(M27:AF27) -> 0 | AG27: 1083721 | AH27: Kho bạc Nhà nước Khu vực XVI
A28: =A27+1 -> 3 | B28: Trường THCS&THPT Đạ Nhim | C28: =D28+L28 -> 0 | D28: =SUM(E28:K28) -> 0 | L28: =SUM(M28:AF28) -> 0 | AG28: 1083613 | AH28: Kho bạc Nhà nước Khu vực XVI
A29: =A28+1 -> 4 | B29: Trường THPT Đơn Dương | C29: =D29+L29 -> 0 | D29: =SUM(E29:K29) -> 0 | L29: =SUM(M29:AF29) -> 0 | AG29: 1078726 | AH29: Phòng giao dịch số 1-Kho bạc Nhà nước Khu vực XVI
A30: =A29+1 -> 5 | B30: Trường THPT Hùng Vương - D'Ran | C30: =D30+L30 -> 0 | D30: =SUM(E30:K30) -> 0 | L30: =SUM(M30:AF30) -> 0 | AG30: 1115635 | AH30: Phòng giao dịch số 1-Kho bạc Nhà nước Khu vực XVI
A31: =A30+1 -> 6 | B31: Trường THPT P' Ró | C31: =D31+L31 -> 0 | D31: =SUM(E31:K31) -> 0 | L31: =SUM(M31:AF31) -> 0 | AG31: 1071851 | AH31: Phòng giao dịch số 1-Kho bạc Nhà nước Khu vực XVI
A32: =A31+1 -> 7 | B32: Trường THPT Đức Trọng | C32: =D32+L32 -> 0 | D32: =SUM(E32:K32) -> 0 | L32: =SUM(M32:AF32) -> 0 | AG32: 1078717 | AH32: Phòng giao dịch số 1-Kho bạc Nhà nước Khu vực XVI
A33: 3 | B33: Trường THPT Hoàng Hoa Thám | C33: =D33+L33 -> 0 | D33: =SUM(E33:K33) -> 0 | L33: =SUM(M33:AF33) -> 0 | AG33: 1083714 | AH33: Phòng giao dịch số 1-Kho bạc Nhà nước Khu vực XVI
A34: 1 | B34: Trường THCS&THPT Nguyễn Thái Bình | C34: =D34+L34 -> 19301782440 | D34: =SUM(E34:K34) -> 18274280000 | E34: 16084749000 | G34: 1943867784 | H34: 245663216 | L34: =SUM(M34:AF34) -> 1027502440 | M34: 35370000 | Q34: 589132440 | R34: 144000000 | T34: 259000000 | AG34: 1178001 | AH34: Phòng giao dịch số 1-Kho bạc Nhà nước Khu vực XVI
A35: 2 | B35: Trường THCS&THPT Nguyễn Bỉnh Khiêm | C35: =D35+L35 -> 13691993344 | D35: =SUM(E35:K35) -> 10344141000 | E35: 9113781000 | G35: 1083505647 | H35: 146854353 | L35: =SUM(M35:AF35) -> 3347852344 | M35: 48636000 | N35: 35696000 | O35: 1049760000 | Q35: 1677760344 | R35: 144000000 | T35: 392000000 | AG35: 1178191 | AH35: Phòng giao dịch số 1-Kho bạc Nhà nước Khu vực XVI
A36: 3 | B36: Trường THCS&THPT Chu Văn An - Hiệp Thạnh | C36: =D36+L36 -> 13124432928 | D36: =SUM(E36:K36) -> 11928524000 | E36: 10501387000 | G36: 1269575256 | H36: 157561744 | L36: =SUM(M36:AF36) -> 1195908928 | M36: 22950000 | Q36: 706958928 | R36: 144000000 | T36: 322000000 | AG36: 1178005 | AH36: Phòng giao dịch số 1-Kho bạc Nhà nước Khu vực XVI
A37: =A36+1 -> 4 | B37: Trường THPT Lương Thế Vinh - Đức Trọng | C37: =D37+L37 -> 0 | D37: =SUM(E37:K37) -> 0 | L37: =SUM(M37:AF37) -> 0 | AG37: 1115636 | AH37: Phòng giao dịch số 1-Kho bạc Nhà nước Khu vực XVI
A38: 7 | B38: Trường THPT Lâm Hà | C38: =D38+L38 -> 0 | D38: =SUM(E38:K38) -> 0 | L38: =SUM(M38:AF38) -> 0 | AG38: 1011512 | AH38: Phòng giao dịch số 2-Kho bạc Nhà nước Khu vực XVI
A39: 8 | B39: Trường THPT Tân Hà | C39: =D39+L39 -> 0 | D39: =SUM(E39:K39) -> 0 | L39: =SUM(M39:AF39) -> 0 | AG39: 1009800 | AH39: Phòng giao dịch số 2-Kho bạc Nhà nước Khu vực XVI
A40: =A39+1 -> 9 | B40: Trường THPT Huỳnh Thúc Kháng - Lâm Hà | C40: =D40+L40 -> 0 | D40: =SUM(E40:K40) -> 0 | L40: =SUM(M40:AF40) -> 0 | AG40: 1083644 | AH40: Phòng giao dịch số 2-Kho bạc Nhà nước Khu vực XVI
...

Sheet VPS
A1: DỰ TOÁN THU, CHI NGÂN SÁCH NHÀ NƯỚC NĂM 2026
A2: ='TONG HOP'!B10 -> Cơ quan Sở Giáo dục và Đào tạo tỉnh Lâm Đồng
A3: ='TONG HOP'!A2:AH2 -> (Kèm theo Quyết định số /QĐ-SGDĐT ngày tháng 10 năm 2026 của Sở Giáo dục và Đào tạo tỉnh Lâm Đồng)
F4: Đơn vị tính: đồng
A5: STT | B5: Nội dung | C5: Tổng số | D5: Chi tiết theo loại khoản
D6: Cơ quan Sở Giáo dục và Đào tạo
D7: Loại 340 Khoản 341 | E7: Loại 280 Khoản 338 | F7: Loại 070 khoản 098 | G7: Loại 370 khoản 398
A8: A | B8: Dự toán thu | C8: =C9+C10 -> 0 | D8: =D9+D10 -> 0 | E8: =E9+E10 -> 0 | F8: =F9+F10 -> 0 | G8: =G9+G10 -> 0
A9: 1 | B9: Thu sự nghiệp | C9: =SUM(D9:G9) -> 0 | D9: 0 | E9: 0 | F9: 0 | G9: 0
A10: 2 | B10: Chi từ nguôn thu để lại | C10: =SUM(D10:G10) -> 0 | D10: 0 | E10: 0 | F10: 0 | G10: 0
B11: Trong đó: Trích tạo nguồn thực hiện CCTL theo quy định (40%) | C11: =SUM(D11:G11) -> 0 | D11: 0 | E11: 0 | F11: 0 | G11: 0
A12: B | B12: Dự toán chi NSNN | C12: =C13+C21 -> 0 | D12: =D13+D21 -> 0 | E12: =E13+E21 -> 0 | F12: =F13+F21 -> 0 | G12: =G13+G21 -> 0
A13: I | B13: Chi thường xuyên giao tự chủ | C13: =SUM(C14:C20) -> 0 | D13: =SUM(D14:D20) -> 0 | E13: =SUM(E14:E20) -> 0 | F13: =SUM(F14:F20) -> 0 | G13: =SUM(G14:G20) -> 0
A14: 1 | C14: =SUM(D14:G14) -> 0
A15: =A14+1 -> 2 | C15: =SUM(D15:G15) -> 0
A16: =A15+1 -> 3 | C16: =SUM(D16:G16) -> 0
A17: =A16+1 -> 4 | C17: =SUM(D17:G17) -> 0
A18: =A17+1 -> 5 | C18: =SUM(D18:G18) -> 0
A19: =A18+1 -> 6 | C19: =SUM(D19:G19) -> 0
A20: =A19+1 -> 7 | C20: =SUM(D20:G20) -> 0
A21: II | B21: Chi thường xuyên không giao tự chủ | C21: =SUM(C22:C41) -> 0 | D21: =SUM(D22:D41) -> 0 | E21: =SUM(E22:E41) -> 0 | F21: =SUM(F22:F41) -> 0 | G21: =SUM(G22:G41) -> 0
A22: 1 | C22: =SUM(D22:G22) -> 0
A23: =A22+1 -> 2 | C23: =SUM(D23:G23) -> 0
A24: =A23+1 -> 3 | C24: =SUM(D24:G24) -> 0
A25: =A24+1 -> 4 | C25: =SUM(D25:G25) -> 0
A26: =A25+1 -> 5 | C26: =SUM(D26:G26) -> 0
A27: =A26+1 -> 6 | C27: =SUM(D27:G27) -> 0
A28: =A27+1 -> 7 | C28: =SUM(D28:G28) -> 0
A29: =A28+1 -> 8 | C29: =SUM(D29:G29) -> 0
A30: =A29+1 -> 9 | C30: =SUM(D30:G30) -> 0
A31: =A30+1 -> 10 | C31: =SUM(D31:G31) -> 0
A32: =A31+1 -> 11 | C32: =SUM(D32:G32) -> 0
A33: =A32+1 -> 12 | C33: =SUM(D33:G33) -> 0
A34: =A33+1 -> 13 | C34: =SUM(D34:G34) -> 0
... A41: =A40+1 -> 20 | C41: =SUM(D41:G41) -> 0
A42: C | B42: Mã số đơn vị sử dụng ngân sách | C42: ='TONG HOP'!AG10 -> 1072470

Sheet GDHN-CL
A1: DỰ TOÁN THU, CHI NGÂN SÁCH NHÀ NƯỚC NĂM 2026
A2: ='TONG HOP'!B13 -> Trung tâm Hỗ trợ phát triển giáo dục hòa nhập - Cam Ly
A3: ='TONG HOP'!A2:AH2 -> (Kèm theo Quyết định số /QĐ-SGDĐT ngày tháng 10 năm 2026 của Sở Giáo dục và Đào tạo tỉnh Lâm Đồng)
A4: Chương: 422 ; Loại: 070 ; Khoản: 072
C5: Đơn vị: đồng
A6: Nội dung | C6: Tổng số
A7: A | B7: Tổng số thu, chi, nộp ngân sách
B8: 1. Số thu | C8: =SUM(C9:C10) -> 0
B9: - Học phí | C9: 0
B10: - Thu khác | C10: 0
B11: 2. Chi từ nguồn thu được để lại | C11: =SUM(C12:C13) -> 0
B12: - Học phí | C12: 0
B13: - Thu khác | C13: 0
B14: 3. Số nộp NSNN | C14: 0
A15: B | B15: Dự toán chi ngân sách nhà nước | C15: =C17+C25 -> 0
B16: Giáo dục, đào tạo, dạy nghề
A17: I | B17: Kinh phí thực hiện tự chủ | C17: =SUM(C18:C24) -> 0
A18: 1 | B18: {=TRANSPOSE('TONG HOP'!E5:K5)} -> NSNN hỗ trợ chi thường xuyên cho đơn vị sự nghiệp công lập | C18: {=TRANSPOSE('TONG HOP'!E13:K13)} -> 0
A19: =A18+1 -> 2 | B19: Kinh phí cho hợp đồng hỗ trợ phục vụ | C19: 0
A20: =A19+1 -> 3 | B20: Chi hoạt động thường xuyên | C20: 0
A21: =A20+1 -> 4 | B21: Dự toán giữ lại | C21: 0
A22: =A21+1 -> 5 | B22: nội dung 5 | C22: 0
A23: =A22+1 -> 6 | B23: nội dung 6 | C23: 0
A24: =A23+1 -> 7 | B24: nội dung 7 | C24: 0
A25: II | B25: Kinh phí không thực hiện tự chủ | C25: =SUM(C26:C45) -> 0
A26: 1 | B26: {=TRANSPOSE('TONG HOP'!M5:AF5)} -> Kinh phí hỗ trợ chi phí học tập theo Nghị định số 238/2025/NĐ-CP | C26: {=TRANSPOSE('TONG HOP'!M13:AF13)} -> 0
A27: =A26+1 -> 2 | B27: Kinh phí hỗ trợ học bổng theo Thông tư số 42/2013/TTLT-BGDĐT-BLĐTBXH | C27: 0
A28: =A27+1 -> 3 | B28: Kinh phí hỗ trợ tiền ăn ở theo Nghị định số 66/2025/NĐ-CP | C28: 0
A29: =A28+1 -> 4 | B29: Kinh phí hỗ trợ học bổng theo Nghị định số 57/2017/NĐ-CP | C29: 0
A30: =A29+1 -> 5 | B30: Chế độ, chính sách cho hợp đồng chuyên môn, nghiệp vụ trong các đơn vị sự nghiệp công lập do ngân sách nhà nước bảo đảm chi thường xuyên thuộc lĩnh vực giáo dục theo Nghị quyết của HĐND tỉnh | C30: 0
A31: =A30+1 -> 6 | B31: Chính sách hợp đồng thực hiện công việc hỗ trợ, phục vụ hoạt động thường xuyên của cơ quan đơn vị do lãnh đạo cơ quan quyết định | C31: 0
A32: =A31+1 -> 7 | B32: Mua sắm trang thiết bị, sữa chữa trường học | C32: 0
A33: =A32+1 -> 8 | B33: Kinh phí thực hiện dạy học 2 buổi/ngày năm học 2025-2026 | C33: 0
A34: =A33+1 -> 9 | B34: Kinh phí thực hiện chế độ, chính sách theo Nghị định số 154/2025/NĐ-CP ngày 15/6/2025 của Chính phủ | C34: 0
A35: =A34+1 -> 10 | B35: Kinh phí sữa chữa , bảo dưỡng nhà xe, sân trường Trường THPT Gia Nghĩa (trước sáp nhập) | C35: 0
A36: =A35+1 -> 11 | B36: Kinh phí khen thưởng năm 2026 theo nghị định 161/NĐ-CP ngày 15/05/2026 | C36: 0
A37: =A36+1 -> 12 | B37: Gia hạn phần mềm misa | C37: 0
A38: =A37+1 -> 13 | B38: Kinh phí Cấp bù học phí | C38: 0
... A45: =A44+1 -> 20 | B45: Dự toán giữ lại | C45: 0
A46: C | B46: Mã số đơn vị sử dụng ngân sách | C46: ='TONG HOP'!AG13 -> 1133448

Sheet GDHN-GN
A1: DỰ TOÁN THU, CHI NGÂN SÁCH NHÀ NƯỚC NĂM 2026
A2: ='TONG HOP'!B14 -> Trung tâm Hỗ trợ phát triển giáo dục hòa nhập - Gia Nghĩa
A3: ='TONG HOP'!A2:AH2 -> (Kèm theo Quyết định số /QĐ-SGDĐT ngày tháng 10 năm 2026 của Sở Giáo dục và Đào tạo tỉnh Lâm Đồng)
A4: Chương: 422 ; Loại: 070 ; Khoản: 072
C5: Đơn vị: đồng
A6: Nội dung | C6: Tổng số
A7: A | B7: Tổng số thu, chi, nộp ngân sách
B8: 1. Số thu | C8: =SUM(C9:C10) -> 0
B9: - Học phí | C9: 0
B10: - Thu khác | C10: 0
B11: 2. Chi từ nguồn thu được để lại | C11: =SUM(C12:C13) -> 0
B12: - Học phí | C12: 0
B13: - Thu khác | C13: 0
B14: 3. Số nộp NSNN | C14: 0
A15: B | B15: Dự toán chi ngân sách nhà nước | C15: =C17+C25 -> 0
B16: Giáo dục, đào tạo, dạy nghề
A17: I | B17: Kinh phí thực hiện tự chủ | C17: =SUM(C18:C24) -> 0
A18: 1 | B18: {=TRANSPOSE('TONG HOP'!E5:K5)} -> NSNN hỗ trợ chi thường xuyên cho đơn vị sự nghiệp công lập | C18: {=TRANSPOSE('TONG HOP'!E14:K14)} -> 0
A19: =A18+1 -> 2 | B19: Kinh phí cho hợp đồng hỗ trợ phục vụ | C19: 0
A20: =A19+1 -> 3 | B20: Chi hoạt động thường xuyên | C20: 0
A21: =A20+1 -> 4 | B21: Dự toán giữ lại | C21: 0
A22: =A21+1 -> 5 | B22: nội dung 5 | C22: 0
A23: =A22+1 -> 6 | B23: nội dung 6 | C23: 0
A24: =A23+1 -> 7 | B24: nội dung 7 | C24: 0
A25: II | B25: Kinh phí không thực hiện tự chủ | C25: =SUM(C26:C45) -> 0
A26: 1 | B26: {=TRANSPOSE('TONG HOP'!M5:AF5)} -> Kinh phí hỗ trợ chi phí học tập theo Nghị định số 238/2025/NĐ-CP | C26: {=TRANSPOSE('TONG HOP'!M14:AF14)} -> 0
A27: =A26+1 -> 2 | B27: Kinh phí hỗ trợ học bổng theo Thông tư số 42/2013/TTLT-BGDĐT-BLĐTBXH | C27: 0
A28: =A27+1 -> 3 | B28: Kinh phí hỗ trợ tiền ăn ở theo Nghị định số 66/2025/NĐ-CP | C28: 0
A29: =A28+1 -> 4 | B29: Kinh phí hỗ trợ học bổng theo Nghị định số 57/2017/NĐ-CP | C29: 0
A30: =A29+1 -> 5 | B30: Chế độ, chính sách cho hợp đồng chuyên môn, nghiệp vụ trong các đơn vị sự nghiệp công lập do ngân sách nhà nước bảo đảm chi thường xuyên thuộc lĩnh vực giáo dục theo Nghị quyết của HĐND tỉnh | C30: 0
A31: =A30+1 -> 6 | B31: Chính sách hợp đồng thực hiện công việc hỗ trợ, phục vụ hoạt động thường xuyên của cơ quan đơn vị do lãnh đạo cơ quan quyết định | C31: 0
A32: =A31+1 -> 7 | B32: Mua sắm trang thiết bị, sữa chữa trường học | C32: 0
A33: =A32+1 -> 8 | B33: Kinh phí thực hiện dạy học 2 buổi/ngày năm học 2025-2026 | C33: 0
A34: =A33+1 -> 9 | B34: Kinh phí thực hiện chế độ, chính sách theo Nghị định số 154/2025/NĐ-CP ngày 15/6/2025 của Chính phủ | C34: 0
A35: =A34+1 -> 10 | B35: Kinh phí sữa chữa , bảo dưỡng nhà xe, sân trường Trường THPT Gia Nghĩa (trước sáp nhập) | C35: 0
A36: =A35+1 -> 11 | B36: Kinh phí khen thưởng năm 2026 theo nghị định 161/NĐ-CP ngày 15/05/2026 | C36: 0
A37: =A36+1 -> 12 | B37: Gia hạn phần mềm misa | C37: 0
A38: =A37+1 -> 13 | B38: Kinh phí Cấp bù học phí | C38: 0
... A45: =A44+1 -> 20 | B45: Dự toán giữ lại | C45: 0
A46: C | B46: Mã số đơn vị sử dụng ngân sách | C46: ='TONG HOP'!AG14 -> 1123589

Sheet DTNT-LĐ
A1: DỰ TOÁN THU, CHI NGÂN SÁCH NHÀ NƯỚC NĂM 2026
A2: ='TONG HOP'!B16 -> Trường PT DTNT THCS&THPT tỉnh Lâm Đồng
A3: ='TONG HOP'!A2:AH2 -> (Kèm theo Quyết định số /QĐ-SGDĐT ngày tháng 10 năm 2026 của Sở Giáo dục và Đào tạo tỉnh Lâm Đồng)
A4: Chương: 422 ; Loại: 070 ; Khoản: 074
C5: Đơn vị: đồng
A6: Nội dung | C6: Tổng số
A7: A | B7: Tổng số thu, chi, nộp ngân sách
B8: 1. Số thu | C8: =SUM(C9:C10) -> 0
B9: - Học phí | C9: 0
B10: - Thu khác | C10: 0
B11: 2. Chi từ nguồn thu được để lại | C11: =SUM(C12:C13) -> 0
B12: - Học phí | C12: 0
B13: - Thu khác | C13: 0
B14: 3. Số nộp NSNN | C14: 0
A15: B | B15: Dự toán chi ngân sách nhà nước | C15: =C17+C25 -> 0
B16: Giáo dục, đào tạo, dạy nghề
A17: I | B17: Kinh phí thực hiện tự chủ | C17: =SUM(C18:C24) -> 0
A18: 1 | B18: {=TRANSPOSE('TONG HOP'!E5:K5)} -> NSNN hỗ trợ chi thường xuyên cho đơn vị sự nghiệp công lập | C18: {=TRANSPOSE('TONG HOP'!E16:K16)} -> 0
A19: =A18+1 -> 2 | B19: Kinh phí cho hợp đồng hỗ trợ phục vụ | C19: 0
A20: =A19+1 -> 3 | B20: Chi hoạt động thường xuyên | C20: 0
A21: =A20+1 -> 4 | B21: Dự toán giữ lại | C21: 0
A22: =A21+1 -> 5 | B22: nội dung 5 | C22: 0
A23: =A22+1 -> 6 | B23: nội dung 6 | C23: 0
A24: =A23+1 -> 7 | B24: nội dung 7 | C24: 0
A25: II | B25: Kinh phí không thực hiện tự chủ | C25: =SUM(C26:C45) -> 0
A26: 1 | B26: {=TRANSPOSE('TONG HOP'!M5:AF5)} -> Kinh phí hỗ trợ chi phí học tập theo Nghị định số 238/2025/NĐ-CP | C26: {=TRANSPOSE('TONG HOP'!M16:AF16)} -> 0
A27: =A26+1 -> 2 | B27: Kinh phí hỗ trợ học bổng theo Thông tư số 42/2013/TTLT-BGDĐT-BLĐTBXH | C27: 0
A28: =A27+1 -> 3 | B28: Kinh phí hỗ trợ tiền ăn ở theo Nghị định số 66/2025/NĐ-CP | C28: 0
A29: =A28+1 -> 4 | B29: Kinh phí hỗ trợ học bổng theo Nghị định số 57/2017/NĐ-CP | C29: 0
A30: =A29+1 -> 5 | B30: Chế độ, chính sách cho hợp đồng chuyên môn, nghiệp vụ trong các đơn vị sự nghiệp công lập do ngân sách nhà nước bảo đảm chi thường xuyên thuộc lĩnh vực giáo dục theo Nghị quyết của HĐND tỉnh | C30: 0
A31: =A30+1 -> 6 | B31: Chính sách hợp đồng thực hiện công việc hỗ trợ, phục vụ hoạt động thường xuyên của cơ quan đơn vị do lãnh đạo cơ quan quyết định | C31: 0
A32: =A31+1 -> 7 | B32: Mua sắm trang thiết bị, sữa chữa trường học | C32: 0
A33: =A32+1 -> 8 | B33: Kinh phí thực hiện dạy học 2 buổi/ngày năm học 2025-2026 | C33: 0
A34: =A33+1 -> 9 | B34: Kinh phí thực hiện chế độ, chính sách theo Nghị định số 154/2025/NĐ-CP ngày 15/6/2025 của Chính phủ | C34: 0
A35: =A34+1 -> 10 | B35: Kinh phí sữa chữa , bảo dưỡng nhà xe, sân trường Trường THPT Gia Nghĩa (trước sáp nhập) | C35: 0
A36: =A35+1 -> 11 | B36: Kinh phí khen thưởng năm 2026 theo nghị định 161/NĐ-CP ngày 15/05/2026 | C36: 0
A37: =A36+1 -> 12 | B37: Gia hạn phần mềm misa | C37: 0
A38: =A37+1 -> 13 | B38: Kinh phí Cấp bù học phí | C38: 0
... A45: =A44+1 -> 20 | B45: Dự toán giữ lại | C45: 0
A46: C | B46: Mã số đơn vị sử dụng ngân sách | C46: ='TONG HOP'!AG16 -> 1078714

Sheet DTNT-Đateh
A1: DỰ TOÁN THU, CHI NGÂN SÁCH NHÀ NƯỚC NĂM 2026
A2: ='TONG HOP'!B17 -> Trường PT DTNT THCS&THPT Đạ Tẻh
A3: ='TONG HOP'!A2:AH2 -> (Kèm theo Quyết định số /QĐ-SGDĐT ngày tháng 10 năm 2026 của Sở Giáo dục và Đào tạo tỉnh Lâm Đồng)
A4: Chương: 422 ; Loại: 070 ; Khoản: 074
C5: Đơn vị: đồng
A6: Nội dung | C6: Tổng số
A7: A | B7: Tổng số thu, chi, nộp ngân sách
B8: 1. Số thu | C8: =SUM(C9:C10) -> 0
B9: - Học phí | C9: 0
B10: - Thu khác | C10: 0
B11: 2. Chi từ nguồn thu được để lại | C11: =SUM(C12:C13) -> 0
B12: - Học phí | C12: 0
B13: - Thu khác | C13: 0
B14: 3. Số nộp NSNN | C14: 0
A15: B | B15: Dự toán chi ngân sách nhà nước | C15: =C17+C25 -> 0
B16: Giáo dục, đào tạo, dạy nghề
A17: I | B17: Kinh phí thực hiện tự chủ | C17: =SUM(C18:C24) -> 0
A18: 1 | B18: {=TRANSPOSE('TONG HOP'!E5:K5)} -> NSNN hỗ trợ chi thường xuyên cho đơn vị sự nghiệp công lập | C18: {=TRANSPOSE('TONG HOP'!E17:K17)} -> 0
A19: =A18+1 -> 2 | B19: Kinh phí cho hợp đồng hỗ trợ phục vụ | C19: 0
A20: =A19+1 -> 3 | B20: Chi hoạt động thường xuyên | C20: 0
A21: =A20+1 -> 4 | B21: Dự toán giữ lại | C21: 0
A22: =A21+1 -> 5 | B22: nội dung 5 | C22: 0
A23: =A22+1 -> 6 | B23: nội dung 6 | C23: 0
A24: =A23+1 -> 7 | B24: nội dung 7 | C24: 0
A25: II | B25: Kinh phí không thực hiện tự chủ | C25: =SUM(C26:C45) -> 0
A26: 1 | B26: {=TRANSPOSE('TONG HOP'!M5:AF5)} -> Kinh phí hỗ trợ chi phí học tập theo Nghị định số 238/2025/NĐ-CP | C26: {=TRANSPOSE('TONG HOP'!M17:AF17)} -> 0
A27: =A26+1 -> 2 | B27: Kinh phí hỗ trợ học bổng theo Thông tư số 42/2013/TTLT-BGDĐT-BLĐTBXH | C27: 0
A28: =A27+1 -> 3 | B28: Kinh phí hỗ trợ tiền ăn ở theo Nghị định số 66/2025/NĐ-CP | C28: 0
A29: =A28+1 -> 4 | B29: Kinh phí hỗ trợ học bổng theo Nghị định số 57/2017/NĐ-CP | C29: 0
A30: =A29+1 -> 5 | B30: Chế độ, chính sách cho hợp đồng chuyên môn, nghiệp vụ trong các đơn vị sự nghiệp công lập do ngân sách nhà nước bảo đảm chi thường xuyên thuộc lĩnh vực giáo dục theo Nghị quyết của HĐND tỉnh | C30: 0
A31: =A30+1 -> 6 | B31: Chính sách hợp đồng thực hiện công việc hỗ trợ, phục vụ hoạt động thường xuyên của cơ quan đơn vị do lãnh đạo cơ quan quyết định | C31: 0
A32: =A31+1 -> 7 | B32: Mua sắm trang thiết bị, sữa chữa trường học | C32: 0
A33: =A32+1 -> 8 | B33: Kinh phí thực hiện dạy học 2 buổi/ngày năm học 2025-2026 | C33: 0
A34: =A33+1 -> 9 | B34: Kinh phí thực hiện chế độ, chính sách theo Nghị định số 154/2025/NĐ-CP ngày 15/6/2025 của Chính phủ | C34: 0
A35: =A34+1 -> 10 | B35: Kinh phí sữa chữa , bảo dưỡng nhà xe, sân trường Trường THPT Gia Nghĩa (trước sáp nhập) | C35: 0
A36: =A35+1 -> 11 | B36: Kinh phí khen thưởng năm 2026 theo nghị định 161/NĐ-CP ngày 15/05/2026 | C36: 0
A37: =A36+1 -> 12 | B37: Gia hạn phần mềm misa | C37: 0
A38: =A37+1 -> 13 | B38: Kinh phí Cấp bù học phí | C38: 0
... A45: =A44+1 -> 20 | B45: Dự toán giữ lại | C45: 0
A46: C | B46: Mã số đơn vị sử dụng ngân sách | C46: ='TONG HOP'!AG17 -> 1072818

Sheet Chuyen TLong
A1: DỰ TOÁN THU, CHI NGÂN SÁCH NHÀ NƯỚC NĂM 2026
A2: ='TONG HOP'!B18 -> Trường THPT Chuyên Thăng Long
A3: ='TONG HOP'!A2:AH2 -> (Kèm theo Quyết định số /QĐ-SGDĐT ngày tháng 10 năm 2026 của Sở Giáo dục và Đào tạo tỉnh Lâm Đồng)
A4: Chương: 422 ; Loại: 070 ; Khoản: 074
C5: Đơn vị: đồng
A6: Nội dung | C6: Tổng số
A7: A | B7: Tổng số thu, chi, nộp ngân sách
B8: 1. Số thu | C8: =SUM(C9:C10) -> 0
B9: - Học phí | C9: 0
B10: - Thu khác | C10: 0
B11: 2. Chi từ nguồn thu được để lại | C11: =SUM(C12:C13) -> 0
B12: - Học phí | C12: 0
B13: - Thu khác | C13: 0
B14: 3. Số nộp NSNN | C14: 0
A15: B | B15: Dự toán chi ngân sách nhà nước | C15: =C17+C25 -> 0
B16: Giáo dục, đào tạo, dạy nghề
A17: I | B17: Kinh phí thực hiện tự chủ | C17: =SUM(C18:C24) -> 0
A18: 1 | B18: {=TRANSPOSE('TONG HOP'!E5:K5)} -> NSNN hỗ trợ chi thường xuyên cho đơn vị sự nghiệp công lập | C18: {=TRANSPOSE('TONG HOP'!E18:K18)} -> 0
A19: =A18+1 -> 2 | B19: Kinh phí cho hợp đồng hỗ trợ phục vụ | C19: 0
A20: =A19+1 -> 3 | B20: Chi hoạt động thường xuyên | C20: 0
A21: =A20+1 -> 4 | B21: Dự toán giữ lại | C21: 0
A22: =A21+1 -> 5 | B22: nội dung 5 | C22: 0
A23: =A22+1 -> 6 | B23: nội dung 6 | C23: 0
A24: =A23+1 -> 7 | B24: nội dung 7 | C24: 0
A25: II | B25: Kinh phí không thực hiện tự chủ | C25: =SUM(C26:C45) -> 0
A26: 1 | B26: {=TRANSPOSE('TONG HOP'!M5:AF5)} -> Kinh phí hỗ trợ chi phí học tập theo Nghị định số 238/2025/NĐ-CP | C26: {=TRANSPOSE('TONG HOP'!M18:AF18)} -> 0
A27: =A26+1 -> 2 | B27: Kinh phí hỗ trợ học bổng theo Thông tư số 42/2013/TTLT-BGDĐT-BLĐTBXH | C27: 0
A28: =A27+1 -> 3 | B28: Kinh phí hỗ trợ tiền ăn ở theo Nghị định số 66/2025/NĐ-CP | C28: 0
A29: =A28+1 -> 4 | B29: Kinh phí hỗ trợ học bổng theo Nghị định số 57/2017/NĐ-CP | C29: 0
A30: =A29+1 -> 5 | B30: Chế độ, chính sách cho hợp đồng chuyên môn, nghiệp vụ trong các đơn vị sự nghiệp công lập do ngân sách nhà nước bảo đảm chi thường xuyên thuộc lĩnh vực giáo dục theo Nghị quyết của HĐND tỉnh | C30: 0
A31: =A30+1 -> 6 | B31: Chính sách hợp đồng thực hiện công việc hỗ trợ, phục vụ hoạt động thường xuyên của cơ quan đơn vị do lãnh đạo cơ quan quyết định | C31: 0
A32: =A31+1 -> 7 | B32: Mua sắm trang thiết bị, sữa chữa trường học | C32: 0
A33: =A32+1 -> 8 | B33: Kinh phí thực hiện dạy học 2 buổi/ngày năm học 2025-2026 | C33: 0
A34: =A33+1 -> 9 | B34: Kinh phí thực hiện chế độ, chính sách theo Nghị định số 154/2025/NĐ-CP ngày 15/6/2025 của Chính phủ | C34: 0
A35: =A34+1 -> 10 | B35: Kinh phí sữa chữa , bảo dưỡng nhà xe, sân trường Trường THPT Gia Nghĩa (trước sáp nhập) | C35: 0
A36: =A35+1 -> 11 | B36: Kinh phí khen thưởng năm 2026 theo nghị định 161/NĐ-CP ngày 15/05/2026 | C36: 0
A37: =A36+1 -> 12 | B37: Gia hạn phần mềm misa | C37: 0
A38: =A37+1 -> 13 | B38: Kinh phí Cấp bù học phí | C38: 0
... A45: =A44+1 -> 20 | B45: Dự toán giữ lại | C45: 0
A46: C | B46: Mã số đơn vị sử dụng ngân sách | C46: ='TONG HOP'!AG18 -> 1078464

Sheet BTX-ĐL
A1: DỰ TOÁN THU, CHI NGÂN SÁCH NHÀ NƯỚC NĂM 2026
A2: ='TONG HOP'!B19 -> Trường THPT Bùi Thị Xuân - Đà Lạt
A3: ='TONG HOP'!A2:AH2 -> (Kèm theo Quyết định số /QĐ-SGDĐT ngày tháng 10 năm 2026 của Sở Giáo dục và Đào tạo tỉnh Lâm Đồng)
A4: Chương: 422 ; Loại: 070 ; Khoản: 074
C5: Đơn vị: đồng
A6: Nội dung | C6: Tổng số
A7: A | B7: Tổng số thu, chi, nộp ngân sách
B8: 1. Số thu | C8: =SUM(C9:C10) -> 0
B9: - Học phí | C9: 0
B10: - Thu khác | C10: 0
B11: 2. Chi từ nguồn thu được để lại | C11: =SUM(C12:C13) -> 0
B12: - Học phí | C12: 0
B13: - Thu khác | C13: 0
B14: 3. Số nộp NSNN | C14: 0
A15: B | B15: Dự toán chi ngân sách nhà nước | C15: =C17+C25 -> 0
B16: Giáo dục, đào tạo, dạy nghề
A17: I | B17: Kinh phí thực hiện tự chủ | C17: =SUM(C18:C24) -> 0
A18: 1 | B18: {=TRANSPOSE('TONG HOP'!E5:K5)} -> NSNN hỗ trợ chi thường xuyên cho đơn vị sự nghiệp công lập | C18: {=TRANSPOSE('TONG HOP'!E19:K19)} -> 0
A19: =A18+1 -> 2 | B19: Kinh phí cho hợp đồng hỗ trợ phục vụ | C19: 0
A20: =A19+1 -> 3 | B20: Chi hoạt động thường xuyên | C20: 0
A21: =A20+1 -> 4 | B21: Dự toán giữ lại | C21: 0
A22: =A21+1 -> 5 | B22: nội dung 5 | C22: 0
A23: =A22+1 -> 6 | B23: nội dung 6 | C23: 0
A24: =A23+1 -> 7 | B24: nội dung 7 | C24: 0
A25: II | B25: Kinh phí không thực hiện tự chủ | C25: =SUM(C26:C45) -> 0
A26: 1 | B26: {=TRANSPOSE('TONG HOP'!M5:AF5)} -> Kinh phí hỗ trợ chi phí học tập theo Nghị định số 238/2025/NĐ-CP | C26: {=TRANSPOSE('TONG HOP'!M19:AF19)} -> 0
A27: =A26+1 -> 2 | B27: Kinh phí hỗ trợ học bổng theo Thông tư số 42/2013/TTLT-BGDĐT-BLĐTBXH | C27: 0
A28: =A27+1 -> 3 | B28: Kinh phí hỗ trợ tiền ăn ở theo Nghị định số 66/2025/NĐ-CP | C28: 0
A29: =A28+1 -> 4 | B29: Kinh phí hỗ trợ học bổng theo Nghị định số 57/2017/NĐ-CP | C29: 0
A30: =A29+1 -> 5 | B30: Chế độ, chính sách cho hợp đồng chuyên môn, nghiệp vụ trong các đơn vị sự nghiệp công lập do ngân sách nhà nước bảo đảm chi thường xuyên thuộc lĩnh vực giáo dục theo Nghị quyết của HĐND tỉnh | C30: 0
A31: =A30+1 -> 6 | B31: Chính sách hợp đồng thực hiện công việc hỗ trợ, phục vụ hoạt động thường xuyên của cơ quan đơn vị do lãnh đạo cơ quan quyết định | C31: 0
A32: =A31+1 -> 7 | B32: Mua sắm trang thiết bị, sữa chữa trường học | C32: 0
A33: =A32+1 -> 8 | B33: Kinh phí thực hiện dạy học 2 buổi/ngày năm học 2025-2026 | C33: 0
A34: =A33+1 -> 9 | B34: Kinh phí thực hiện chế độ, chính sách theo Nghị định số 154/2025/NĐ-CP ngày 15/6/2025 của Chính phủ | C34: 0
A35: =A34+1 -> 10 | B35: Kinh phí sữa chữa , bảo dưỡng nhà xe, sân trường Trường THPT Gia Nghĩa (trước sáp nhập) | C35: 0
A36: =A35+1 -> 11 | B36: Kinh phí khen thưởng năm 2026 theo nghị định 161/NĐ-CP ngày 15/05/2026 | C36: 0
A37: =A36+1 -> 12 | B37: Gia hạn phần mềm misa | C37: 0
A38: =A37+1 -> 13 | B38: Kinh phí Cấp bù học phí | C38: 0
... A45: =A44+1 -> 20 | B45: Dự toán giữ lại | C45: 0
A46: C | B46: Mã số đơn vị sử dụng ngân sách | C46: ='TONG HOP'!AG19 -> 1078465

Sheet TPhu-ĐL
A1: DỰ TOÁN THU, CHI NGÂN SÁCH NHÀ NƯỚC NĂM 2026
A2: ='TONG HOP'!B20 -> Trường THPT Trần Phú - Đà Lạt
A3: ='TONG HOP'!A2:AH2 -> (Kèm theo Quyết định số /QĐ-SGDĐT ngày tháng 10 năm 2026 của Sở Giáo dục và Đào tạo tỉnh Lâm Đồng)
A4: Chương: 422 ; Loại: 070 ; Khoản: 074
C5: Đơn vị: đồng
A6: Nội dung | C6: Tổng số
A7: A | B7: Tổng số thu, chi, nộp ngân sách
B8: 1. Số thu | C8: =SUM(C9:C10) -> 0
B9: - Học phí | C9: 0
B10: - Thu khác | C10: 0
B11: 2. Chi từ nguồn thu được để lại | C11: =SUM(C12:C13) -> 0
B12: - Học phí | C12: 0
B13: - Thu khác | C13: 0
B14: 3. Số nộp NSNN | C14: 0
A15: B | B15: Dự toán chi ngân sách nhà nước | C15: =C17+C25 -> 0
B16: Giáo dục, đào tạo, dạy nghề
A17: I | B17: Kinh phí thực hiện tự chủ | C17: =SUM(C18:C24) -> 0
A18: 1 | B18: {=TRANSPOSE('TONG HOP'!E5:K5)} -> NSNN hỗ trợ chi thường xuyên cho đơn vị sự nghiệp công lập | C18: {=TRANSPOSE('TONG HOP'!E20:K20)} -> 0
A19: =A18+1 -> 2 | B19: Kinh phí cho hợp đồng hỗ trợ phục vụ | C19: 0
A20: =A19+1 -> 3 | B20: Chi hoạt động thường xuyên | C20: 0
A21: =A20+1 -> 4 | B21: Dự toán giữ lại | C21: 0
A22: =A21+1 -> 5 | B22: nội dung 5 | C22: 0
A23: =A22+1 -> 6 | B23: nội dung 6 | C23: 0
A24: =A23+1 -> 7 | B24: nội dung 7 | C24: 0
A25: II | B25: Kinh phí không thực hiện tự chủ | C25: =SUM(C26:C45) -> 0
A26: 1 | B26: {=TRANSPOSE('TONG HOP'!M5:AF5)} -> Kinh phí hỗ trợ chi phí học tập theo Nghị định số 238/2025/NĐ-CP | C26: {=TRANSPOSE('TONG HOP'!M20:AF20)} -> 0
A27: =A26+1 -> 2 | B27: Kinh phí hỗ trợ học bổng theo Thông tư số 42/2013/TTLT-BGDĐT-BLĐTBXH | C27: 0
A28: =A27+1 -> 3 | B28: Kinh phí hỗ trợ tiền ăn ở theo Nghị định số 66/2025/NĐ-CP | C28: 0
A29: =A28+1 -> 4 | B29: Kinh phí hỗ trợ học bổng theo Nghị định số 57/2017/NĐ-CP | C29: 0
A30: =A29+1 -> 5 | B30: Chế độ, chính sách cho hợp đồng chuyên môn, nghiệp vụ trong các đơn vị sự nghiệp công lập do ngân sách nhà nước bảo đảm chi thường xuyên thuộc lĩnh vực giáo dục theo Nghị quyết của HĐND tỉnh | C30: 0
A31: =A30+1 -> 6 | B31: Chính sách hợp đồng thực hiện công việc hỗ trợ, phục vụ hoạt động thường xuyên của cơ quan đơn vị do lãnh đạo cơ quan quyết định | C31: 0
A32: =A31+1 -> 7 | B32: Mua sắm trang thiết bị, sữa chữa trường học | C32: 0
A33: =A32+1 -> 8 | B33: Kinh phí thực hiện dạy học 2 buổi/ngày năm học 2025-2026 | C33: 0
A34: =A33+1 -> 9 | B34: Kinh phí thực hiện chế độ, chính sách theo Nghị định số 154/2025/NĐ-CP ngày 15/6/2025 của Chính phủ | C34: 0
A35: =A34+1 -> 10 | B35: Kinh phí sữa chữa , bảo dưỡng nhà xe, sân trường Trường THPT Gia Nghĩa (trước sáp nhập) | C35: 0
A36: =A35+1 -> 11 | B36: Kinh phí khen thưởng năm 2026 theo nghị định 161/NĐ-CP ngày 15/05/2026 | C36: 0
A37: =A36+1 -> 12 | B37: Gia hạn phần mềm misa | C37: 0
A38: =A37+1 -> 13 | B38: Kinh phí Cấp bù học phí | C38: 0
... A45: =A44+1 -> 20 | B45: Dự toán giữ lại | C45: 0
A46: C | B46: Mã số đơn vị sử dụng ngân sách | C46: ='TONG HOP'!AG20 -> 1078468

Sheet ĐĐa
A1: DỰ TOÁN THU, CHI NGÂN SÁCH NHÀ NƯỚC NĂM 2026
A2: ='TONG HOP'!B21 -> Trường THCS&THPT Đống Đa
A3: ='TONG HOP'!A2:AH2 -> (Kèm theo Quyết định số /QĐ-SGDĐT ngày tháng 10 năm 2026 của Sở Giáo dục và Đào tạo tỉnh Lâm Đồng)
A4: Chương: 422 ; Loại: 070 ; Khoản: 074
C5: Đơn vị: đồng
A6: Nội dung | C6: Tổng số
A7: A | B7: Tổng số thu, chi, nộp ngân sách
B8: 1. Số thu | C8: =SUM(C9:C10) -> 0
B9: - Học phí | C9: 0
B10: - Thu khác | C10: 0
B11: 2. Chi từ nguồn thu được để lại | C11: =SUM(C12:C13) -> 0
B12: - Học phí | C12: 0
B13: - Thu khác | C13: 0
B14: 3. Số nộp NSNN | C14: 0
A15: B | B15: Dự toán chi ngân sách nhà nước | C15: =C17+C25 -> 0
B16: Giáo dục, đào tạo, dạy nghề
A17: I | B17: Kinh phí thực hiện tự chủ | C17: =SUM(C18:C24) -> 0
A18: 1 | B18: {=TRANSPOSE('TONG HOP'!E5:K5)} -> NSNN hỗ trợ chi thường xuyên cho đơn vị sự nghiệp công lập | C18: {=TRANSPOSE('TONG HOP'!E21:K21)} -> 0
A19: =A18+1 -> 2 | B19: Kinh phí cho hợp đồng hỗ trợ phục vụ | C19: 0
A20: =A19+1 -> 3 | B20: Chi hoạt động thường xuyên | C20: 0
A21: =A20+1 -> 4 | B21: Dự toán giữ lại | C21: 0
A22: =A21+1 -> 5 | B22: nội dung 5 | C22: 0
A23: =A22+1 -> 6 | B23: nội dung 6 | C23: 0
A24: =A23+1 -> 7 | B24: nội dung 7 | C24: 0
A25: II | B25: Kinh phí không thực hiện tự chủ | C25: =SUM(C26:C45) -> 0
A26: 1 | B26: {=TRANSPOSE('TONG HOP'!M5:AF5)} -> Kinh phí hỗ trợ chi phí học tập theo Nghị định số 238/2025/NĐ-CP | C26: {=TRANSPOSE('TONG HOP'!M21:AF21)} -> 0
A27: =A26+1 -> 2 | B27: Kinh phí hỗ trợ học bổng theo Thông tư số 42/2013/TTLT-BGDĐT-BLĐTBXH | C27: 0
A28: =A27+1 -> 3 | B28: Kinh phí hỗ trợ tiền ăn ở theo Nghị định số 66/2025/NĐ-CP | C28: 0
A29: =A28+1 -> 4 | B29: Kinh phí hỗ trợ học bổng theo Nghị định số 57/2017/NĐ-CP | C29: 0
A30: =A29+1 -> 5 | B30: Chế độ, chính sách cho hợp đồng chuyên môn, nghiệp vụ trong các đơn vị sự nghiệp công lập do ngân sách nhà nước bảo đảm chi thường xuyên thuộc lĩnh vực giáo dục theo Nghị quyết của HĐND tỉnh | C30: 0
A31: =A30+1 -> 6 | B31: Chính sách hợp đồng thực hiện công việc hỗ trợ, phục vụ hoạt động thường xuyên của cơ quan đơn vị do lãnh đạo cơ quan quyết định | C31: 0
A32: =A31+1 -> 7 | B32: Mua sắm trang thiết bị, sữa chữa trường học | C32: 0
A33: =A32+1 -> 8 | B33: Kinh phí thực hiện dạy học 2 buổi/ngày năm học 2025-2026 | C33: 0
A34: =A33+1 -> 9 | B34: Kinh phí thực hiện chế độ, chính sách theo Nghị định số 154/2025/NĐ-CP ngày 15/6/2025 của Chính phủ | C34: 0
A35: =A34+1 -> 10 | B35: Kinh phí sữa chữa , bảo dưỡng nhà xe, sân trường Trường THPT Gia Nghĩa (trước sáp nhập) | C35: 0
A36: =A35+1 -> 11 | B36: Kinh phí khen thưởng năm 2026 theo nghị định 161/NĐ-CP ngày 15/05/2026 | C36: 0
A37: =A36+1 -> 12 | B37: Gia hạn phần mềm misa | C37: 0
A38: =A37+1 -> 13 | B38: Kinh phí Cấp bù học phí | C38: 0
... A45: =A44+1 -> 20 | B45: Dự toán giữ lại | C45: 0
A46: C | B46: Mã số đơn vị sử dụng ngân sách | C46: ='TONG HOP'!AG21 -> 1075358

Sheet TSon
A1: DỰ TOÁN THU, CHI NGÂN SÁCH NHÀ NƯỚC NĂM 2026
A2: ='TONG HOP'!B22 -> Trường THCS&THPT Tây Sơn
A3: ='TONG HOP'!A2:AH2 -> (Kèm theo Quyết định số /QĐ-SGDĐT ngày tháng 10 năm 2026 của Sở Giáo dục và Đào tạo tỉnh Lâm Đồng)
A4: Chương: 422 ; Loại: 070 ; Khoản: 074
C5: Đơn vị: đồng
A6: Nội dung | C6: Tổng số
A7: A | B7: Tổng số thu, chi, nộp ngân sách
B8: 1. Số thu | C8: =SUM(C9:C10) -> 0
B9: - Học phí | C9: 0
B10: - Thu khác | C10: 0
B11: 2. Chi từ nguồn thu được để lại | C11: =SUM(C12:C13) -> 0
B12: - Học phí | C12: 0
B13: - Thu khác | C13: 0
B14: 3. Số nộp NSNN | C14: 0
A15: B | B15: Dự toán chi ngân sách nhà nước | C15: =C17+C25 -> 0
B16: Giáo dục, đào tạo, dạy nghề
A17: I | B17: Kinh phí thực hiện tự chủ | C17: =SUM(C18:C24) -> 0
A18: 1 | B18: {=TRANSPOSE('TONG HOP'!E5:K5)} -> NSNN hỗ trợ chi thường xuyên cho đơn vị sự nghiệp công lập | C18: {=TRANSPOSE('TONG HOP'!E22:K22)} -> 0
A19: =A18+1 -> 2 | B19: Kinh phí cho hợp đồng hỗ trợ phục vụ | C19: 0
A20: =A19+1 -> 3 | B20: Chi hoạt động thường xuyên | C20: 0
A21: =A20+1 -> 4 | B21: Dự toán giữ lại | C21: 0
A22: =A21+1 -> 5 | B22: nội dung 5 | C22: 0
A23: =A22+1 -> 6 | B23: nội dung 6 | C23: 0
A24: =A23+1 -> 7 | B24: nội dung 7 | C24: 0
A25: II | B25: Kinh phí không thực hiện tự chủ | C25: =SUM(C26:C45) -> 0
A26: 1 | B26: {=TRANSPOSE('TONG HOP'!M5:AF5)} -> Kinh phí hỗ trợ chi phí học tập theo Nghị định số 238/2025/NĐ-CP | C26: {=TRANSPOSE('TONG HOP'!M22:AF22)} -> 0
A27: =A26+1 -> 2 | B27: Kinh phí hỗ trợ học bổng theo Thông tư số 42/2013/TTLT-BGDĐT-BLĐTBXH | C27: 0
A28: =A27+1 -> 3 | B28: Kinh phí hỗ trợ tiền ăn ở theo Nghị định số 66/2025/NĐ-CP | C28: 0
A29: =A28+1 -> 4 | B29: Kinh phí hỗ trợ học bổng theo Nghị định số 57/2017/NĐ-CP | C29: 0
A30: =A29+1 -> 5 | B30: Chế độ, chính sách cho hợp đồng chuyên môn, nghiệp vụ trong các đơn vị sự nghiệp công lập do ngân sách nhà nước bảo đảm chi thường xuyên thuộc lĩnh vực giáo dục theo Nghị quyết của HĐND tỉnh | C30: 0
A31: =A30+1 -> 6 | B31: Chính sách hợp đồng thực hiện công việc hỗ trợ, phục vụ hoạt động thường xuyên của cơ quan đơn vị do lãnh đạo cơ quan quyết định | C31: 0
A32: =A31+1 -> 7 | B32: Mua sắm trang thiết bị, sữa chữa trường học | C32: 0
A33: =A32+1 -> 8 | B33: Kinh phí thực hiện dạy học 2 buổi/ngày năm học 2025-2026 | C33: 0
A34: =A33+1 -> 9 | B34: Kinh phí thực hiện chế độ, chính sách theo Nghị định số 154/2025/NĐ-CP ngày 15/6/2025 của Chính phủ | C34: 0
A35: =A34+1 -> 10 | B35: Kinh phí sữa chữa , bảo dưỡng nhà xe, sân trường Trường THPT Gia Nghĩa (trước sáp nhập) | C35: 0
A36: =A35+1 -> 11 | B36: Kinh phí khen thưởng năm 2026 theo nghị định 161/NĐ-CP ngày 15/05/2026 | C36: 0
A37: =A36+1 -> 12 | B37: Gia hạn phần mềm misa | C37: 0
A38: =A37+1 -> 13 | B38: Kinh phí Cấp bù học phí | C38: 0
... A45: =A44+1 -> 20 | B45: Dự toán giữ lại | C45: 0
A46: C | B46: Mã số đơn vị sử dụng ngân sách | C46: ='TONG HOP'!AG22 -> 1075357

Sheet CLang
A1: DỰ TOÁN THU, CHI NGÂN SÁCH NHÀ NƯỚC NĂM 2026
A2: ='TONG HOP'!B23 -> Trường THCS&THPT Chi Lăng
A3: ='TONG HOP'!A2:AH2 -> (Kèm theo Quyết định số /QĐ-SGDĐT ngày tháng 10 năm 2026 của Sở Giáo dục và Đào tạo tỉnh Lâm Đồng)
A4: Chương: 422 ; Loại: 070 ; Khoản: 074
C5: Đơn vị: đồng
A6: Nội dung | C6: Tổng số
A7: A | B7: Tổng số thu, chi, nộp ngân sách
B8: 1. Số thu | C8: =SUM(C9:C10) -> 0
B9: - Học phí | C9: 0
B10: - Thu khác | C10: 0
B11: 2. Chi từ nguồn thu được để lại | C11: =SUM(C12:C13) -> 0
B12: - Học phí | C12: 0
B13: - Thu khác | C13: 0
B14: 3. Số nộp NSNN | C14: 0
A15: B | B15: Dự toán chi ngân sách nhà nước | C15: =C17+C25 -> 0
B16: Giáo dục, đào tạo, dạy nghề
A17: I | B17: Kinh phí thực hiện tự chủ | C17: =SUM(C18:C24) -> 0
A18: 1 | B18: {=TRANSPOSE('TONG HOP'!E5:K5)} -> NSNN hỗ trợ chi thường xuyên cho đơn vị sự nghiệp công lập | C18: {=TRANSPOSE('TONG HOP'!E23:K23)} -> 0
A19: =A18+1 -> 2 | B19: Kinh phí cho hợp đồng hỗ trợ phục vụ | C19: 0
A20: =A19+1 -> 3 | B20: Chi hoạt động thường xuyên | C20: 0
A21: =A20+1 -> 4 | B21: Dự toán giữ lại | C21: 0
A22: =A21+1 -> 5 | B22: nội dung 5 | C22: 0
A23: =A22+1 -> 6 | B23: nội dung 6 | C23: 0
A24: =A23+1 -> 7 | B24: nội dung 7 | C24: 0
A25: II | B25: Kinh phí không thực hiện tự chủ | C25: =SUM(C26:C45) -> 0
A26: 1 | B26: {=TRANSPOSE('TONG HOP'!M5:AF5)} -> Kinh phí hỗ trợ chi phí học tập theo Nghị định số 238/2025/NĐ-CP | C26: {=TRANSPOSE('TONG HOP'!M23:AF23)} -> 0
A27: =A26+1 -> 2 | B27: Kinh phí hỗ trợ học bổng theo Thông tư số 42/2013/TTLT-BGDĐT-BLĐTBXH | C27: 0
A28: =A27+1 -> 3 | B28: Kinh phí hỗ trợ tiền ăn ở theo Nghị định số 66/2025/NĐ-CP | C28: 0
A29: =A28+1 -> 4 | B29: Kinh phí hỗ trợ học bổng theo Nghị định số 57/2017/NĐ-CP | C29: 0
A30: =A29+1 -> 5 | B30: Chế độ, chính sách cho hợp đồng chuyên môn, nghiệp vụ trong các đơn vị sự nghiệp công lập do ngân sách nhà nước bảo đảm chi thường xuyên thuộc lĩnh vực giáo dục theo Nghị quyết của HĐND tỉnh | C30: 0
A31: =A30+1 -> 6 | B31: Chính sách hợp đồng thực hiện công việc hỗ trợ, phục vụ hoạt động thường xuyên của cơ quan đơn vị do lãnh đạo cơ quan quyết định | C31: 0
A32: =A31+1 -> 7 | B32: Mua sắm trang thiết bị, sữa chữa trường học | C32: 0
A33: =A32+1 -> 8 | B33: Kinh phí thực hiện dạy học 2 buổi/ngày năm học 2025-2026 | C33: 0
A34: =A33+1 -> 9 | B34: Kinh phí thực hiện chế độ, chính sách theo Nghị định số 154/2025/NĐ-CP ngày 15/6/2025 của Chính phủ | C34: 0
A35: =A34+1 -> 10 | B35: Kinh phí sữa chữa , bảo dưỡng nhà xe, sân trường Trường THPT Gia Nghĩa (trước sáp nhập) | C35: 0
A36: =A35+1 -> 11 | B36: Kinh phí khen thưởng năm 2026 theo nghị định 161/NĐ-CP ngày 15/05/2026 | C36: 0
A37: =A36+1 -> 12 | B37: Gia hạn phần mềm misa | C37: 0
A38: =A37+1 -> 13 | B38: Kinh phí Cấp bù học phí | C38: 0
... A45: =A44+1 -> 20 | B45: Dự toán giữ lại | C45: 0
A46: C | B46: Mã số đơn vị sử dụng ngân sách | C46: ='TONG HOP'!AG23 -> 1078467

Sheet TNung
A1: DỰ TOÁN THU, CHI NGÂN SÁCH NHÀ NƯỚC NĂM 2026
A2: ='TONG HOP'!B24 -> Trường THCS&THPT Tà Nung
A3: ='TONG HOP'!A2:AH2 -> (Kèm theo Quyết định số /QĐ-SGDĐT ngày tháng 10 năm 2026 của Sở Giáo dục và Đào tạo tỉnh Lâm Đồng)
A4: Chương: 422 ; Loại: 070 ; Khoản: 074
C5: Đơn vị: đồng
A6: Nội dung | C6: Tổng số
A7: A | B7: Tổng số thu, chi, nộp ngân sách
B8: 1. Số thu | C8: =SUM(C9:C10) -> 0
B9: - Học phí | C9: 0
B10: - Thu khác | C10: 0
B11: 2. Chi từ nguồn thu được để lại | C11: =SUM(C12:C13) -> 0
B12: - Học phí | C12: 0
B13: - Thu khác | C13: 0
B14: 3. Số nộp NSNN | C14: 0
A15: B | B15: Dự toán chi ngân sách nhà nước | C15: =C17+C25 -> 0
B16: Giáo dục, đào tạo, dạy nghề
A17: I | B17: Kinh phí thực hiện tự chủ | C17: =SUM(C18:C24) -> 0
A18: 1 | B18: {=TRANSPOSE('TONG HOP'!E5:K5)} -> NSNN hỗ trợ chi thường xuyên cho đơn vị sự nghiệp công lập | C18: {=TRANSPOSE('TONG HOP'!E24:K24)} -> 0
A19: =A18+1 -> 2 | B19: Kinh phí cho hợp đồng hỗ trợ phục vụ | C19: 0
A20: =A19+1 -> 3 | B20: Chi hoạt động thường xuyên | C20: 0
A21: =A20+1 -> 4 | B21: Dự toán giữ lại | C21: 0
A22: =A21+1 -> 5 | B22: nội dung 5 | C22: 0
A23: =A22+1 -> 6 | B23: nội dung 6 | C23: 0
A24: =A23+1 -> 7 | B24: nội dung 7 | C24: 0
A25: II | B25: Kinh phí không thực hiện tự chủ | C25: =SUM(C26:C45) -> 0
A26: 1 | B26: {=TRANSPOSE('TONG HOP'!M5:AF5)} -> Kinh phí hỗ trợ chi phí học tập theo Nghị định số 238/2025/NĐ-CP | C26: {=TRANSPOSE('TONG HOP'!M24:AF24)} -> 0
A27: =A26+1 -> 2 | B27: Kinh phí hỗ trợ học bổng theo Thông tư số 42/2013/TTLT-BGDĐT-BLĐTBXH | C27: 0
A28: =A27+1 -> 3 | B28: Kinh phí hỗ trợ tiền ăn ở theo Nghị định số 66/2025/NĐ-CP | C28: 0
A29: =A28+1 -> 4 | B29: Kinh phí hỗ trợ học bổng theo Nghị định số 57/2017/NĐ-CP | C29: 0
A30: =A29+1 -> 5 | B30: Chế độ, chính sách cho hợp đồng chuyên môn, nghiệp vụ trong các đơn vị sự nghiệp công lập do ngân sách nhà nước bảo đảm chi thường xuyên thuộc lĩnh vực giáo dục theo Nghị quyết của HĐND tỉnh | C30: 0
A31: =A30+1 -> 6 | B31: Chính sách hợp đồng thực hiện công việc hỗ trợ, phục vụ hoạt động thường xuyên của cơ quan đơn vị do lãnh đạo cơ quan quyết định | C31: 0
A32: =A31+1 -> 7 | B32: Mua sắm trang thiết bị, sữa chữa trường học | C32: 0
A33: =A32+1 -> 8 | B33: Kinh phí thực hiện dạy học 2 buổi/ngày năm học 2025-2026 | C33: 0
A34: =A33+1 -> 9 | B34: Kinh phí thực hiện chế độ, chính sách theo Nghị định số 154/2025/NĐ-CP ngày 15/6/2025 của Chính phủ | C34: 0
A35: =A34+1 -> 10 | B35: Kinh phí sữa chữa , bảo dưỡng nhà xe, sân trường Trường THPT Gia Nghĩa (trước sáp nhập) | C35: 0
A36: =A35+1 -> 11 | B36: Kinh phí khen thưởng năm 2026 theo nghị định 161/NĐ-CP ngày 15/05/2026 | C36: 0
A37: =A36+1 -> 12 | B37: Gia hạn phần mềm misa | C37: 0
A38: =A37+1 -> 13 | B38: Kinh phí Cấp bù học phí | C38: 0
... A45: =A44+1 -> 20 | B45: Dự toán giữ lại | C45: 0
A46: C | B46: Mã số đơn vị sử dụng ngân sách | C46: ='TONG HOP'!AG24 -> 1083484

Sheet XTruong
A1: DỰ TOÁN THU, CHI NGÂN SÁCH NHÀ NƯỚC NĂM 2026
A2: ='TONG HOP'!B25 -> Trường THCS&THPT Xuân Trường
A3: ='TONG HOP'!A2:AH2 -> (Kèm theo Quyết định số /QĐ-SGDĐT ngày tháng 10 năm 2026 của Sở Giáo dục và Đào tạo tỉnh Lâm Đồng)
A4: Chương: 422 ; Loại: 070 ; Khoản: 074
C5: Đơn vị: đồng
A6: Nội dung | C6: Tổng số
A7: A | B7: Tổng số thu, chi, nộp ngân sách
B8: 1. Số thu | C8: =SUM(C9:C10) -> 0
B9: - Học phí | C9: 0
B10: - Thu khác | C10: 0
B11: 2. Chi từ nguồn thu được để lại | C11: =SUM(C12:C13) -> 0
B12: - Học phí | C12: 0
B13: - Thu khác | C13: 0
B14: 3. Số nộp NSNN | C14: 0
A15: B | B15: Dự toán chi ngân sách nhà nước | C15: =C17+C25 -> 0
B16: Giáo dục, đào tạo, dạy nghề
A17: I | B17: Kinh phí thực hiện tự chủ | C17: =SUM(C18:C24) -> 0
A18: 1 | B18: {=TRANSPOSE('TONG HOP'!E5:K5)} -> NSNN hỗ trợ chi thường xuyên cho đơn vị sự nghiệp công lập | C18: {=TRANSPOSE('TONG HOP'!E25:K25)} -> 0
A19: =A18+1 -> 2 | B19: Kinh phí cho hợp đồng hỗ trợ phục vụ | C19: 0
A20: =A19+1 -> 3 | B20: Chi hoạt động thường xuyên | C20: 0
A21: =A20+1 -> 4 | B21: Dự toán giữ lại | C21: 0
A22: =A21+1 -> 5 | B22: nội dung 5 | C22: 0
A23: =A22+1 -> 6 | B23: nội dung 6 | C23: 0
A24: =A23+1 -> 7 | B24: nội dung 7 | C24: 0
A25: II | B25: Kinh phí không thực hiện tự chủ | C25: =SUM(C26:C45) -> 0
A26: 1 | B26: {=TRANSPOSE('TONG HOP'!M5:AF5)} -> Kinh phí hỗ trợ chi phí học tập theo Nghị định số 238/2025/NĐ-CP | C26: {=TRANSPOSE('TONG HOP'!M25:AF25)} -> 0
A27: =A26+1 -> 2 | B27: Kinh phí hỗ trợ học bổng theo Thông tư số 42/2013/TTLT-BGDĐT-BLĐTBXH | C27: 0
A28: =A27+1 -> 3 | B28: Kinh phí hỗ trợ tiền ăn ở theo Nghị định số 66/2025/NĐ-CP | C28: 0
A29: =A28+1 -> 4 | B29: Kinh phí hỗ trợ học bổng theo Nghị định số 57/2017/NĐ-CP | C29: 0
A30: =A29+1 -> 5 | B30: Chế độ, chính sách cho hợp đồng chuyên môn, nghiệp vụ trong các đơn vị sự nghiệp công lập do ngân sách nhà nước bảo đảm chi thường xuyên thuộc lĩnh vực giáo dục theo Nghị quyết của HĐND tỉnh | C30: 0
A31: =A30+1 -> 6 | B31: Chính sách hợp đồng thực hiện công việc hỗ trợ, phục vụ hoạt động thường xuyên của cơ quan đơn vị do lãnh đạo cơ quan quyết định | C31: 0
A32: =A31+1 -> 7 | B32: Mua sắm trang thiết bị, sữa chữa trường học | C32: 0
A33: =A32+1 -> 8 | B33: Kinh phí thực hiện dạy học 2 buổi/ngày năm học 2025-2026 | C33: 0
A34: =A33+1 -> 9 | B34: Kinh phí thực hiện chế độ, chính sách theo Nghị định số 154/2025/NĐ-CP ngày 15/6/2025 của Chính phủ | C34: 0
A35: =A34+1 -> 10 | B35: Kinh phí sữa chữa , bảo dưỡng nhà xe, sân trường Trường THPT Gia Nghĩa (trước sáp nhập) | C35: 0
A36: =A35+1 -> 11 | B36: Kinh phí khen thưởng năm 2026 theo nghị định 161/NĐ-CP ngày 15/05/2026 | C36: 0
A37: =A36+1 -> 12 | B37: Gia hạn phần mềm misa | C37: 0
A38: =A37+1 -> 13 | B38: Kinh phí Cấp bù học phí | C38: 0
... A45: =A44+1 -> 20 | B45: Dự toán giữ lại | C45: 0
A46: C | B46: Mã số đơn vị sử dụng ngân sách | C46: ='TONG HOP'!AG25 -> 1078716

Sheet LBiang
A1: DỰ TOÁN THU, CHI NGÂN SÁCH NHÀ NƯỚC NĂM 2026
A2: ='TONG HOP'!B26 -> Trường THCS&THPT Lang Biang
A3: ='TONG HOP'!A2:AH2 -> (Kèm theo Quyết định số /QĐ-SGDĐT ngày tháng 10 năm 2026 của Sở Giáo dục và Đào tạo tỉnh Lâm Đồng)
A4: Chương: 422 ; Loại: 070 ; Khoản: 074
C5: Đơn vị: đồng
A6: Nội dung | C6: Tổng số
A7: A | B7: Tổng số thu, chi, nộp ngân sách
B8: 1. Số thu | C8: =SUM(C9:C10) -> 0
B9: - Học phí | C9: 0
B10: - Thu khác | C10: 0
B11: 2. Chi từ nguồn thu được để lại | C11: =SUM(C12:C13) -> 0
B12: - Học phí | C12: 0
B13: - Thu khác | C13: 0
B14: 3. Số nộp NSNN | C14: 0
B15: Dự toán chi ngân sách nhà nước | C15: =C17+C25 -> 0
B16: Giáo dục, đào tạo, dạy nghề
A17: I | B17: Kinh phí thực hiện tự chủ | C17: =SUM(C18:C24) -> 0
A18: 1 | B18: {=TRANSPOSE('TONG HOP'!E5:K5)} -> NSNN hỗ trợ chi thường xuyên cho đơn vị sự nghiệp công lập | C18: {=TRANSPOSE('TONG HOP'!E26:K26)} -> 0
A19: =A18+1 -> 2 | B19: Kinh phí cho hợp đồng hỗ trợ phục vụ | C19: 0
A20: =A19+1 -> 3 | B20: Chi hoạt động thường xuyên | C20: 0
A21: =A20+1 -> 4 | B21: Dự toán giữ lại | C21: 0
A22: =A21+1 -> 5 | B22: nội dung 5 | C22: 0
A23: =A22+1 -> 6 | B23: nội dung 6 | C23: 0
A24: =A23+1 -> 7 | B24: nội dung 7 | C24: 0
A25: II | B25: Kinh phí không thực hiện tự chủ | C25: =SUM(C26:C45) -> 0
A26: 1 | B26: {=TRANSPOSE('TONG HOP'!M5:AF5)} -> Kinh phí hỗ trợ chi phí học tập theo Nghị định số 238/2025/NĐ-CP | C26: {=TRANSPOSE('TONG HOP'!M26:AF26)} -> 0
A27: =A26+1 -> 2 | B27: Kinh phí hỗ trợ học bổng theo Thông tư số 42/2013/TTLT-BGDĐT-BLĐTBXH | C27: 0
A28: =A27+1 -> 3 | B28: Kinh phí hỗ trợ tiền ăn ở theo Nghị định số 66/2025/NĐ-CP | C28: 0
A29: =A28+1 -> 4 | B29: Kinh phí hỗ trợ học bổng theo Nghị định số 57/2017/NĐ-CP | C29: 0
A30: =A29+1 -> 5 | B30: Chế độ, chính sách cho hợp đồng chuyên môn, nghiệp vụ trong các đơn vị sự nghiệp công lập do ngân sách nhà nước bảo đảm chi thường xuyên thuộc lĩnh vực giáo dục theo Nghị quyết của HĐND tỉnh | C30: 0
A31: =A30+1 -> 6 | B31: Chính sách hợp đồng thực hiện công việc hỗ trợ, phục vụ hoạt động thường xuyên của cơ quan đơn vị do lãnh đạo cơ quan quyết định | C31: 0
A32: =A31+1 -> 7 | B32: Mua sắm trang thiết bị, sữa chữa trường học | C32: 0
A33: =A32+1 -> 8 | B33: Kinh phí thực hiện dạy học 2 buổi/ngày năm học 2025-2026 | C33: 0
A34: =A33+1 -> 9 | B34: Kinh phí thực hiện chế độ, chính sách theo Nghị định số 154/2025/NĐ-CP ngày 15/6/2025 của Chính phủ | C34: 0
A35: =A34+1 -> 10 | B35: Kinh phí sữa chữa , bảo dưỡng nhà xe, sân trường Trường THPT Gia Nghĩa (trước sáp nhập) | C35: 0
A36: =A35+1 -> 11 | B36: Kinh phí khen thưởng năm 2026 theo nghị định 161/NĐ-CP ngày 15/05/2026 | C36: 0
A37: =A36+1 -> 12 | B37: Gia hạn phần mềm misa | C37: 0
A38: =A37+1 -> 13 | B38: Kinh phí Cấp bù học phí | C38: 0
... A45: =A44+1 -> 20 | B45: Dự toán giữ lại | C45: 0
A46: C | B46: Mã số đơn vị sử dụng ngân sách | C46: ='TONG HOP'!AG26 -> 0

Sheet ĐSar
A1: DỰ TOÁN THU, CHI NGÂN SÁCH NHÀ NƯỚC NĂM 2026
A2: ='TONG HOP'!B27 -> Trường THCS&THPT Đạ Sar
A3: ='TONG HOP'!A2:AH2 -> (Kèm theo Quyết định số /QĐ-SGDĐT ngày tháng 10 năm 2026 của Sở Giáo dục và Đào tạo tỉnh Lâm Đồng)
A4: Chương: 422 ; Loại: 070 ; Khoản: 074
C5: Đơn vị: đồng
A6: Nội dung | C6: Tổng số
A7: A | B7: Tổng số thu, chi, nộp ngân sách
B8: 1. Số thu | C8: =SUM(C9:C10) -> 0
B9: - Học phí | C9: 0
B10: - Thu khác | C10: 0
B11: 2. Chi từ nguồn thu được để lại | C11: =SUM(C12:C13) -> 0
B12: - Học phí | C12: 0
B13: - Thu khác | C13: 0
B14: 3. Số nộp NSNN | C14: 0
B15: Dự toán chi ngân sách nhà nước | C15: =C17+C25 -> 0
B16: Giáo dục, đào tạo, dạy nghề
A17: I | B17: Kinh phí thực hiện tự chủ | C17: =SUM(C18:C24) -> 0
A18: 1 | B18: {=TRANSPOSE('TONG HOP'!E5:K5)} -> NSNN hỗ trợ chi thường xuyên cho đơn vị sự nghiệp công lập | C18: {=TRANSPOSE('TONG HOP'!E27:K27)} -> 0
A19: =A18+1 -> 2 | B19: Kinh phí cho hợp đồng hỗ trợ phục vụ | C19: 0
A20: =A19+1 -> 3 | B20: Chi hoạt động thường xuyên | C20: 0
A21: =A20+1 -> 4 | B21: Dự toán giữ lại | C21: 0
A22: =A21+1 -> 5 | B22: nội dung 5 | C22: 0
A23: =A22+1 -> 6 | B23: nội dung 6 | C23: 0
A24: =A23+1 -> 7 | B24: nội dung 7 | C24: 0
A25: II | B25: Kinh phí không thực hiện tự chủ | C25: =SUM(C26:C45) -> 0
A26: 1 | B26: {=TRANSPOSE('TONG HOP'!M5:AF5)} -> Kinh phí hỗ trợ chi phí học tập theo Nghị định số 238/2025/NĐ-CP | C26: {=TRANSPOSE('TONG HOP'!M27:AF27)} -> 0
A27: =A26+1 -> 2 | B27: Kinh phí hỗ trợ học bổng theo Thông tư số 42/2013/TTLT-BGDĐT-BLĐTBXH | C27: 0
A28: =A27+1 -> 3 | B28: Kinh phí hỗ trợ tiền ăn ở theo Nghị định số 66/2025/NĐ-CP | C28: 0
A29: =A28+1 -> 4 | B29: Kinh phí hỗ trợ học bổng theo Nghị định số 57/2017/NĐ-CP | C29: 0
A30: =A29+1 -> 5 | B30: Chế độ, chính sách cho hợp đồng chuyên môn, nghiệp vụ trong các đơn vị sự nghiệp công lập do ngân sách nhà nước bảo đảm chi thường xuyên thuộc lĩnh vực giáo dục theo Nghị quyết của HĐND tỉnh | C30: 0
A31: =A30+1 -> 6 | B31: Chính sách hợp đồng thực hiện công việc hỗ trợ, phục vụ hoạt động thường xuyên của cơ quan đơn vị do lãnh đạo cơ quan quyết định | C31: 0
A32: =A31+1 -> 7 | B32: Mua sắm trang thiết bị, sữa chữa trường học | C32: 0
A33: =A32+1 -> 8 | B33: Kinh phí thực hiện dạy học 2 buổi/ngày năm học 2025-2026 | C33: 0
A34: =A33+1 -> 9 | B34: Kinh phí thực hiện chế độ, chính sách theo Nghị định số 154/2025/NĐ-CP ngày 15/6/2025 của Chính phủ | C34: 0
A35: =A34+1 -> 10 | B35: Kinh phí sữa chữa , bảo dưỡng nhà xe, sân trường Trường THPT Gia Nghĩa (trước sáp nhập) | C35: 0
A36: =A35+1 -> 11 | B36: Kinh phí khen thưởng năm 2026 theo nghị định 161/NĐ-CP ngày 15/05/2026 | C36: 0
A37: =A36+1 -> 12 | B37: Gia hạn phần mềm misa | C37: 0
A38: =A37+1 -> 13 | B38: Kinh phí Cấp bù học phí | C38: 0
... A45: =A44+1 -> 20 | B45: Dự toán giữ lại | C45: 0
A46: C | B46: Mã số đơn vị sử dụng ngân sách | C46: ='TONG HOP'!AG27 -> 1083721

Sheet ĐNhim
A1: DỰ TOÁN THU, CHI NGÂN SÁCH NHÀ NƯỚC NĂM 2026
A2: ='TONG HOP'!B28 -> Trường THCS&THPT Đạ Nhim
A3: ='TONG HOP'!A2:AH2 -> (Kèm theo Quyết định số /QĐ-SGDĐT ngày tháng 10 năm 2026 của Sở Giáo dục và Đào tạo tỉnh Lâm Đồng)
A4: Chương: 422 ; Loại: 070 ; Khoản: 074
C5: Đơn vị: đồng
A6: Nội dung | C6: Tổng số
A7: A | B7: Tổng số thu, chi, nộp ngân sách
B8: 1. Số thu | C8: =SUM(C9:C10) -> 0
B9: - Học phí | C9: 0
B10: - Thu khác | C10: 0
B11: 2. Chi từ nguồn thu được để lại | C11: =SUM(C12:C13) -> 0
B12: - Học phí | C12: 0
B13: - Thu khác | C13: 0
B14: 3. Số nộp NSNN | C14: 0
A15: B | B15: Dự toán chi ngân sách nhà nước | C15: =C17+C25 -> 0
B16: Giáo dục, đào tạo, dạy nghề
A17: I | B17: Kinh phí thực hiện tự chủ | C17: =SUM(C18:C24) -> 0
A18: 1 | B18: {=TRANSPOSE('TONG HOP'!E5:K5)} -> NSNN hỗ trợ chi thường xuyên cho đơn vị sự nghiệp công lập | C18: {=TRANSPOSE('TONG HOP'!E28:K28)} -> 0
A19: =A18+1 -> 2 | B19: Kinh phí cho hợp đồng hỗ trợ phục vụ | C19: 0
A20: =A19+1 -> 3 | B20: Chi hoạt động thường xuyên | C20: 0
A21: =A20+1 -> 4 | B21: Dự toán giữ lại | C21: 0
A22: =A21+1 -> 5 | B22: nội dung 5 | C22: 0
A23: =A22+1 -> 6 | B23: nội dung 6 | C23: 0
A24: =A23+1 -> 7 | B24: nội dung 7 | C24: 0
A25: II | B25: Kinh phí không thực hiện tự chủ | C25: =SUM(C26:C45) -> 0
A26: 1 | B26: {=TRANSPOSE('TONG HOP'!M5:AF5)} -> Kinh phí hỗ trợ chi phí học tập theo Nghị định số 238/2025/NĐ-CP | C26: {=TRANSPOSE('TONG HOP'!M28:AF28)} -> 0
A27: =A26+1 -> 2 | B27: Kinh phí hỗ trợ học bổng theo Thông tư số 42/2013/TTLT-BGDĐT-BLĐTBXH | C27: 0
A28: =A27+1 -> 3 | B28: Kinh phí hỗ trợ tiền ăn ở theo Nghị định số 66/2025/NĐ-CP | C28: 0
A29: =A28+1 -> 4 | B29: Kinh phí hỗ trợ học bổng theo Nghị định số 57/2017/NĐ-CP | C29: 0
A30: =A29+1 -> 5 | B30: Chế độ, chính sách cho hợp đồng chuyên môn, nghiệp vụ trong các đơn vị sự nghiệp công lập do ngân sách nhà nước bảo đảm chi thường xuyên thuộc lĩnh vực giáo dục theo Nghị quyết của HĐND tỉnh | C30: 0
A31: =A30+1 -> 6 | B31: Chính sách hợp đồng thực hiện công việc hỗ trợ, phục vụ hoạt động thường xuyên của cơ quan đơn vị do lãnh đạo cơ quan quyết định | C31: 0
A32: =A31+1 -> 7 | B32: Mua sắm trang thiết bị, sữa chữa trường học | C32: 0
A33: =A32+1 -> 8 | B33: Kinh phí thực hiện dạy học 2 buổi/ngày năm học 2025-2026 | C33: 0
A34: =A33+1 -> 9 | B34: Kinh phí thực hiện chế độ, chính sách theo Nghị định số 154/2025/NĐ-CP ngày 15/6/2025 của Chính phủ | C34: 0
A35: =A34+1 -> 10 | B35: Kinh phí sữa chữa , bảo dưỡng nhà xe, sân trường Trường THPT Gia Nghĩa (trước sáp nhập) | C35: 0
A36: =A35+1 -> 11 | B36: Kinh phí khen thưởng năm 2026 theo nghị định 161/NĐ-CP ngày 15/05/2026 | C36: 0
A37: =A36+1 -> 12 | B37: Gia hạn phần mềm misa | C37: 0
A38: =A37+1 -> 13 | B38: Kinh phí Cấp bù học phí | C38: 0
... A45: =A44+1 -> 20 | B45: Dự toán giữ lại | C45: 0
A46: C | B46: Mã số đơn vị sử dụng ngân sách | C46: ='TONG HOP'!AG28 -> 1083613

Sheet ĐDuong
A1: DỰ TOÁN THU, CHI NGÂN SÁCH NHÀ NƯỚC NĂM 2026
A2: ='TONG HOP'!B29 -> Trường THPT Đơn Dương
A3: ='TONG HOP'!A2:AH2 -> (Kèm theo Quyết định số /QĐ-SGDĐT ngày tháng 10 năm 2026 của Sở Giáo dục và Đào tạo tỉnh Lâm Đồng)
A4: Chương: 422 ; Loại: 070 ; Khoản: 074
C5: Đơn vị: đồng
A6: Nội dung | C6: Tổng số
A7: A | B7: Tổng số thu, chi, nộp ngân sách
B8: 1. Số thu | C8: =SUM(C9:C10) -> 0
B9: - Học phí | C9: 0
B10: - Thu khác | C10: 0
B11: 2. Chi từ nguồn thu được để lại | C11: =SUM(C12:C13) -> 0
B12: - Học phí | C12: 0
B13: - Thu khác | C13: 0
B14: 3. Số nộp NSNN | C14: 0
A15: B | B15: Dự toán chi ngân sách nhà nước | C15: =C17+C25 -> 0
B16: Giáo dục, đào tạo, dạy nghề
A17: I | B17: Kinh phí thực hiện tự chủ | C17: =SUM(C18:C24) -> 0
A18: 1 | B18: {=TRANSPOSE('TONG HOP'!E5:K5)} -> NSNN hỗ trợ chi thường xuyên cho đơn vị sự nghiệp công lập | C18: {=TRANSPOSE('TONG HOP'!E29:K29)} -> 0
A19: =A18+1 -> 2 | B19: Kinh phí cho hợp đồng hỗ trợ phục vụ | C19: 0
A20: =A19+1 -> 3 | B20: Chi hoạt động thường xuyên | C20: 0
A21: =A20+1 -> 4 | B21: Dự toán giữ lại | C21: 0
A22: =A21+1 -> 5 | B22: nội dung 5 | C22: 0
A23: =A22+1 -> 6 | B23: nội dung 6 | C23: 0
A24: =A23+1 -> 7 | B24: nội dung 7 | C24: 0
A25: II | B25: Kinh phí không thực hiện tự chủ | C25: =SUM(C26:C45) -> 0
A26: 1 | B26: {=TRANSPOSE('TONG HOP'!M5:AF5)} -> Kinh phí hỗ trợ chi phí học tập theo Nghị định số 238/2025/NĐ-CP | C26: {=TRANSPOSE('TONG HOP'!M29:AF29)} -> 0
A27: =A26+1 -> 2 | B27: Kinh phí hỗ trợ học bổng theo Thông tư số 42/2013/TTLT-BGDĐT-BLĐTBXH | C27: 0
A28: =A27+1 -> 3 | B28: Kinh phí hỗ trợ tiền ăn ở theo Nghị định số 66/2025/NĐ-CP | C28: 0
A29: =A28+1 -> 4 | B29: Kinh phí hỗ trợ học bổng theo Nghị định số 57/2017/NĐ-CP | C29: 0
A30: =A29+1 -> 5 | B30: Chế độ, chính sách cho hợp đồng chuyên môn, nghiệp vụ trong các đơn vị sự nghiệp công lập do ngân sách nhà nước bảo đảm chi thường xuyên thuộc lĩnh vực giáo dục theo Nghị quyết của HĐND tỉnh | C30: 0
A31: =A30+1 -> 6 | B31: Chính sách hợp đồng thực hiện công việc hỗ trợ, phục vụ hoạt động thường xuyên của cơ quan đơn vị do lãnh đạo cơ quan quyết định | C31: 0
A32: =A31+1 -> 7 | B32: Mua sắm trang thiết bị, sữa chữa trường học | C32: 0
A33: =A32+1 -> 8 | B33: Kinh phí thực hiện dạy học 2 buổi/ngày năm học 2025-2026 | C33: 0
A34: =A33+1 -> 9 | B34: Kinh phí thực hiện chế độ, chính sách theo Nghị định số 154/2025/NĐ-CP ngày 15/6/2025 của Chính phủ | C34: 0
A35: =A34+1 -> 10 | B35: Kinh phí sữa chữa , bảo dưỡng nhà xe, sân trường Trường THPT Gia Nghĩa (trước sáp nhập) | C35: 0
A36: =A35+1 -> 11 | B36: Kinh phí khen thưởng năm 2026 theo nghị định 161/NĐ-CP ngày 15/05/2026 | C36: 0
A37: =A36+1 -> 12 | B37: Gia hạn phần mềm misa | C37: 0
A38: =A37+1 -> 13 | B38: Kinh phí Cấp bù học phí | C38: 0
... A45: =A44+1 -> 20 | B45: Dự toán giữ lại | C45: 0
A46: C | B46: Mã số đơn vị sử dụng ngân sách | C46: ='TONG HOP'!AG29 -> 1078726

Sheet HV-Dran
A1: DỰ TOÁN THU, CHI NGÂN SÁCH NHÀ NƯỚC NĂM 2026
A2: ='TONG HOP'!B30 -> Trường THPT Hùng Vương - D'Ran
A3: ='TONG HOP'!A2:AH2 -> (Kèm theo Quyết định số /QĐ-SGDĐT ngày tháng 10 năm 2026 của Sở Giáo dục và Đào tạo tỉnh Lâm Đồng)
A4: Chương: 422 ; Loại: 070 ; Khoản: 074
C5: Đơn vị: đồng
A6: Nội dung | C6: Tổng số
A7: A | B7: Tổng số thu, chi, nộp ngân sách
B8: 1. Số thu | C8: =SUM(C9:C10) -> 0
B9: - Học phí | C9: 0
B10: - Thu khác | C10: 0
B11: 2. Chi từ nguồn thu được để lại | C11: =SUM(C12:C13) -> 0
B12: - Học phí | C12: 0
B13: - Thu khác | C13: 0
B14: 3. Số nộp NSNN | C14: 0
A15: B | B15: Dự toán chi ngân sách nhà nước | C15: =C17+C25 -> 0
B16: Giáo dục, đào tạo, dạy nghề
A17: I | B17: Kinh phí thực hiện tự chủ | C17: =SUM(C18:C24) -> 0
A18: 1 | B18: {=TRANSPOSE('TONG HOP'!E5:K5)} -> NSNN hỗ trợ chi thường xuyên cho đơn vị sự nghiệp công lập | C18: {=TRANSPOSE('TONG HOP'!E30:K30)} -> 0
A19: =A18+1 -> 2 | B19: Kinh phí cho hợp đồng hỗ trợ phục vụ | C19: 0
A20: =A19+1 -> 3 | B20: Chi hoạt động thường xuyên | C20: 0
A21: =A20+1 -> 4 | B21: Dự toán giữ lại | C21: 0
A22: =A21+1 -> 5 | B22: nội dung 5 | C22: 0
A23: =A22+1 -> 6 | B23: nội dung 6 | C23: 0
A24: =A23+1 -> 7 | B24: nội dung 7 | C24: 0
A25: II | B25: Kinh phí không thực hiện tự chủ | C25: =SUM(C26:C45) -> 0
